Shooting information for this photo
| Camera: | NIKON CORPORATION NIKON D500 |
| Exposure: | 0.00125 sec. (1/800) |
| Aperture: | f/7.1 |
| Focal Length: | 70.0 mm (35 mm equivalent: 105.0 mm) |
| Flash: | No Flash |
| Exposure mode: | Aperture-priority AE |
| Max Aperture: | 5.3 |
| Resolution: | 300 x 300 dpi |
| Dimension: | 1600 x 1140 pixels |
| Original Date: | 2019:11:15 11:01:48.34 |
| Created on: | 2019:11:15 11:01:48.34 |
| Modified on: | 2019:11:22 09:47:43.34 |
| Software: | Adobe Photoshop 21.0 (Windows) |
| Already Applied | True |
| Approximate Focus Distance | 15.8 |
| Auto Lateral CA | 0 |
| Blacks 2012 | -19 |
| Blue Hue | 0 |
| Blue Saturation | 0 |
| CFA Pattern | [Red,Green][Green,Blue] |
| Camera Profile | Adobe Standard |
| Circle Of Confusion | 0.020 mm |
| Clarity 2012 | 0 |
| Color Mode | RGB |
| Color Noise Reduction | 25 |
| Color Noise Reduction Detail | 50 |
| Color Noise Reduction Smoothness | 50 |
| Color Space | sRGB |
| Color Temperature | 5450 |
| Contrast | Normal |
| Contrast 2012 | +18 |
| Convert To Grayscale | False |
| Crop Angle | 0 |
| Crop Bottom | 0.864516 |
| Crop Constrain To Warp | 1 |
| Crop Left | 0.163558 |
| Crop Right | 0.863702 |
| Crop Top | 0.116129 |
| Custom Rendered | Normal |
| Date Created | 2019:11:15 11:01:48.034 |
| Defringe Green Amount | 0 |
| Defringe Green Hue Hi | 60 |
| Defringe Green Hue Lo | 40 |
| Defringe Purple Amount | 0 |
| Defringe Purple Hue Hi | 70 |
| Defringe Purple Hue Lo | 30 |
| Dehaze | +18 |
| Exposure 2012 | +0.80 |
| Exposure Compensation | 0 |
| Exposure Mode | Auto |
| Field Of View | 19.5 deg |
| Focal Length In 35mm Format | 105 mm |
| Format | image/jpeg |
| Gain Control | None |
| Grain Amount | 0 |
| Green Hue | 0 |
| Green Saturation | 0 |
| Has Crop | True |
| Has Settings | True |
| Highlights 2012 | -89 |
| Hue Adjustment Aqua | 0 |
| Hue Adjustment Blue | 0 |
| Hue Adjustment Green | 0 |
| Hue Adjustment Magenta | 0 |
| Hue Adjustment Orange | 0 |
| Hue Adjustment Purple | 0 |
| Hue Adjustment Red | 0 |
| Hue Adjustment Yellow | 0 |
| Hyperfocal Distance | 34.45 m |
| ICC Profile Name | sRGB IEC61966-2.1 |
| ISO | 400 |
| Image Number | 91355 |
| Image Size | 1600x1140 |
| Lens | TAMRON AF 16-300mm F3.5-6.3 Di II VC PZD B016N |
| Lens ID | TAMRON AF 16-300mm F3.5-6.3 Di II VC PZD B016N |
| Lens Info | 16-300mm f/3.5-6.3 |
| Lens Manual Distortion Amount | 0 |
| Lens Model | TAMRON AF 16-300mm F3.5-6.3 Di II VC PZD B016N |
| Lens Profile Enable | 0 |
| Lens Profile Setup | LensDefaults |
| Light Source | Unknown |
| Light Value | 13.3 |
| Look Amount | 1.000000 |
| Look Copyright | © 2018 Adobe Systems, Inc. |
| Look Group | Profiles |
| Look Name | Adobe Color |
| Look Parameters Camera Profile | Adobe Standard |
| Look Parameters Convert To Grayscale | False |
| Look Parameters Look Table | E1095149FDB39D7A057BAB208837E2 E1 |
| Look Parameters Process Version | 11.0 |
| Look Parameters Tone Curve PV2012 | 0, 0, 22, 16, 40, 35, 127, 127, 224, 230, 240, 246, 255, 255 |
| Look Parameters Tone Curve PV2012 Blue | 0, 0, 255, 255 |
| Look Parameters Tone Curve PV2012 Green | 0, 0, 255, 255 |
| Look Parameters Tone Curve PV2012 Red | 0, 0, 255, 255 |
| Look Parameters Version | 12.0 |
| Look Supports Amount | false |
| Look Supports Monochrome | false |
| Look Supports Output Referred | false |
| Luminance Adjustment Aqua | 0 |
| Luminance Adjustment Blue | 0 |
| Luminance Adjustment Green | 0 |
| Luminance Adjustment Magenta | 0 |
| Luminance Adjustment Orange | 0 |
| Luminance Adjustment Purple | 0 |
| Luminance Adjustment Red | 0 |
| Luminance Adjustment Yellow | 0 |
| Luminance Smoothing | 0 |
| Metering Mode | Multi-segment |
| Override Look Vignette | False |
| Parametric Darks | 0 |
| Parametric Highlight Split | 75 |
| Parametric Highlights | 0 |
| Parametric Lights | 0 |
| Parametric Midtone Split | 50 |
| Parametric Shadow Split | 25 |
| Parametric Shadows | 0 |
| Perspective Aspect | 0 |
| Perspective Horizontal | 0 |
| Perspective Rotate | 0.0 |
| Perspective Scale | 100 |
| Perspective Upright | 0 |
| Perspective Vertical | 0 |
| Perspective X | 0.00 |
| Perspective Y | 0.00 |
| Photometric Interpretation | RGB |
| Post Crop Vignette Amount | 0 |
| Process Version | 11.0 |
| Rating | 0 |
| Red Hue | 0 |
| Red Saturation | 0 |
| Samples Per Pixel | 3 |
| Saturation | Normal |
| Saturation Adjustment Aqua | 0 |
| Saturation Adjustment Blue | 0 |
| Saturation Adjustment Green | 0 |
| Saturation Adjustment Magenta | 0 |
| Saturation Adjustment Orange | 0 |
| Saturation Adjustment Purple | 0 |
| Saturation Adjustment Red | 0 |
| Saturation Adjustment Yellow | 0 |
| Scale Factor To 35 mm Equivalent | 1.5 |
| Scene Capture Type | Standard |
| Scene Type | Directly photographed |
| Sensing Method | One-chip color area |
| Sensitivity Type | Recommended Exposure Index |
| Shadow Tint | 0 |
| Shadows 2012 | +100 |
| Sharpen Detail | 25 |
| Sharpen Edge Masking | 0 |
| Sharpen Radius | +1.0 |
| Sharpness | Normal |
| Split Toning Balance | 0 |
| Split Toning Highlight Hue | 0 |
| Split Toning Highlight Saturation | 0 |
| Split Toning Shadow Hue | 0 |
| Split Toning Shadow Saturation | 0 |
| Subject Distance Range | Unknown |
| Texture | +11 |
| Tint | +5 |
| Tone Curve | 0, 0, 32, 22, 64, 56, 128, 128, 192, 196, 255, 255 |
| Tone Curve Blue | 0, 0, 255, 255 |
| Tone Curve Green | 0, 0, 255, 255 |
| Tone Curve Name | Medium Contrast |
| Tone Curve Name 2012 | Linear |
| Tone Curve PV2012 | 0, 0, 255, 255 |
| Tone Curve PV2012 Blue | 0, 0, 255, 255 |
| Tone Curve PV2012 Green | 0, 0, 255, 255 |
| Tone Curve PV2012 Red | 0, 0, 255, 255 |
| Tone Curve Red | 0, 0, 255, 255 |
| Tone Map Strength | 0 |
| Version | 12.0 |
| Vibrance | 0 |
| Vignette Amount | 0 |
| White Balance | Auto |
| Whites 2012 | +38 |
X