Shooting information for this photo
Camera: | SONY ILCE-7R |
Exposure: | 0.01667 sec. (1/60) |
Aperture: | f/11.0 |
Focal Length: | 43.0 mm (35 mm equivalent: 43.0 mm) |
Flash: | Off, Did not fire |
Exposure mode: | Manual |
Max Aperture: | 4.5 |
Resolution: | 96 x 96 dpi |
Original Date: | 2018:12:04 15:05:58 |
Digitized Date: | 2018:12:04 15:05:58+01:00 |
Created on: | 2018:12:04 15:05:58 |
Software: | PhotoScape |
Copyright: | Alle rechten voorbehouden - All rights reserved |
Already Applied | True |
Artist | Diederik Santema |
Auto Lateral CA | 0 |
Blacks 2012 | -23 |
Blue Hue | 0 |
Blue Saturation | 0 |
Brightness Value | 8.01328125 |
Camera Profile | Adobe Standard |
Circle Of Confusion | 0.030 mm |
Clarity 2012 | +75 |
Color Noise Reduction | 25 |
Color Noise Reduction Detail | 50 |
Color Noise Reduction Smoothness | 50 |
Color Space | sRGB |
Color Temperature | 5000 |
Contrast | Normal |
Contrast 2012 | -19 |
Convert To Grayscale | False |
Country | Nederland |
Country Code | NLD |
Creator | Diederik Santema |
Custom Rendered | Normal |
Defringe Green Amount | 0 |
Defringe Green Hue Hi | 60 |
Defringe Green Hue Lo | 40 |
Defringe Purple Amount | 0 |
Defringe Purple Hue Hi | 70 |
Defringe Purple Hue Lo | 30 |
Dehaze | 0 |
Description | <i>Dank voor het bekijken, commentaren, favorieten en kritiek..Geen verder gebruik zonder mijn uitdrukkelijke toestemming. · .Thanks for watching, comments, favourites and critique..No further use without my explicit consent.</i> |
Digital Zoom Ratio | 1 |
Distortion Correction Already Applied | True |
Exposure 2012 | +0.60 |
Exposure Compensation | 0 |
Exposure Mode | Manual |
Field Of View | 45.4 deg |
Focal Length In 35mm Format | 43 mm |
Format | image/jpeg |
Grain Amount | 0 |
Green Hue | 0 |
Green Saturation | 0 |
Has Crop | False |
Has Settings | True |
Highlights 2012 | -64 |
Hue Adjustment Aqua | 0 |
Hue Adjustment Blue | 0 |
Hue Adjustment Green | 0 |
Hue Adjustment Magenta | 0 |
Hue Adjustment Orange | 0 |
Hue Adjustment Purple | 0 |
Hue Adjustment Red | 0 |
Hue Adjustment Yellow | 0 |
Hyperfocal Distance | 5.59 m |
ISO | 100 |
Image Description | <i>Dank voor het bekijken, commentaren, favorieten en kritiek..Geen verder gebruik zonder mijn uitdrukkelijke toestemming. · .Thanks for watching, comments, favourites and critique..No further use without my explicit consent.</i> |
Image Size | 11643x6549 |
Instructions | Geen verder gebruik zonder mijn uitdrukkelijke toestemming. · .No further use without my explicit consent. |
Lateral Chromatic Aberration Correction Already Applied | True |
Lens | FE 28-70mm F3.5-5.6 OSS |
Lens Distort Info | 1038649360/1073741824 26727271/1073741824 5126444/1073741824 3218301/1073741824 |
Lens Info | 28-70mm f/3.5-5.6 |
Lens Manual Distortion Amount | 0 |
Lens Model | FE 28-70mm F3.5-5.6 OSS |
Lens Profile Chromatic Aberration Scale | 100 |
Lens Profile Distortion Scale | 100 |
Lens Profile Enable | 1 |
Lens Profile Filename | SONY (Sony FE 28-70mm F3.5-5.6 OSS) - RAW.lcp |
Lens Profile Name | Adobe (Sony FE 28-70mm F3.5-5.6 OSS) |
Lens Profile Setup | LensDefaults |
Lens Profile Vignetting Scale | 100 |
Light Source | Daylight |
Light Value | 12.8 |
Location | Binnenstad |
Look Amount | 1.000000 |
Look Group | Profiles |
Look Name | Adobe Color |
Look Parameters Camera Profile | Adobe Standard |
Look Parameters Convert To Grayscale | False |
Look Parameters Look Table | E1095149FDB39D7A057BAB208837E2 E1 |
Look Parameters Process Version | 11.0 |
Look Parameters Tone Curve PV2012 | 0, 0, 22, 16, 40, 35, 127, 127, 224, 230, 240, 246, 255, 255 |
Look Parameters Tone Curve PV2012 Blue | 0, 0, 255, 255 |
Look Parameters Tone Curve PV2012 Green | 0, 0, 255, 255 |
Look Parameters Tone Curve PV2012 Red | 0, 0, 255, 255 |
Look Parameters Version | 11.0 |
Look Supports Amount | false |
Look Supports Monochrome | false |
Look Supports Output Referred | false |
Luminance Adjustment Aqua | 0 |
Luminance Adjustment Blue | -17 |
Luminance Adjustment Green | 0 |
Luminance Adjustment Magenta | 0 |
Luminance Adjustment Orange | 0 |
Luminance Adjustment Purple | 0 |
Luminance Adjustment Red | 0 |
Luminance Adjustment Yellow | 0 |
Luminance Smoothing | 0 |
Metering Mode | Multi-segment |
Override Look Vignette | False |
Parametric Darks | +8 |
Parametric Highlight Split | 75 |
Parametric Highlights | +35 |
Parametric Lights | -67 |
Parametric Midtone Split | 50 |
Parametric Shadow Split | 25 |
Parametric Shadows | +15 |
Perspective Aspect | 0 |
Perspective Horizontal | 0 |
Perspective Rotate | 0.0 |
Perspective Scale | 100 |
Perspective Upright | 5 |
Perspective Vertical | 0 |
Perspective X | 0.00 |
Perspective Y | 0.00 |
Post Crop Vignette Amount | 0 |
Process Version | 11.0 |
Raw File Name | DSC00329.ARW |
Recommended Exposure Index | 100 |
Red Hue | 0 |
Red Saturation | 0 |
Rights | Alle rechten voorbehouden - All rights reserved |
Saturation | Normal |
Saturation Adjustment Aqua | 0 |
Saturation Adjustment Blue | -18 |
Saturation Adjustment Green | +22 |
Saturation Adjustment Magenta | 0 |
Saturation Adjustment Orange | +24 |
Saturation Adjustment Purple | 0 |
Saturation Adjustment Red | +22 |
Saturation Adjustment Yellow | 0 |
Scale Factor To 35 mm Equivalent | 1.0 |
Scene Capture Type | Standard |
Scene Type | Directly photographed |
Sensitivity Type | Recommended Exposure Index |
Shadow Tint | 0 |
Shadows 2012 | +43 |
Sharpen Detail | 25 |
Sharpen Edge Masking | 0 |
Sharpen Radius | +1.0 |
Sharpness | Normal |
Split Toning Balance | 0 |
Split Toning Highlight Hue | 0 |
Split Toning Highlight Saturation | 0 |
Split Toning Shadow Hue | 0 |
Split Toning Shadow Saturation | 0 |
State | Noord-Holland |
Subject | amsterdam, architecture, architectuur, cruquiuskade, december, geo:lat=52.36748343, geo:lon=4.93196152, geotagged, herhaling, holland, keerwal, nederland, netherlands, ramen, repetition, windows, winter |
Tint | +3 |
Tone Curve | 0, 0, 255, 255 |
Tone Curve Blue | 0, 0, 255, 255 |
Tone Curve Green | 0, 0, 255, 255 |
Tone Curve Name | Linear |
Tone Curve Name 2012 | Linear |
Tone Curve PV2012 | 0, 0, 255, 255 |
Tone Curve PV2012 Blue | 0, 0, 255, 255 |
Tone Curve PV2012 Green | 0, 0, 255, 255 |
Tone Curve PV2012 Red | 0, 0, 255, 255 |
Tone Curve Red | 0, 0, 255, 255 |
Tone Map Strength | 0 |
Version | 11.0 |
Vibrance | +14 |
Vignette Amount | 0 |
Vignette Correction Already Applied | True |
White Balance | Manual |
Whites 2012 | +7 |
GPS Information |
GPS Altitude | 1 m Above Sea Level |
GPS Altitude Ref | Above Sea Level |
GPS Date Stamp | 2018:12:04 |
GPS Date/Time | 2018:12:04 14:05:58Z |
GPS Latitude | 52 deg 22' 2.94" N |
GPS Latitude Ref | North |
GPS Longitude | 4 deg 55' 55.06" E |
GPS Longitude Ref | East |
GPS Map Datum | WGS-84 |
GPS Position | 52 deg 22' 2.94" N, 4 deg 55' 55.06" E |
GPS Time Stamp | 14:05:58 |
GPS Version ID | 2.2.0.0 |