Shooting information for this photo
| Camera: | Google Pixel 8 Pro |
| Exposure: | 0.0008 sec. (1/1250) |
| Aperture: | f/1.7 |
| Focal Length: | 6.9 mm (35 mm equivalent: 24.0 mm) |
| Flash: | Off, Did not fire |
| Exposure mode: | Program AE |
| Max Aperture: | 1.7 |
| Resolution: | 300 x 300 dpi |
| Original Date: | 2024:12:11 12:12:38.586925 |
| Created on: | 2024:12:11 12:12:38.586925 |
| Modified on: | 2025:03:04 19:18:31 |
| Software: | Adobe Photoshop Lightroom Classic 14.2 (Windows) |
| Already Applied | True |
| Approximate Focus Distance | 4294967295 |
| Auto Lateral CA | 0 |
| Blacks 2012 | 0 |
| Blue Hue | 0 |
| Blue Saturation | 0 |
| Brightness Value | 9.025146484 |
| CFA Pattern | [Green,Red][Blue,Green] |
| Camera Profile | Google Embedded Camera Profile |
| Circle Of Confusion | 0.009 mm |
| Clarity 2012 | +20 |
| Color Grade Blending | 50 |
| Color Grade Global Hue | 0 |
| Color Grade Global Lum | 0 |
| Color Grade Global Sat | 0 |
| Color Grade Highlight Lum | 0 |
| Color Grade Midtone Hue | 0 |
| Color Grade Midtone Lum | 0 |
| Color Grade Midtone Sat | 0 |
| Color Grade Shadow Lum | 0 |
| Color Noise Reduction | 25 |
| Color Noise Reduction Detail | 50 |
| Color Noise Reduction Smoothness | 50 |
| Color Space | sRGB |
| Color Temperature | 5688 |
| Compatible Version | 268632064 |
| Contrast 2012 | +20 |
| Crop Angle | 0 |
| Crop Bottom | 0.896332 |
| Crop Constrain To Warp | 0 |
| Crop Left | 0.052955 |
| Crop Right | 0.898808 |
| Crop Top | 0.146431 |
| Date Created | 2024:12:11 12:12:38.586925+01:00 |
| Defringe Green Amount | 0 |
| Defringe Green Hue Hi | 60 |
| Defringe Green Hue Lo | 40 |
| Defringe Purple Amount | 0 |
| Defringe Purple Hue Hi | 70 |
| Defringe Purple Hue Lo | 30 |
| Dehaze | 0 |
| Depth Of Field | inf (3.24 m - inf) |
| Digital Zoom Ratio | 0 |
| Distortion Correction Already Applied | True |
| Exposure 2012 | +0.50 |
| Exposure Compensation | 0 |
| Field Of View | 73.7 deg |
| Focal Length In 35mm Format | 24 mm |
| Format | image/jpeg |
| Grain Amount | 0 |
| Green Hue | 0 |
| Green Saturation | 0 |
| HDR Edit Mode | 0 |
| Has Crop | True |
| Has Extended XMP | 9177DD9303B19E448B8569C04A8187 9B |
| Has Settings | True |
| Hierarchical Subject | Deux-Sèvres|Niort, donjon, marché|marché de Noël |
| Highlights 2012 | -66 |
| Hue Adjustment Aqua | 0 |
| Hue Adjustment Blue | 0 |
| Hue Adjustment Green | 0 |
| Hue Adjustment Magenta | 0 |
| Hue Adjustment Orange | 0 |
| Hue Adjustment Purple | 0 |
| Hue Adjustment Red | 0 |
| Hue Adjustment Yellow | 0 |
| Hyperfocal Distance | 3.24 m |
| ISO | 21 |
| Image Size | 3438x2292 |
| Lens | Pixel 8 Pro back camera 6.9mm f/1.7 |
| Lens Make | |
| Lens Manual Distortion Amount | 0 |
| Lens Model | Pixel 8 Pro back camera 6.9mm f/1.7 |
| Lens Profile Enable | 1 |
| Lens Profile Setup | LensDefaults |
| Light Value | 14.1 |
| Look Amount | 1 |
| Look Camera Model Restriction | Google Pixel Camera |
| Look Copyright | © 2022 Adobe Systems, Inc. |
| Look Group | Profiles |
| Look Name | Google Pixel |
| Look Parameters Camera Profile | Google Embedded Camera Profile |
| Look Parameters Convert To Grayscale | False |
| Look Parameters Process Version | 15.4 |
| Look Parameters Profile Gain Table Map | 100 |
| Look Parameters Version | 17.2 |
| Look Supports Monochrome | false |
| Look Supports Output Referred | false |
| Luminance Adjustment Aqua | 0 |
| Luminance Adjustment Blue | 0 |
| Luminance Adjustment Green | 0 |
| Luminance Adjustment Magenta | 0 |
| Luminance Adjustment Orange | 0 |
| Luminance Adjustment Purple | 0 |
| Luminance Adjustment Red | 0 |
| Luminance Adjustment Yellow | 0 |
| Luminance Noise Reduction Contrast | 0 |
| Luminance Noise Reduction Detail | 50 |
| Luminance Smoothing | 10 |
| Maker Note Safety | Safe |
| Override Look Vignette | False |
| Parametric Darks | 0 |
| Parametric Highlight Split | 75 |
| Parametric Highlights | 0 |
| Parametric Lights | 0 |
| Parametric Midtone Split | 50 |
| Parametric Shadow Split | 25 |
| Parametric Shadows | 0 |
| Perspective Aspect | 0 |
| Perspective Horizontal | 0 |
| Perspective Rotate | 0.0 |
| Perspective Scale | 100 |
| Perspective Upright | 1 |
| Perspective Vertical | 0 |
| Perspective X | 0.00 |
| Perspective Y | 0.00 |
| Pick | 0 |
| Point Colors | -1.000000, -1.000000, -1.000000, -1.000000, -1.000000, -1.000000, -1.000000, -1.000000, -1.000000, -1.000000, -1.000000, -1.000000, -1.000000, -1.000000, -1.000000, -1.000000, -1.000000, -1.000000, -1.000000 |
| Post Crop Vignette Amount | 0 |
| Preserved File Name | PXL_20241211_111238459.RAW-02. ORIGINAL.dng |
| Process Version | 15.4 |
| Raw File Name | 2024-12-11 Marché de Noël_1.dng |
| Red Hue | 0 |
| Red Saturation | 0 |
| Remove Areas Fill method | firefly |
| Remove Areas Ingest Info | 49EA696278B302F479118B6C6F243F 68 |
| Remove Areas Masks Gesture Brush Gesture Interpretation | 0 |
| Remove Areas Masks Gesture Center Weight | 0 |
| Remove Areas Masks Gesture Flow | 1 |
| Remove Areas Masks Gesture Mask Active | true |
| Remove Areas Masks Gesture Mask Blend Mode | 0 |
| Remove Areas Masks Gesture Mask Inverted | false |
| Remove Areas Masks Gesture Mask Sync ID | 3D0EB7DDA55A3141882ED8DF5519FE 36 |
| Remove Areas Masks Gesture Mask Value | 1 |
| Remove Areas Masks Gesture Radius | 0 |
| Remove Areas Masks Gesture What | Mask/Paint |
| Remove Areas Masks Mask Active | true |
| Remove Areas Masks Mask Blend Mode | 0 |
| Remove Areas Masks Mask Inverted | false |
| Remove Areas Masks Mask Sub Type | 0 |
| Remove Areas Masks Mask Sync ID | EB5D1C26A4813E4AA82A3A73FC3F3F 9E |
| Remove Areas Masks Mask Value | 1 |
| Remove Areas Masks Mask Version | 1 |
| Remove Areas Masks Model Version | 234881976 |
| Remove Areas Masks Origin | 2181,1235 |
| Remove Areas Masks Reference Point | 0.929688 0.807792 |
| Remove Areas Masks What | Mask/Image |
| Remove Areas Masks Whole Image Area | 0/1,0/1,1920/1,2553/1 |
| Remove Areas Opacity | 1 |
| Remove Areas Pm black level | 4101 |
| Remove Areas Pm clio model version | 1.0.5-beta.1-1.2_1.2-8c2cea4-0 .1.27.1r16.2 |
| Remove Areas Pm current variation index | 2 |
| Remove Areas Pm gamma type | 1 |
| Remove Areas Pm mask remap info | 0.000000000,1.000000000,0.0000 00000,1.000000000 |
| Remove Areas Pm patch | 8B2F40C300D39F345425FF427BE0F0 DF |
| Remove Areas Pm patch mask | 0B753397CB9425F64CE1003A2ABD62 A4 |
| Remove Areas Pm patch variations Pm patch variation | 384C5214831D5E571AAA724D440FC0 04 |
| Remove Areas Pm remap info 0 | 0.062333103,0.214358747,0.0000 00000,1.000000000 |
| Remove Areas Pm remap info 1 | 0.062058441,0.386648357,0.0000 00000,1.000000000 |
| Remove Areas Pm remap info 2 | 0.062943466,0.217990384,0.0000 00000,1.000000000 |
| Remove Areas Pm remap info variation 0 0 | 0.062333103,0.183947504,0.0000 00000,1.000000000 |
| Remove Areas Pm remap info variation 0 1 | 0.062058441,0.293614089,0.0000 00000,1.000000000 |
| Remove Areas Pm remap info variation 0 2 | 0.062226292,0.201770052,0.0000 00000,1.000000000 |
| Remove Areas Pm remap info variation 1 0 | 0.062333103,0.212039366,0.0000 00000,1.000000000 |
| Remove Areas Pm remap info variation 1 1 | 0.062058441,0.290409714,0.0000 00000,1.000000000 |
| Remove Areas Pm remap info variation 1 2 | 0.062226292,0.173098341,0.0000 00000,1.000000000 |
| Remove Areas Pm search bottom | 3072 |
| Remove Areas Pm search left | 2917 |
| Remove Areas Pm search right | 4080 |
| Remove Areas Pm search top | 1473 |
| Remove Areas Pm source type | full |
| Remove Areas Pm target bottom | 2925 |
| Remove Areas Pm target left | 3469 |
| Remove Areas Pm target right | 4080 |
| Remove Areas Pm target top | 1963 |
| Remove Areas Pm version | 327680 |
| Remove Areas Pm whole image bottom | 3064 |
| Remove Areas Pm whole image left | 8 |
| Remove Areas Pm whole image right | 4072 |
| Remove Areas Pm whole image top | 8 |
| Remove Areas Seed | 2 |
| Remove Areas Source State | sourceAutoComputed |
| Remove Areas Spot Type | heal_patchmatch |
| Saturation | 0 |
| Saturation Adjustment Aqua | 0 |
| Saturation Adjustment Blue | -6 |
| Saturation Adjustment Green | 0 |
| Saturation Adjustment Magenta | 0 |
| Saturation Adjustment Orange | 0 |
| Saturation Adjustment Purple | -1 |
| Saturation Adjustment Red | 0 |
| Saturation Adjustment Yellow | 0 |
| Scale Factor To 35 mm Equivalent | 3.5 |
| Shadow Tint | 0 |
| Shadows 2012 | 0 |
| Sharpen Detail | 25 |
| Sharpen Edge Masking | 0 |
| Sharpen Radius | +1.4 |
| Sharpness | 50 |
| Split Toning Balance | 0 |
| Split Toning Highlight Hue | 0 |
| Split Toning Highlight Saturation | 0 |
| Split Toning Shadow Hue | 0 |
| Split Toning Shadow Saturation | 0 |
| Subject | Niort, donjon, marché, marché de Noël |
| Subject Distance | 4294967295 m |
| Subject Distance Range | Distant |
| Texture | 0 |
| Tint | +2 |
| Tone Curve Name 2012 | Linear |
| Tone Curve PV2012 | 0, 0, 255, 255 |
| Tone Curve PV2012 Blue | 0, 0, 255, 255 |
| Tone Curve PV2012 Green | 0, 0, 255, 255 |
| Tone Curve PV2012 Red | 0, 0, 255, 255 |
| Version | 17.2 |
| Vibrance | -8 |
| Vignette Amount | 0 |
| Weighted Flat Subject | Niort, Deux-Sèvres, donjon, marché de Noël, marché |
| White Balance | Auto |
| Whites 2012 | 0 |
X