Shooting information for this photo
| Camera: | Panasonic DC-G9 |
| Exposure: | 0.001 sec. (1/1000) |
| Aperture: | f/6.3 |
| Focal Length: | 17.0 mm (35 mm equivalent: 34.0 mm) |
| Flash: | Off, Did not fire |
| Exposure mode: | Program AE |
| Max Aperture: | 1.8 |
| Resolution: | 300 x 300 dpi |
| Original Date: | 2024:06:25 10:32:56 |
| Created on: | 2024:06:25 12:32:56.508 |
| Modified on: | 2025:02:23 16:10:57 |
| Software: | Adobe Photoshop Lightroom 5.7 (Macintosh) |
| Already Applied | True |
| Auto Lateral CA | 0 |
| Auto White Version | 134348800 |
| Blacks 2012 | -39 |
| Blue Hue | 0 |
| Blue Saturation | 0 |
| Camera Profile | Adobe Standard |
| Circle Of Confusion | 0.015 mm |
| Clarity 2012 | +9 |
| Color Noise Reduction | 33 |
| Color Noise Reduction Detail | 55 |
| Color Noise Reduction Smoothness | 51 |
| Color Temperature | 5000 |
| Contrast | Normal |
| Contrast 2012 | +25 |
| Convert To Grayscale | False |
| Crop Angle | 0 |
| Crop Bottom | 0.879686 |
| Crop Constrain To Warp | 0 |
| Crop Left | 0.009648 |
| Crop Right | 0.913335 |
| Crop Top | 0.076408 |
| Custom Rendered | Normal |
| Date Created | 2024:06:25 10:32:56+02:00 |
| Defringe Green Amount | 0 |
| Defringe Green Hue Hi | 60 |
| Defringe Green Hue Lo | 40 |
| Defringe Purple Amount | 0 |
| Defringe Purple Hue Hi | 70 |
| Defringe Purple Hue Lo | 30 |
| Digital Zoom Ratio | 0 |
| Exposure 2012 | +0.10 |
| Exposure Compensation | 0 |
| Exposure Mode | Auto |
| Field Of View | 55.8 deg |
| Focal Length In 35mm Format | 34 mm |
| Format | image/jpeg |
| Gain Control | Low gain up |
| Grain Amount | 0 |
| Green Hue | 0 |
| Green Saturation | 0 |
| Has Crop | True |
| Has Settings | True |
| Highlights 2012 | -39 |
| Hue Adjustment Aqua | 0 |
| Hue Adjustment Blue | 0 |
| Hue Adjustment Green | +51 |
| Hue Adjustment Magenta | 0 |
| Hue Adjustment Orange | 0 |
| Hue Adjustment Purple | +56 |
| Hue Adjustment Red | 0 |
| Hue Adjustment Yellow | 0 |
| Hyperfocal Distance | 3.05 m |
| ISO | 200 |
| Image Size | 1280x853 |
| Label | Rot |
| Lens | OLYMPUS M.17mm F1.8 |
| Lens Manual Distortion Amount | 0 |
| Lens Model | OLYMPUS M.17mm F1.8 |
| Lens Profile Enable | 0 |
| Lens Profile Setup | LensDefaults |
| Light Source | Unknown |
| Light Value | 14.3 |
| Luminance Adjustment Aqua | 0 |
| Luminance Adjustment Blue | -3 |
| Luminance Adjustment Green | -78 |
| Luminance Adjustment Magenta | 0 |
| Luminance Adjustment Orange | 0 |
| Luminance Adjustment Purple | +48 |
| Luminance Adjustment Red | 0 |
| Luminance Adjustment Yellow | 0 |
| Luminance Noise Reduction Contrast | 0 |
| Luminance Noise Reduction Detail | 50 |
| Luminance Smoothing | 9 |
| Metering Mode | Multi-segment |
| Parametric Darks | 0 |
| Parametric Highlight Split | 75 |
| Parametric Highlights | 0 |
| Parametric Lights | 0 |
| Parametric Midtone Split | 50 |
| Parametric Shadow Split | 25 |
| Parametric Shadows | 0 |
| Perspective Aspect | 0 |
| Perspective Horizontal | 0 |
| Perspective Rotate | 0.0 |
| Perspective Scale | 100 |
| Perspective Upright | 0 |
| Perspective Vertical | 0 |
| Post Crop Vignette Amount | 0 |
| Process Version | 6.7 |
| Rating | 1 |
| Red Hue | 0 |
| Red Saturation | 0 |
| Saturation | Normal |
| Saturation Adjustment Aqua | 0 |
| Saturation Adjustment Blue | -15 |
| Saturation Adjustment Green | +41 |
| Saturation Adjustment Magenta | 0 |
| Saturation Adjustment Orange | 0 |
| Saturation Adjustment Purple | -42 |
| Saturation Adjustment Red | 0 |
| Saturation Adjustment Yellow | 0 |
| Scale Factor To 35 mm Equivalent | 2.0 |
| Scene Capture Type | Standard |
| Scene Type | Directly photographed |
| Sensing Method | One-chip color area |
| Shadow Tint | 0 |
| Shadows 2012 | +38 |
| Sharpen Detail | 25 |
| Sharpen Edge Masking | 0 |
| Sharpen Radius | +1.0 |
| Sharpness | Normal |
| Split Toning Balance | 0 |
| Split Toning Highlight Hue | 0 |
| Split Toning Highlight Saturation | 0 |
| Split Toning Shadow Hue | 0 |
| Split Toning Shadow Saturation | 0 |
| Tint | +13 |
| Tone Curve | 0, 0, 255, 255 |
| Tone Curve Blue | 0, 0, 255, 255 |
| Tone Curve Green | 0, 0, 255, 255 |
| Tone Curve Name | Linear |
| Tone Curve Name 2012 | Custom |
| Tone Curve PV2012 | 9, 4, 69, 61, 128, 128, 175, 184, 247, 246 |
| Tone Curve PV2012 Blue | 0, 0, 255, 255 |
| Tone Curve PV2012 Green | 0, 0, 255, 255 |
| Tone Curve PV2012 Red | 0, 0, 255, 255 |
| Tone Curve Red | 0, 0, 255, 255 |
| Version | 8.7 |
| Vibrance | +9 |
| Vignette Amount | 0 |
| White Balance | Auto |
| Whites 2012 | +36 |
X