Shooting information for this photo
| Camera: | Canon EOS 5D Mark II |
| Exposure: | 0.06667 sec. (1/15) |
| Aperture: | f/4.0 |
| Focal Length: | 73.0 mm (35 mm equivalent: 71.2 mm) |
| Flash: | Off, Did not fire |
| Exposure mode: | Manual |
| Max Aperture: | 4.0 |
| Resolution: | 300 x 300 dpi |
| Dimension: | 3000 x 2181 pixels |
| Original Date: | 2025:09:14 11:23:57.08 |
| Created on: | 2025:09:14 11:23:57.08 |
| Modified on: | 2025:09:21 14:37:51 |
| Software: | DxO PhotoLab 8.8 |
| Copyright: | www.bystudiomt.de |
| Allow Filters | 1 |
| Already Applied | True |
| Approximate Focus Distance | 6.51 |
| Artist | by Studio MT |
| Auto Lateral CA | 0 |
| Blacks 2012 | -22 |
| Blue Hue | 0 |
| Blue Saturation | 0 |
| Camera Profile | Adobe Standard |
| Circle Of Confusion | 0.031 mm |
| Clarity 2012 | 0 |
| Color Grade Blending | 50 |
| Color Grade Global Hue | 0 |
| Color Grade Global Lum | 0 |
| Color Grade Global Sat | 0 |
| Color Grade Highlight Lum | 0 |
| Color Grade Midtone Hue | 0 |
| Color Grade Midtone Lum | 0 |
| Color Grade Midtone Sat | 0 |
| Color Grade Shadow Lum | 0 |
| Color Noise Reduction | 0 |
| Color Space | sRGB |
| Color Temperature | 5208 |
| Color Variance | -50.000000 |
| Compatible Version | 285212672 |
| Contrast 2012 | +5 |
| Creator | by Studio MT |
| Crop Angle | 0 |
| Crop Bottom | 1 |
| Crop Constrain To Unit Square | 1 |
| Crop Constrain To Warp | 0 |
| Crop Left | 0.056468 |
| Crop Right | 0.916838 |
| Crop Top | 0.061633 |
| Custom Rendered | Normal |
| Dehaze | -4 |
| Exposure 2012 | +0.57 |
| Exposure Compensation | 0 |
| Exposure Mode | Manual |
| Field Of View | 28.4 deg |
| Filter List Filters Compressed Settings | 0DA5471E2D7C6364EFB8266EED1232 6C |
| Filter List Filters Dst Bounds Bottom | 3753 |
| Filter List Filters Dst Bounds Left | 0 |
| Filter List Filters Dst Bounds Right | 5634 |
| Filter List Filters Dst Bounds Top | 0 |
| Filter List Filters Dst Default Crop Area Bottom | 3749 |
| Filter List Filters Dst Default Crop Area Left | 10 |
| Filter List Filters Dst Default Crop Area Right | 5626 |
| Filter List Filters Dst Default Crop Area Top | 5 |
| Filter List Filters Filter ID | 1 |
| Filter List Filters Images Blend Params | 0.700000000186265, 0.75, 1, 1 |
| Filter List Filters Images Blend Type | 1 |
| Filter List Filters Images Blend White Balance Mode | 2 |
| Filter List Filters Images Color Variations Black Levels Black | 0,1 |
| Filter List Filters Images Color Variations Image Group Pixel Type | 3 |
| Filter List Filters Images Color Variations Image Group Planes | 3 |
| Filter List Filters Images Color Variations Image Group Size X | 5634 |
| Filter List Filters Images Color Variations Image Group Size Y | 3753 |
| Filter List Filters Images Color Variations Image Group Stage 3X | 5616 |
| Filter List Filters Images Color Variations Image Group Stage 3Y | 3744 |
| Filter List Filters Images Color Variations Linearization Map Polynomial | 0.000522559508681297, 0.0624673403799534, 0, 0.937010100111365, 0.000816499814391136, 0.0624489691108465, 0, 0.936734531074762, 0.000489899888634682, 0.0151899587363005, 0, 0.227849380113184 |
| Filter List Filters Images Matrix Params A | 0.25, 0.25 |
| Filter List Filters Images Matrix Params B | 0.25, 0.25 |
| Filter List Filters Images Matrix Type A | 1 |
| Filter List Filters Images Matrix Type B | 1 |
| Filter List Filters Images Matrix Type C | 4 |
| Filter List Filters Images Opacity | 1,1 |
| Filter List Filters Images Reference Default Crop Area Bottom | 3749 |
| Filter List Filters Images Reference Default Crop Area Left | 10 |
| Filter List Filters Images Reference Default Crop Area Right | 5626 |
| Filter List Filters Images Reference Default Crop Area Top | 5 |
| Filter List Filters Images Reference Image Area Bottom | 3753 |
| Filter List Filters Images Reference Image Area Left | 0 |
| Filter List Filters Images Reference Image Area Right | 5634 |
| Filter List Filters Images Reference Image Area Top | 0 |
| Filter List Filters Min Display Version | 285212672 |
| Filter List Filters Min Edit Version | 285212672 |
| Filter List Filters Name | Enhance |
| Filter List Filters Order Index D | 1 |
| Filter List Filters Order Index N | 100000 |
| Filter List Filters Should Delete Images Due To Upstream | true |
| Filter List Filters Src Bounds Bottom | 3753 |
| Filter List Filters Src Bounds Left | 0 |
| Filter List Filters Src Bounds Right | 5634 |
| Filter List Filters Src Bounds Top | 0 |
| Filter List Filters Src Default Crop Area Bottom | 3749 |
| Filter List Filters Src Default Crop Area Left | 10 |
| Filter List Filters Src Default Crop Area Right | 5626 |
| Filter List Filters Src Default Crop Area Top | 5 |
| Filter List Filters Title | $$$/CRaw/Filter/Title/Denoise= Denoise |
| Firmware | 2.1.2 |
| Flash Compensation | 0 |
| Format | image/jpeg |
| Grain Amount | 0 |
| Gray Mixer Aqua | 0 |
| Gray Mixer Blue | 0 |
| Gray Mixer Green | 0 |
| Gray Mixer Magenta | 0 |
| Gray Mixer Orange | 0 |
| Gray Mixer Purple | 0 |
| Gray Mixer Red | 0 |
| Gray Mixer Yellow | 0 |
| Green Hue | 0 |
| Green Saturation | 0 |
| HDR Edit Mode | 0 |
| Has Crop | True |
| Has Settings | True |
| Highlights 2012 | -43 |
| Hyperfocal Distance | 43.27 m |
| ISO | 400 |
| Image Number | 0 |
| Image Size | 3000x2181 |
| Lens | EF24-105mm f/4L IS USM |
| Lens ID | Canon EF 24-105mm f/4L IS |
| Lens Info | 24-105mm f/? |
| Lens Manual Distortion Amount | 0 |
| Lens Model | EF24-105mm f/4L IS USM |
| Lens Profile Enable | 0 |
| Light Value | 5.9 |
| Look Amount | 1 |
| Look Copyright | © 2018 Adobe Systems, Inc. |
| Look Group | Profiles |
| Look Name | Adobe Monochrome |
| Look Parameters Camera Profile | Adobe Standard |
| Look Parameters Clarity 2012 | +8 |
| Look Parameters Color Variance | -50.000000 |
| Look Parameters Convert To Grayscale | True |
| Look Parameters Look Table | 73ED6C18DDE909DD7EA2D771F5AC28 2D |
| Look Parameters Point Colors | -1.000000, -1.000000, -1.000000, -1.000000, -1.000000, -1.000000, -1.000000, -1.000000, -1.000000, -1.000000, -1.000000, -1.000000, -1.000000, -1.000000, -1.000000, -1.000000, -1.000000, -1.000000, -1.000000 |
| Look Parameters Process Version | 15.4 |
| Look Parameters Tone Curve PV2012 | 0, 0, 64, 56, 128, 128, 192, 197, 255, 255 |
| Look Parameters Tone Curve PV2012 Blue | 0, 0, 255, 255 |
| Look Parameters Tone Curve PV2012 Green | 0, 0, 255, 255 |
| Look Parameters Tone Curve PV2012 Red | 0, 0, 255, 255 |
| Look Parameters Version | 17.5 |
| Look Supports Amount | false |
| Look Supports Monochrome | false |
| Look Supports Output Referred | false |
| Luminance Smoothing | 0 |
| Metering Mode | Multi-segment |
| Override Look Vignette | False |
| Owner Name | Michael Thon |
| Parametric Darks | 0 |
| Parametric Highlight Split | 75 |
| Parametric Highlights | 0 |
| Parametric Lights | 0 |
| Parametric Midtone Split | 50 |
| Parametric Shadow Split | 25 |
| Parametric Shadows | 0 |
| Perspective Aspect | 0 |
| Perspective Horizontal | 0 |
| Perspective Rotate | 0.0 |
| Perspective Scale | 100 |
| Perspective Upright | 0 |
| Perspective Vertical | 0 |
| Perspective X | 0.00 |
| Perspective Y | 0.00 |
| Pick | 0 |
| Point Colors | -1.000000, -1.000000, -1.000000, -1.000000, -1.000000, -1.000000, -1.000000, -1.000000, -1.000000, -1.000000, -1.000000, -1.000000, -1.000000, -1.000000, -1.000000, -1.000000, -1.000000, -1.000000, -1.000000 |
| Post Crop Vignette Amount | 0 |
| Preserved File Name | _MG_0299.CR2 |
| Process Version | 15.4 |
| Rating | 0 |
| Rating Percent | 0 |
| Raw File Name | _MG_0299-2_DxO.jpg |
| Red Hue | 0 |
| Red Saturation | 0 |
| Rights | www.bystudiomt.de |
| Saturation | -4 |
| Scale Factor To 35 mm Equivalent | 1.0 |
| Scene Capture Type | Standard |
| Shadow Tint | 0 |
| Shadows 2012 | +30 |
| Sharpen Detail | 25 |
| Sharpen Edge Masking | 0 |
| Sharpen Radius | +1.0 |
| Sharpness | 40 |
| Split Toning Balance | 0 |
| Split Toning Highlight Hue | 0 |
| Split Toning Highlight Saturation | 0 |
| Split Toning Shadow Hue | 0 |
| Split Toning Shadow Saturation | 0 |
| Texture | +32 |
| Tint | -3 |
| Tone Curve Name 2012 | Linear |
| Tone Curve PV2012 | 0, 0, 255, 255 |
| Tone Curve PV2012 Blue | 0, 0, 255, 255 |
| Tone Curve PV2012 Green | 0, 0, 255, 255 |
| Tone Curve PV2012 Red | 0, 0, 255, 255 |
| Version | 17.5 |
| Vibrance | +15 |
| Vignette Amount | 0 |
| White Balance | Manual |
| Whites 2012 | +31 |
X