Shooting information for this photo
| Camera: | Canon EOS 7D |
| Exposure: | 0.02 sec. (1/50) |
| Aperture: | f/4.0 |
| Focal Length: | 28.0 mm (35 mm equivalent: 44.0 mm) |
| Flash: | Off, Did not fire |
| Exposure mode: | Program AE |
| Max Aperture: | 4.0 |
| Resolution: | 2000 x 2000 dpi |
| Dimension: | 3000 x 2000 pixels |
| Original Date: | 2025:08:09 16:24:20 |
| Created on: | 2025:08:09 16:24:20.67 |
| Modified on: | 2025:08:10 18:33:52 |
| Software: | DxO PhotoLab 8.7 |
| Copyright: | www.bystudiomt.de |
| AEB Auto Cancel | On |
| AEB Sequence | 0,-,+ |
| AF Area Mode | Single-point AF |
| AF Assist Beam | Emits |
| AF Image Height | 3456 |
| AF Image Width | 5184 |
| AF Micro Adj Mode | Disable |
| AF Micro Adj Value | 0 |
| AF Microadjustment | Disable; 0; 0; 0; 0 |
| AF Points In Focus | 9 |
| AF Points Selected | 9 |
| AI Servo Image Priority | 1: AF, 2: Tracking |
| AI Servo Tracking Method | Main focus point priority |
| AI Servo Tracking Sensitivity | Standard |
| Add Aspect Ratio Info | Off |
| Add Original Decision Data | Off |
| Already Applied | True |
| Approximate Focus Distance | 2.26 |
| Artist | by Studio MT |
| Aspect Ratio | Unknown (256) |
| Auto Lateral CA | 0 |
| Auto Lighting Optimizer | Off |
| Blacks 2012 | -19 |
| Blue Balance | 1.78418 |
| Blue Hue | 0 |
| Blue Saturation | 0 |
| Camera ISO | Auto |
| Camera Orientation | Horizontal (normal) |
| Camera Profile | Adobe Standard |
| Camera Temperature | 32 C |
| Camera Type | EOS High-end |
| Canon Exposure Mode | Program AE |
| Canon Firmware Version | Firmware Version 2.0.6 |
| Canon Flash Mode | Off |
| Canon Image Size | Large |
| Canon Model ID | EOS 7D |
| Chromatic Aberration Corr | Off |
| Chromatic Aberration Setting | Off |
| Circle Of Confusion | 0.019 mm |
| Clarity 2012 | 0 |
| Color Data Version | 7 (500D/550D/7D/1DmkIV) |
| Color Grade Blending | 50 |
| Color Grade Global Hue | 0 |
| Color Grade Global Lum | 0 |
| Color Grade Global Sat | 0 |
| Color Grade Highlight Lum | 0 |
| Color Grade Midtone Hue | 0 |
| Color Grade Midtone Lum | 0 |
| Color Grade Midtone Sat | 0 |
| Color Grade Shadow Lum | 0 |
| Color Mode | RGB |
| Color Noise Reduction | 25 |
| Color Noise Reduction Detail | 50 |
| Color Noise Reduction Smoothness | 50 |
| Color Space | sRGB |
| Color Temp As Shot | 4251 |
| Color Temp Auto | 4251 |
| Color Temp Cloudy | 6000 |
| Color Temp Daylight | 5200 |
| Color Temp Flash | 6172 |
| Color Temp Fluorescent | 3769 |
| Color Temp Kelvin | 2498 |
| Color Temp Measured | 4251 |
| Color Temp Shade | 7000 |
| Color Temp Tungsten | 3200 |
| Color Temperature | 2500 |
| Color Tone | Normal |
| Color Tone Faithful | 0 |
| Color Tone Landscape | 0 |
| Color Tone Neutral | 0 |
| Color Tone Portrait | 0 |
| Color Tone Standard | 0 |
| Color Tone User Def 1 | 0 |
| Color Tone User Def 2 | 0 |
| Color Tone User Def 3 | 0 |
| Continuous Drive | Continuous, High |
| Contrast | Normal |
| Contrast 2012 | +7 |
| Contrast Faithful | 0 |
| Contrast Landscape | 0 |
| Contrast Monochrome | 0 |
| Contrast Neutral | 0 |
| Contrast Portrait | 0 |
| Contrast Standard | 1 |
| Contrast User Def 1 | 0 |
| Contrast User Def 2 | 0 |
| Contrast User Def 3 | 0 |
| Creator | by Studio MT |
| Crop Bottom Margin | 0 |
| Crop Left Margin | 0 |
| Crop Right Margin | 0 |
| Crop Top Margin | 0 |
| Cropped Image Height | 3456 |
| Cropped Image Left | 0 |
| Cropped Image Top | 0 |
| Cropped Image Width | 5184 |
| Custom Controls | 0 0 0 0 0 0 0 0 0 0 0 0 0 0 0 0 0 0 0 0 0 222 222 222 222 |
| Custom Rendered | Normal |
| Date Created | 2025:08:09 16:24:20.67 |
| Defringe Green Amount | 0 |
| Defringe Green Hue Hi | 60 |
| Defringe Green Hue Lo | 40 |
| Defringe Purple Amount | 0 |
| Defringe Purple Hue Hi | 70 |
| Defringe Purple Hue Lo | 30 |
| Dehaze | 0 |
| Depth Of Field | 1.27 m (2.01 - 3.28) |
| Dial Direction Tv Av | Normal |
| Digital Zoom | None |
| Display All AF Points | Enable |
| Drive Mode | Continuous Shooting |
| Easy Mode | Manual |
| Exposure 2012 | -0.16 |
| Exposure Level Increments | 1/3 Stop |
| Exposure Mode | Auto |
| Field Of View | 44.5 deg |
| File Number | 100-9037 |
| Filter Effect Monochrome | None |
| Filter Effect User Def 1 | None |
| Filter Effect User Def 2 | None |
| Filter Effect User Def 3 | None |
| Firmware | 2.0.6 |
| Firmware Version | 2.0.6 |
| Flash Activity | 0 |
| Flash Bits | (none) |
| Flash Compensation | 0 |
| Flash Fired | False |
| Flash Function | False |
| Flash Metering Mode | Off |
| Flash Mode | Off |
| Flash Red Eye Mode | False |
| Flash Return | No return detection |
| Flash Sync Speed Av | Auto |
| Focal Units | 1/mm |
| Focus Display AI Servo And MF | Enable |
| Focus Distance Lower | 2.11 m |
| Focus Distance Upper | 2.49 m |
| Focus Mode | AI Servo AF |
| Focus Range | Not Known |
| Format | image/x-canon-cr2 |
| Grain Amount | 0 |
| Green Hue | 0 |
| Green Saturation | 0 |
| HDR Edit Mode | 0 |
| Has Crop | False |
| Has Settings | True |
| High ISO Noise Reduction | Standard |
| Highlight Tone Priority | Disable |
| Highlights 2012 | -70 |
| Hue Adjustment Aqua | 0 |
| Hue Adjustment Blue | 0 |
| Hue Adjustment Green | 0 |
| Hue Adjustment Magenta | 0 |
| Hue Adjustment Orange | 0 |
| Hue Adjustment Purple | 0 |
| Hue Adjustment Red | 0 |
| Hue Adjustment Yellow | 0 |
| Hyperfocal Distance | 10.24 m |
| ISO | 100 |
| ISO Expansion | Off |
| ISO Speed Increments | 1/3 Stop |
| Image Number | 0 |
| Image Size | 3000x2000 |
| Lens | 24.0 - 105.0 mm (35 mm equivalent: 37.7 - 164.9 mm) |
| Lens Drive No AF | Focus search on |
| Lens ID | Canon EF 24-105mm f/4L IS |
| Lens Info | 24-105mm f/? |
| Lens Manual Distortion Amount | 0 |
| Lens Model | EF24-105mm f/4L IS USM |
| Lens Profile Enable | 0 |
| Lens Type | Canon EF 24-105mm f/4L IS |
| Light Value | 9.6 |
| Long Exposure Noise Reduction | Off |
| Look Amount | 1 |
| Look Copyright | © 2018 Adobe Systems, Inc. |
| Look Group | Profiles |
| Look Name | Adobe Color |
| Look Parameters Camera Profile | Adobe Standard |
| Look Parameters Convert To Grayscale | False |
| Look Parameters Look Table | E1095149FDB39D7A057BAB208837E2 E1 |
| Look Parameters Process Version | 15.4 |
| Look Parameters Tone Curve PV2012 | 0, 0, 22, 16, 40, 35, 127, 127, 224, 230, 240, 246, 255, 255 |
| Look Parameters Tone Curve PV2012 Blue | 0, 0, 255, 255 |
| Look Parameters Tone Curve PV2012 Green | 0, 0, 255, 255 |
| Look Parameters Tone Curve PV2012 Red | 0, 0, 255, 255 |
| Look Parameters Version | 17.0 |
| Look Supports Amount | false |
| Look Supports Monochrome | false |
| Look Supports Output Referred | false |
| Luminance Adjustment Aqua | 0 |
| Luminance Adjustment Blue | 0 |
| Luminance Adjustment Green | 0 |
| Luminance Adjustment Magenta | 0 |
| Luminance Adjustment Orange | 0 |
| Luminance Adjustment Purple | 0 |
| Luminance Adjustment Red | 0 |
| Luminance Adjustment Yellow | 0 |
| Luminance Smoothing | 0 |
| Macro Mode | Normal |
| Manual AF Point Select Pattern | Stops at AF area edges |
| Manual Flash Output | n/a |
| Max Aperture | 4 |
| Max Focal Length | 105 mm |
| Measured RGGB | 493 1024 1024 463 |
| Metering Mode | Evaluative |
| Min Aperture | 23 |
| Min Focal Length | 24 mm |
| Mirror Lockup | Disable |
| Num AF Points | 19 |
| Optical Zoom Code | n/a |
| Orientation Linked AF Point | Same for verical and horizontal |
| Original Decision Data Offset | 0 |
| Original Image Height | 3456 |
| Original Image Width | 5184 |
| Override Look Vignette | False |
| Owner Name | Michael Thon |
| Parametric Darks | 0 |
| Parametric Highlight Split | 75 |
| Parametric Highlights | 0 |
| Parametric Lights | 0 |
| Parametric Midtone Split | 50 |
| Parametric Shadow Split | 25 |
| Parametric Shadows | 0 |
| Peripheral Lighting | On |
| Peripheral Lighting Setting | On |
| Peripheral Lighting Value | 35 |
| Perspective Aspect | 0 |
| Perspective Horizontal | 0 |
| Perspective Rotate | 0.0 |
| Perspective Scale | 100 |
| Perspective Upright | 0 |
| Perspective Vertical | 0 |
| Perspective X | 0.00 |
| Perspective Y | 0.00 |
| Photometric Interpretation | RGB |
| Point Colors | -1.000000, -1.000000, -1.000000, -1.000000, -1.000000, -1.000000, -1.000000, -1.000000, -1.000000, -1.000000, -1.000000, -1.000000, -1.000000, -1.000000, -1.000000, -1.000000, -1.000000, -1.000000, -1.000000 |
| Post Crop Vignette Amount | 0 |
| Preserved File Name | IMG_9037.CR2 |
| Process Version | 15.4 |
| Quality | Fine |
| Rating | 0 |
| Rating Percent | 0 |
| Raw File Name | IMG_9037_DxO 3.jpg |
| Raw Measured RGGB | 143024 296409 304017 137933 |
| Recommended Exposure Index | 100 |
| Record Mode | CR2 |
| Red Balance | 2.023438 |
| Red Hue | 0 |
| Red Saturation | 0 |
| Rights | www.bystudiomt.de |
| SRAW Quality | n/a |
| Safety Shift | Disable |
| Samples Per Pixel | 3 |
| Saturation | Normal |
| Saturation Adjustment Aqua | 0 |
| Saturation Adjustment Blue | 0 |
| Saturation Adjustment Green | 0 |
| Saturation Adjustment Magenta | 0 |
| Saturation Adjustment Orange | 0 |
| Saturation Adjustment Purple | 0 |
| Saturation Adjustment Red | 0 |
| Saturation Adjustment Yellow | 0 |
| Saturation Faithful | 0 |
| Saturation Landscape | 4 |
| Saturation Neutral | 0 |
| Saturation Portrait | 2 |
| Saturation Standard | 5 |
| Saturation User Def 1 | 3 |
| Saturation User Def 2 | 3 |
| Saturation User Def 3 | 3 |
| Scale Factor To 35 mm Equivalent | 1.6 |
| Scene Capture Type | Standard |
| Select AF Area Select Mode | Disable; 7 |
| Self Timer | Off |
| Sensitivity Type | Recommended Exposure Index |
| Shadow Tint | 0 |
| Shadows 2012 | +56 |
| Sharpen Detail | 25 |
| Sharpen Edge Masking | 0 |
| Sharpen Radius | +1.0 |
| Sharpness | 40 |
| Sharpness Faithful | 0 |
| Sharpness Landscape | 0 |
| Sharpness Monochrome | 0 |
| Sharpness Neutral | 0 |
| Sharpness Portrait | 0 |
| Sharpness Standard | 0 |
| Sharpness User Def 1 | 0 |
| Sharpness User Def 2 | 0 |
| Sharpness User Def 3 | 0 |
| Shooting Mode | Program AE |
| Sidecar For Extension | CR2 |
| Split Toning Balance | 0 |
| Split Toning Highlight Hue | 0 |
| Split Toning Highlight Saturation | 0 |
| Split Toning Shadow Hue | 0 |
| Split Toning Shadow Saturation | 0 |
| Subject Distance | 2.49 m |
| Texture | 0 |
| Tint | +36 |
| Tone Curve Name 2012 | Linear |
| Tone Curve PV2012 | 0, 0, 255, 255 |
| Tone Curve PV2012 Blue | 0, 0, 255, 255 |
| Tone Curve PV2012 Green | 0, 0, 255, 255 |
| Tone Curve PV2012 Red | 0, 0, 255, 255 |
| Toning Effect Monochrome | None |
| Toning Effect User Def 1 | None |
| Toning Effect User Def 2 | None |
| Toning Effect User Def 3 | None |
| User Def 1 Picture Style | Unknown (0) |
| User Def 2 Picture Style | Unknown (0) |
| User Def 3 Picture Style | Standard |
| VF Display Illumination | Auto |
| VRD Offset | 0 |
| Valid AF Points | 19 |
| Version | 17.0 |
| Vibrance | +15 |
| Vignette Amount | 0 |
| WB RGGB Levels | 2072 1024 1024 1827 |
| WB RGGB Levels As Shot | 2072 1024 1024 1827 |
| WB RGGB Levels Auto | 2072 1024 1024 1827 |
| WB RGGB Levels Cloudy | 2305 1024 1024 1334 |
| WB RGGB Levels Daylight | 2140 1024 1024 1450 |
| WB RGGB Levels Flash | 2356 1024 1024 1326 |
| WB RGGB Levels Fluorescent | 1893 1024 1024 2024 |
| WB RGGB Levels Kelvin | 1185 1024 1024 2796 |
| WB RGGB Levels Measured | 2066 1025 1022 1819 |
| WB RGGB Levels Shade | 2485 1024 1024 1232 |
| WB RGGB Levels Tungsten | 1515 1024 1024 2171 |
| Whites 2012 | +7 |
| Zoom Source Width | 0 |
| Zoom Target Width | 0 |
GPS Information |
| GPS Version ID | 2.3.0.0 |
X