Shooting information for this photo
| Camera: | NIKON CORPORATION NIKON Z 6 |
| Exposure: | 0.03333 sec. (1/30) |
| Aperture: | f/14.0 |
| Focal Length: | 26.0 mm (35 mm equivalent: 26.0 mm) |
| Flash: | No Flash |
| Exposure mode: | Shutter speed priority AE |
| Resolution: | 100 x 100 dpi |
| Dimension: | 2000 x 1331 pixels |
| Original Date: | 2019:02:01 13:27:59.15 |
| Created on: | 2019:02:01 13:27:59.15 |
| Modified on: | 2024:10:04 13:13:21 |
| Software: | Adobe Bridge 2024 |
| Copyright: | HANNES GAMSE |
| Already Applied | True |
| Artist | HANNES GAMSE |
| Auto Lateral CA | 0 |
| Blacks 2012 | +19 |
| Blue Hue | 0 |
| Blue Saturation | 0 |
| Camera Profile | Embedded |
| Circle Of Confusion | 0.030 mm |
| Clarity 2012 | +11 |
| Color Grade Blending | 50 |
| Color Grade Global Hue | 0 |
| Color Grade Global Lum | 0 |
| Color Grade Global Sat | 0 |
| Color Grade Highlight Lum | 0 |
| Color Grade Midtone Hue | 0 |
| Color Grade Midtone Lum | 0 |
| Color Grade Midtone Sat | 0 |
| Color Grade Shadow Lum | 0 |
| Color Noise Reduction | 25 |
| Color Noise Reduction Detail | 50 |
| Color Noise Reduction Smoothness | 50 |
| Color Space | sRGB |
| Contrast | Normal |
| Contrast 2012 | +19 |
| Convert To Grayscale | False |
| Creator | HANNES GAMSE |
| Custom Rendered | Custom |
| Defringe Green Amount | 0 |
| Defringe Green Hue Hi | 60 |
| Defringe Green Hue Lo | 40 |
| Defringe Purple Amount | 0 |
| Defringe Purple Hue Hi | 70 |
| Defringe Purple Hue Lo | 30 |
| Dehaze | +5 |
| Exposure 2012 | -0.30 |
| Exposure Compensation | +1/3 |
| Exposure Mode | Auto |
| Field Of View | 69.4 deg |
| Focal Length In 35mm Format | 26 mm |
| Format | image/jpeg |
| Gain Control | None |
| Grain Amount | 0 |
| Green Hue | 0 |
| Green Saturation | 0 |
| HDR Edit Mode | 0 |
| Has Settings | True |
| Hierarchical Subject | Schwarz-Weiß, Natur, Jahreszeit, Jahreszeit|Winter |
| Highlights 2012 | -39 |
| Hue Adjustment Aqua | 0 |
| Hue Adjustment Blue | 0 |
| Hue Adjustment Green | 0 |
| Hue Adjustment Magenta | 0 |
| Hue Adjustment Orange | 0 |
| Hue Adjustment Purple | 0 |
| Hue Adjustment Red | 0 |
| Hue Adjustment Yellow | 0 |
| Hyperfocal Distance | 1.61 m |
| ISO | 100 |
| Image Number | 434 |
| Image Size | 2000x1331 |
| Label | Veröffentlicht auf Plattformen |
| Lens | NIKKOR Z 24-70mm f/4 S |
| Lens Info | 24-70mm f/4 |
| Lens Make | NIKON |
| Lens Manual Distortion Amount | 0 |
| Lens Model | NIKKOR Z 24-70mm f/4 S |
| Lens Profile Distortion Scale | 100 |
| Lens Profile Enable | 1 |
| Lens Profile Filename | NIKON D3X (Nikon FX 24-70mm f2.8 G ED) - RAW.lcp |
| Lens Profile Is Embedded | False |
| Lens Profile Name | Adobe (Nikon AF-S NIKKOR 24-70mm f/2.8G ED) |
| Lens Profile Setup | Custom |
| Lens Profile Vignetting Scale | 100 |
| Light Source | Unknown |
| Light Value | 12.5 |
| Luminance Adjustment Aqua | 0 |
| Luminance Adjustment Blue | 0 |
| Luminance Adjustment Green | +6 |
| Luminance Adjustment Magenta | 0 |
| Luminance Adjustment Orange | -16 |
| Luminance Adjustment Purple | 0 |
| Luminance Adjustment Red | 0 |
| Luminance Adjustment Yellow | -27 |
| Luminance Smoothing | 0 |
| Metering Mode | Multi-segment |
| Override Look Vignette | False |
| Parametric Darks | 0 |
| Parametric Highlight Split | 75 |
| Parametric Highlights | 0 |
| Parametric Lights | 0 |
| Parametric Midtone Split | 50 |
| Parametric Shadow Split | 25 |
| Parametric Shadows | 0 |
| Perspective Aspect | 0 |
| Perspective Horizontal | 0 |
| Perspective Rotate | 0.0 |
| Perspective Scale | 100 |
| Perspective Upright | 1 |
| Perspective Vertical | 0 |
| Perspective X | 0.00 |
| Perspective Y | 0.00 |
| Point Colors | -1.000000, -1.000000, -1.000000, -1.000000, -1.000000, -1.000000, -1.000000, -1.000000, -1.000000, -1.000000, -1.000000, -1.000000, -1.000000, -1.000000, -1.000000, -1.000000, -1.000000, -1.000000, -1.000000 |
| Post Crop Vignette Amount | 0 |
| Process Version | 15.4 |
| Rating | 4 |
| Raw File Name | 7_6_3_hannesgamse.jpg |
| Recommended Exposure Index | 100 |
| Red Hue | 0 |
| Red Saturation | 0 |
| Rights | HANNES GAMSE |
| Saturation | Normal |
| Saturation Adjustment Aqua | 0 |
| Saturation Adjustment Blue | 0 |
| Saturation Adjustment Green | 0 |
| Saturation Adjustment Magenta | 0 |
| Saturation Adjustment Orange | 0 |
| Saturation Adjustment Purple | 0 |
| Saturation Adjustment Red | 0 |
| Saturation Adjustment Yellow | 0 |
| Scale Factor To 35 mm Equivalent | 1.0 |
| Scene Capture Type | Standard |
| Scene Type | Directly photographed |
| Sensing Method | One-chip color area |
| Sensitivity Type | Recommended Exposure Index |
| Shadow Tint | 0 |
| Shadows 2012 | +6 |
| Sharpen Detail | 36 |
| Sharpen Edge Masking | 25 |
| Sharpen Radius | +1.5 |
| Sharpness | Normal |
| Split Toning Balance | 0 |
| Split Toning Highlight Hue | 0 |
| Split Toning Highlight Saturation | 0 |
| Split Toning Shadow Hue | 0 |
| Split Toning Shadow Saturation | 0 |
| Subject | Schwarz-Weiß, Natur, Jahreszeit, Winter |
| Subject Distance Range | Unknown |
| Texture | +28 |
| Tone Curve Name 2012 | Linear |
| Tone Curve PV2012 | 0, 0, 255, 255 |
| Tone Curve PV2012 Blue | 0, 0, 255, 255 |
| Tone Curve PV2012 Green | 0, 0, 255, 255 |
| Tone Curve PV2012 Red | 0, 0, 255, 255 |
| Version | 16.5 |
| Vibrance | +30 |
| Vignette Amount | 0 |
| Weighted Flat Subject | Landschaft, Landschaftsfotografie, Natur |
| White Balance | Auto |
| Whites 2012 | -20 |
X