Shooting information for this photo
Camera: | NIKON CORPORATION NIKON Z 7_2 |
Exposure: | 0.008 sec. (1/125) |
Aperture: | f/8.0 |
Focal Length: | 70.0 mm (35 mm equivalent: 70.0 mm) |
Flash: | No Flash |
Exposure mode: | Manual |
Resolution: | 240 x 240 dpi |
Original Date: | 2023:03:03 11:25:33.79 |
Created on: | 2023:03:03 11:25:33.79 |
Modified on: | 2024:03:22 17:54:27 |
Software: | Adobe Photoshop Lightroom Classic 13.2 (Macintosh) |
Copyright: | ©Antonio RT |
Already Applied | True |
Artist | antonio del rio toro |
Auto Lateral CA | 0 |
Blacks 2012 | +20 |
Blue Hue | 0 |
Blue Saturation | 0 |
CFA Pattern | [Red,Green][Green,Blue] |
Camera Profile | Adobe Standard |
Circle Of Confusion | 0.030 mm |
City | Los Realejos |
Clarity 2012 | +6 |
Color Grade Blending | 50 |
Color Grade Global Hue | 0 |
Color Grade Global Lum | 0 |
Color Grade Global Sat | 0 |
Color Grade Highlight Lum | 0 |
Color Grade Midtone Hue | 35 |
Color Grade Midtone Lum | 0 |
Color Grade Midtone Sat | 7 |
Color Grade Shadow Lum | 0 |
Color Noise Reduction | 25 |
Color Noise Reduction Detail | 50 |
Color Noise Reduction Smoothness | 50 |
Color Space | sRGB |
Color Temperature | 5550 |
Compatible Version | 251854848 |
Contrast | Normal |
Contrast 2012 | +6 |
Country | España |
Country Code | ES |
Creator | antonio del rio toro |
Credit | antonio del rio toro |
Crop Angle | 0 |
Crop Bottom | 1 |
Crop Constrain To Warp | 0 |
Crop Left | 0 |
Crop Right | 1 |
Crop Top | 0 |
Custom Rendered | Custom |
Date Created | 2023:03:03 11:25:33.79+01:00 |
Dehaze | 0 |
Distortion Correction Already Applied | True |
Exposure 2012 | +0.11 |
Exposure Compensation | 0 |
Exposure Mode | Manual |
Field Of View | 28.8 deg |
Focal Length In 35mm Format | 70 mm |
Format | image/jpeg |
Gain Control | None |
Grain Amount | 0 |
Gray Mixer Aqua | 0 |
Gray Mixer Blue | -9 |
Gray Mixer Green | +79 |
Gray Mixer Magenta | +6 |
Gray Mixer Orange | +27 |
Gray Mixer Purple | +9 |
Gray Mixer Red | +24 |
Gray Mixer Yellow | +42 |
Green Hue | 0 |
Green Saturation | 0 |
HDR Edit Mode | 0 |
Has Crop | False |
Has Settings | True |
Highlights 2012 | -72 |
Hue Adjustment Aqua | -12 |
Hue Adjustment Blue | +21 |
Hue Adjustment Green | -5 |
Hue Adjustment Magenta | -16 |
Hue Adjustment Orange | +1 |
Hue Adjustment Purple | -18 |
Hue Adjustment Red | -22 |
Hue Adjustment Yellow | -3 |
Hyperfocal Distance | 20.39 m |
ISO | 100 |
Image Number | 3218 |
Image Size | 2738x1825 |
Label | Roja |
Lateral Chromatic Aberration Correction Already Applied | True |
Lens | NIKKOR Z 24-70mm f/4 S |
Lens Info | 24-70mm f/4 |
Lens Make | NIKON |
Lens Manual Distortion Amount | 0 |
Lens Model | NIKKOR Z 24-70mm f/4 S |
Lens Profile Enable | 0 |
Light Source | Unknown |
Light Value | 13.0 |
Look Amount | 1 |
Look Group | Profiles |
Look Name | Adobe Monochrome |
Look Parameters Camera Profile | Adobe Standard |
Look Parameters Clarity 2012 | +8 |
Look Parameters Convert To Grayscale | True |
Look Parameters Look Table | 73ED6C18DDE909DD7EA2D771F5AC28 2D |
Look Parameters Process Version | 15.4 |
Look Parameters Tone Curve PV2012 | 0, 0, 64, 56, 128, 128, 192, 197, 255, 255 |
Look Parameters Tone Curve PV2012 Blue | 0, 0, 255, 255 |
Look Parameters Tone Curve PV2012 Green | 0, 0, 255, 255 |
Look Parameters Tone Curve PV2012 Red | 0, 0, 255, 255 |
Look Parameters Version | 16.2 |
Look Supports Amount | false |
Look Supports Monochrome | false |
Look Supports Output Referred | false |
Luminance Adjustment Aqua | +1 |
Luminance Adjustment Blue | +1 |
Luminance Adjustment Green | -8 |
Luminance Adjustment Magenta | -3 |
Luminance Adjustment Orange | +6 |
Luminance Adjustment Purple | +2 |
Luminance Adjustment Red | +5 |
Luminance Smoothing | 0 |
Marked | True |
Metering Mode | Spot |
Override Look Vignette | False |
Parametric Darks | 0 |
Parametric Highlight Split | 75 |
Parametric Highlights | 0 |
Parametric Lights | 0 |
Parametric Midtone Split | 50 |
Parametric Shadow Split | 25 |
Parametric Shadows | 0 |
Perspective Aspect | 0 |
Perspective Horizontal | 0 |
Perspective Rotate | 0.0 |
Perspective Scale | 100 |
Perspective Upright | 0 |
Perspective Vertical | 0 |
Perspective X | 0.00 |
Perspective Y | 0.00 |
Pick | 0 |
Point Colors | -1.000000, -1.000000, -1.000000, -1.000000, -1.000000, -1.000000, -1.000000, -1.000000, -1.000000, -1.000000, -1.000000, -1.000000, -1.000000, -1.000000, -1.000000, -1.000000, -1.000000, -1.000000, -1.000000 |
Post Crop Vignette Amount | 0 |
Preserved File Name | _DSC3216.NEF |
Process Version | 15.4 |
Rating | 3 |
Raw File Name | _DSC3216.NEF |
Recommended Exposure Index | 100 |
Red Hue | 0 |
Red Saturation | 0 |
Rights | ©Antonio RT |
Saturation | Normal |
Saturation Adjustment Blue | -2 |
Saturation Adjustment Green | +12 |
Saturation Adjustment Magenta | +4 |
Saturation Adjustment Orange | -6 |
Saturation Adjustment Purple | +3 |
Saturation Adjustment Red | +2 |
Saturation Adjustment Yellow | +3 |
Scale Factor To 35 mm Equivalent | 1.0 |
Scene Capture Type | Standard |
Scene Type | Directly photographed |
Sensing Method | One-chip color area |
Sensitivity Type | Recommended Exposure Index |
Shadow Tint | 0 |
Shadows 2012 | +31 |
Sharpen Detail | 25 |
Sharpen Edge Masking | 0 |
Sharpen Radius | +1.0 |
Sharpness | Normal |
Split Toning Balance | 0 |
Split Toning Highlight Hue | 168 |
Split Toning Highlight Saturation | 9 |
Split Toning Shadow Hue | 210 |
Split Toning Shadow Saturation | 4 |
State | provincia de Santa Cruz de Tenerife |
Subject Distance Range | Unknown |
Texture | -8 |
Tint | +11 |
Tone Curve Name 2012 | Custom |
Tone Curve PV2012 | 0, 45, 68, 51, 135, 122, 190, 200, 255, 244 |
Tone Curve PV2012 Blue | 0, 0, 255, 255 |
Tone Curve PV2012 Green | 0, 0, 255, 255 |
Tone Curve PV2012 Red | 0, 0, 255, 255 |
Usage Terms | derechos reservados |
Version | 16.2 |
Vibrance | +8 |
Vignette Amount | 0 |
Vignette Correction Already Applied | True |
White Balance | Auto |
Whites 2012 | -2 |
GPS Information |
GPS Latitude | 28 deg 23' 54.40" N |
GPS Latitude Ref | North |
GPS Longitude | 16 deg 35' 7.53" W |
GPS Longitude Ref | West |
GPS Position | 28 deg 23' 54.40" N, 16 deg 35' 7.53" W |
GPS Version ID | 2.2.0.0 |