Shooting information for this photo
Camera: | OM Digital Solutions OM-5 |
Exposure: | 0.00625 sec. (1/160) |
Aperture: | f/9.0 |
Focal Length: | 45.0 mm (35 mm equivalent: 90.0 mm) |
Flash: | On, Did not fire |
Exposure mode: | Shutter speed priority AE |
Max Aperture: | 2.8 |
Resolution: | 300 x 300 dpi |
Original Date: | 2024:05:04 11:02:11 |
Created on: | 2024:05:04 11:02:11 |
Modified on: | 2024:05:06 15:59:39 |
Software: | Adobe Photoshop Lightroom Classic 13.2 (Windows) |
Copyright: | Manfred Hofmann |
Already Applied | True |
Artist | Lumaho |
Auto Lateral CA | 0 |
Blacks 2012 | 0 |
Blue Hue | 0 |
Blue Saturation | 0 |
CFA Pattern | [Red,Green][Green,Blue] |
Camera Profile | Adobe Standard |
Circle Of Confusion | 0.015 mm |
Clarity 2012 | +25 |
Color Grade Blending | 50 |
Color Grade Global Hue | 43 |
Color Grade Global Lum | 0 |
Color Grade Global Sat | 13 |
Color Grade Highlight Lum | 0 |
Color Grade Midtone Hue | 0 |
Color Grade Midtone Lum | 0 |
Color Grade Midtone Sat | 0 |
Color Grade Shadow Lum | 0 |
Color Noise Reduction | 25 |
Color Noise Reduction Detail | 50 |
Color Noise Reduction Smoothness | 50 |
Color Space | Uncalibrated |
Color Temperature | 6300 |
Compatible Version | 234881024 |
Contrast | Normal |
Contrast 2012 | +26 |
Country | BRD |
Creator | Lumaho |
Crop Angle | 0 |
Crop Bottom | 1 |
Crop Constrain To Warp | 0 |
Crop Left | 0 |
Crop Right | 1 |
Crop Top | 0 |
Custom Rendered | Normal |
Date Created | 2024:05:04 11:02:11+09:00 |
Dehaze | +20 |
Digital Zoom Ratio | 1 |
Exposure 2012 | +0.55 |
Exposure Compensation | 0 |
Exposure Mode | Auto |
Field Of View | 22.6 deg |
Flash Compensation | 0 |
Focal Length In 35mm Format | 90 mm |
Format | image/jpeg |
Gain Control | Low gain up |
Grain Amount | 0 |
Gray Mixer Aqua | -18 |
Gray Mixer Blue | +10 |
Gray Mixer Green | -27 |
Gray Mixer Magenta | +4 |
Gray Mixer Orange | -19 |
Gray Mixer Purple | +16 |
Gray Mixer Red | -10 |
Gray Mixer Yellow | -23 |
Green Hue | 0 |
Green Saturation | 0 |
HDR Edit Mode | 0 |
Has Crop | False |
Has Settings | True |
Highlights 2012 | 0 |
Hyperfocal Distance | 14.98 m |
ISO | 250 |
Image Size | 5184x3888 |
Label | Grün |
Lens | LEICA DG MACRO-ELMARIT 45/F2.8 |
Lens Info | 45mm f/2.8 |
Lens Manual Distortion Amount | 0 |
Lens Model | LEICA DG MACRO-ELMARIT 45/F2.8 |
Lens Profile Enable | 0 |
Lens Profile Setup | Auto |
Light Source | Unknown |
Light Value | 12.3 |
Look Amount | 1 |
Look Group | Profiles |
Look Name | Adobe Monochrome |
Look Parameters Camera Profile | Adobe Standard |
Look Parameters Clarity 2012 | +8 |
Look Parameters Convert To Grayscale | True |
Look Parameters Look Table | 73ED6C18DDE909DD7EA2D771F5AC28 2D |
Look Parameters Process Version | 15.4 |
Look Parameters Tone Curve PV2012 | 0, 0, 64, 56, 128, 128, 192, 197, 255, 255 |
Look Parameters Tone Curve PV2012 Blue | 0, 0, 255, 255 |
Look Parameters Tone Curve PV2012 Green | 0, 0, 255, 255 |
Look Parameters Tone Curve PV2012 Red | 0, 0, 255, 255 |
Look Parameters Version | 16.2 |
Look Supports Amount | false |
Look Supports Monochrome | false |
Look Supports Output Referred | false |
Luminance Smoothing | 0 |
Metering Mode | Multi-segment |
Override Look Vignette | False |
Parametric Darks | -15 |
Parametric Highlight Split | 75 |
Parametric Highlights | +34 |
Parametric Lights | +15 |
Parametric Midtone Split | 50 |
Parametric Shadow Split | 25 |
Parametric Shadows | -34 |
Perspective Aspect | 0 |
Perspective Horizontal | 0 |
Perspective Rotate | 0.0 |
Perspective Scale | 100 |
Perspective Upright | 1 |
Perspective Vertical | 0 |
Perspective X | 0.00 |
Perspective Y | 0.00 |
Pick | 0 |
Point Colors | -1.000000, -1.000000, -1.000000, -1.000000, -1.000000, -1.000000, -1.000000, -1.000000, -1.000000, -1.000000, -1.000000, -1.000000, -1.000000, -1.000000, -1.000000, -1.000000, -1.000000, -1.000000, -1.000000 |
Post Crop Vignette Amount | -5 |
Post Crop Vignette Feather | 50 |
Post Crop Vignette Highlight Contrast | 0 |
Post Crop Vignette Midpoint | 50 |
Post Crop Vignette Roundness | 0 |
Post Crop Vignette Style | 1 |
Preserved File Name | _5040017.ORF |
Process Version | 15.4 |
Range Mask Map Info Range Mask Map Info Lab Max | 0.999954 0.589364 0.549493 |
Range Mask Map Info Range Mask Map Info Lab Min | 0.000549 0.482078 0.405463 |
Range Mask Map Info Range Mask Map Info RGB Max | 0.244968 0.259937 0.308568 |
Range Mask Map Info Range Mask Map Info RGB Min | 0.001236 0.001480 0.001740 |
Raw File Name | _5040017.ORF |
Red Hue | 0 |
Red Saturation | 0 |
Rights | Manfred Hofmann |
Saturation | Normal |
Scale Factor To 35 mm Equivalent | 2.0 |
Scene Capture Type | Standard |
Sensitivity Type | Standard Output Sensitivity |
Shadow Tint | 0 |
Shadows 2012 | 0 |
Sharpen Detail | 25 |
Sharpen Edge Masking | 0 |
Sharpen Radius | +0.8 |
Sharpness | Normal |
Split Toning Balance | 0 |
Split Toning Highlight Hue | 0 |
Split Toning Highlight Saturation | 0 |
Split Toning Shadow Hue | 0 |
Split Toning Shadow Saturation | 0 |
State | Pfalz |
Subject | 01 Landschaft, 500px, Alle Landschaftsaufnahmen ab 01 / 2024, BRD, Bild, Ipernity, Kurpfalz, ORTE, PROJEKTE, Schwarzweiß, flickr, Öffentlich |
Texture | +5 |
Tint | +11 |
Title | uffm Acker ... |
Tone Curve Name 2012 | Linear |
Tone Curve PV2012 | 0, 0, 255, 255 |
Tone Curve PV2012 Blue | 0, 0, 255, 255 |
Tone Curve PV2012 Green | 0, 0, 255, 255 |
Tone Curve PV2012 Red | 0, 0, 255, 255 |
Version | 16.2 |
Vignette Amount | 0 |
Weighted Flat Subject | Schwarzweiß, Bild, 500px, Öffentlich, flickr, Ipernity, Kurpfalz, BRD, ORTE, 01 Landschaft, Alle Landschaftsaufnahmen ab 01 / 2024, PROJEKTE |
White Balance | Auto |
Whites 2012 | 0 |