Shooting information for this photo
Camera: | OM Digital Solutions OM-5 |
Exposure: | 0.002 sec. (1/500) |
Aperture: | f/6.3 |
Focal Length: | 15.0 mm (35 mm equivalent: 30.0 mm) |
Flash: | On, Did not fire |
Exposure mode: | Aperture-priority AE |
Max Aperture: | 1.7 |
Resolution: | 300 x 300 dpi |
Original Date: | 2024:04:29 11:55:06 |
Created on: | 2024:04:29 11:55:06 |
Modified on: | 2024:05:02 16:44:52 |
Software: | Adobe Photoshop Lightroom Classic 13.2 (Windows) |
Copyright: | Manfred Hofmann |
Already Applied | True |
Artist | Lumaho |
Auto Lateral CA | 1 |
Blacks 2012 | 0 |
Blue Hue | 0 |
Blue Saturation | 0 |
CFA Pattern | [Red,Green][Green,Blue] |
Camera Profile | Adobe Standard |
Camera Profiles Aperture Value | 5.310704 |
Camera Profiles Author | Adobe |
Camera Profiles Auto Scale | False |
Camera Profiles Camera Pretty Name | OM Digital Solutions OM-5 |
Camera Profiles Camera Raw Profile | True |
Camera Profiles Focal Length | 15 |
Camera Profiles Focus Distance | 10000 |
Camera Profiles Lens | LEICA DG SUMMILUX 15/F1.7 |
Camera Profiles Lens Pretty Name | LEICA DG SUMMILUX 15/F1.7 |
Camera Profiles Make | OM Digital Solutions |
Camera Profiles Model | OM-5 |
Camera Profiles Perspective Model Image X Center | 0.496947 |
Camera Profiles Perspective Model Image Y Center | 0.5 |
Camera Profiles Perspective Model Radial Distort Param 1 | -0.197779 |
Camera Profiles Perspective Model Radial Distort Param 2 | 0.079862 |
Camera Profiles Perspective Model Radial Distort Param 3 | 0.009261 |
Camera Profiles Perspective Model Scale Factor | 1 |
Camera Profiles Perspective Model Version | 2 |
Camera Profiles Profile Name | Camera Settings |
Camera Profiles Sensor Format Factor | 1.993092 |
Camera Profiles Unique Camera Model | OM Digital Solutions OM-5 |
Circle Of Confusion | 0.015 mm |
City | Eschbach |
Clarity 2012 | +24 |
Color Grade Blending | 50 |
Color Grade Global Hue | 43 |
Color Grade Global Lum | 0 |
Color Grade Global Sat | 13 |
Color Grade Highlight Lum | 0 |
Color Grade Midtone Hue | 0 |
Color Grade Midtone Lum | 0 |
Color Grade Midtone Sat | 0 |
Color Grade Shadow Lum | 0 |
Color Noise Reduction | 25 |
Color Noise Reduction Detail | 50 |
Color Noise Reduction Smoothness | 50 |
Color Space | Uncalibrated |
Color Temperature | 5950 |
Compatible Version | 251854848 |
Contrast | Normal |
Contrast 2012 | -20 |
Country | BRD |
Creator | Lumaho |
Crop Angle | 0 |
Crop Bottom | 1 |
Crop Constrain To Warp | 1 |
Crop Left | 0 |
Crop Right | 1 |
Crop Top | 0 |
Custom Rendered | Normal |
Date Created | 2024:04:29 11:55:06+09:00 |
Dehaze | +15 |
Digital Zoom Ratio | 1 |
Distortion Correction Already Applied | True |
Exposure 2012 | +0.50 |
Exposure Compensation | 0 |
Exposure Mode | Auto |
Field Of View | 61.9 deg |
Flash Compensation | 0 |
Focal Length In 35mm Format | 30 mm |
Format | image/jpeg |
Gain Control | Low gain up |
Grain Amount | 0 |
Gray Mixer Aqua | 0 |
Gray Mixer Blue | 0 |
Gray Mixer Green | 0 |
Gray Mixer Magenta | 0 |
Gray Mixer Orange | 0 |
Gray Mixer Purple | 0 |
Gray Mixer Red | 0 |
Gray Mixer Yellow | 0 |
Green Hue | 0 |
Green Saturation | 0 |
Group Based Corrections Local Tint | 0 |
HDR Edit Mode | 0 |
Has Crop | True |
Has Settings | True |
Highlights 2012 | +15 |
Hyperfocal Distance | 2.38 m |
ISO | 250 |
Image Size | 5184x3888 |
Label | Grün |
Lateral Chromatic Aberration Correction Already Applied | True |
Lens | LEICA DG SUMMILUX 15/F1.7 |
Lens Info | 15mm f/1.7 |
Lens Manual Distortion Amount | 0 |
Lens Model | LEICA DG SUMMILUX 15/F1.7 |
Lens Profile Distortion Scale | 100 |
Lens Profile Enable | 1 |
Lens Profile Is Embedded | True |
Lens Profile Name | Camera Settings |
Lens Profile Setup | LensDefaults |
Lens Profile Vignetting Scale | 100 |
Light Source | Unknown |
Light Value | 13.0 |
Look Amount | 1 |
Look Group | Profiles |
Look Name | Adobe Monochrome |
Look Parameters Camera Profile | Adobe Standard |
Look Parameters Clarity 2012 | +8 |
Look Parameters Convert To Grayscale | True |
Look Parameters Look Table | 73ED6C18DDE909DD7EA2D771F5AC28 2D |
Look Parameters Process Version | 15.4 |
Look Parameters Tone Curve PV2012 | 0, 0, 64, 56, 128, 128, 192, 197, 255, 255 |
Look Parameters Tone Curve PV2012 Blue | 0, 0, 255, 255 |
Look Parameters Tone Curve PV2012 Green | 0, 0, 255, 255 |
Look Parameters Tone Curve PV2012 Red | 0, 0, 255, 255 |
Look Parameters Version | 16.2 |
Look Supports Amount | false |
Look Supports Monochrome | false |
Look Supports Output Referred | false |
Luminance Smoothing | 0 |
Metering Mode | Multi-segment |
Override Look Vignette | False |
Parametric Darks | -12 |
Parametric Highlight Split | 75 |
Parametric Highlights | +25 |
Parametric Lights | +14 |
Parametric Midtone Split | 50 |
Parametric Shadow Split | 25 |
Parametric Shadows | -21 |
Perspective Aspect | 0 |
Perspective Horizontal | 0 |
Perspective Rotate | 0.0 |
Perspective Scale | 100 |
Perspective Upright | 1 |
Perspective Vertical | 0 |
Perspective X | 0.00 |
Perspective Y | 0.00 |
Pick | 0 |
Point Colors | -1.000000, -1.000000, -1.000000, -1.000000, -1.000000, -1.000000, -1.000000, -1.000000, -1.000000, -1.000000, -1.000000, -1.000000, -1.000000, -1.000000, -1.000000, -1.000000, -1.000000, -1.000000, -1.000000 |
Post Crop Vignette Amount | -5 |
Post Crop Vignette Feather | 50 |
Post Crop Vignette Highlight Contrast | 0 |
Post Crop Vignette Midpoint | 50 |
Post Crop Vignette Roundness | 0 |
Post Crop Vignette Style | 1 |
Preserved File Name | _4290004.ORF |
Process Version | 15.4 |
Range Mask Map Info Range Mask Map Info Lab Max | 0.999954 0.528984 0.536370 |
Range Mask Map Info Range Mask Map Info Lab Min | 0.000824 0.484123 0.464363 |
Range Mask Map Info Range Mask Map Info RGB Max | 0.543801 0.570718 0.641917 |
Range Mask Map Info Range Mask Map Info RGB Min | 0.001984 0.001785 0.001862 |
Raw File Name | _4290004.ORF |
Red Hue | 0 |
Red Saturation | 0 |
Rights | Manfred Hofmann |
Saturation | Normal |
Scale Factor To 35 mm Equivalent | 2.0 |
Scene Capture Type | Standard |
Sensitivity Type | Standard Output Sensitivity |
Shadow Tint | 0 |
Shadows 2012 | +25 |
Sharpen Detail | 25 |
Sharpen Edge Masking | 0 |
Sharpen Radius | +0.8 |
Sharpness | Normal |
Split Toning Balance | 0 |
Split Toning Highlight Hue | 0 |
Split Toning Highlight Saturation | 0 |
Split Toning Shadow Hue | 0 |
Split Toning Shadow Saturation | 0 |
State | Pfalz |
Subject | 05 Dorf und Stadt, 500px, BRD, Bild, Ipernity, Kurpfalz, ORTE, PROJEKTE, Schwarzweiß, flickr, Öffentlich |
Texture | +5 |
Tint | +6 |
Title | Eschbach |
Tone Curve Name 2012 | Linear |
Tone Curve PV2012 | 0, 0, 255, 255 |
Tone Curve PV2012 Blue | 0, 0, 255, 255 |
Tone Curve PV2012 Green | 0, 0, 255, 255 |
Tone Curve PV2012 Red | 0, 0, 255, 255 |
Version | 16.2 |
Vignette Amount | 0 |
Weighted Flat Subject | Schwarzweiß, Bild, flickr, Öffentlich, 500px, Ipernity, Kurpfalz, BRD, ORTE, 05 Dorf und Stadt, PROJEKTE |
White Balance | Auto |
Whites 2012 | 0 |