Shooting information for this photo
| Camera: | Ricoh KR10 Super |
| Aperture: | f/2.8 |
| Focal Length: | 28.0 mm (35 mm equivalent: 28.0 mm) |
| Resolution: | 240 x 240 dpi |
| Original Date: | 2025:01:02 00:00:00 |
| Modified on: | 2025:01:03 13:57:03 |
| Software: | Adobe Lightroom 8.1 (Macintosh) |
| Copyright: | Ralf Kneemeyer |
| Already Applied | True |
| Artist | Ralf Kneemeyer |
| Auto Lateral CA | 0 |
| Blacks 2012 | -13 |
| Blue Hue | 0 |
| Blue Saturation | 0 |
| Brightness | +50 |
| Camera Profile | Embedded |
| Circle Of Confusion | 0.030 mm |
| Clarity 2012 | -25 |
| Color Grade Blending | 50 |
| Color Grade Global Hue | 0 |
| Color Grade Global Lum | 0 |
| Color Grade Global Sat | 0 |
| Color Grade Highlight Lum | 0 |
| Color Grade Midtone Hue | 0 |
| Color Grade Midtone Lum | 0 |
| Color Grade Midtone Sat | 0 |
| Color Grade Shadow Lum | 0 |
| Color Noise Reduction | 0 |
| Color Space | sRGB |
| Contrast | +25 |
| Contrast 2012 | 0 |
| Convert To Grayscale | True |
| Creator | Ralf Kneemeyer |
| Crop Angle | 0 |
| Crop Bottom | 0.952303 |
| Crop Constrain To Warp | 0 |
| Crop Left | 0.015631 |
| Crop Right | 0.945363 |
| Crop Top | 0.022571 |
| Date Created | 2025:01:02 |
| Dehaze | +21 |
| Description | Dezember 2024 - Januar 2025, Hamburg und Verschiedene |
| Exposure 2012 | +1.04 |
| Field Of View | 65.5 deg |
| Focal Length In 35mm Format | 28 mm |
| Format | image/jpeg |
| Good | True |
| Grain Amount | 0 |
| Gray Mixer Aqua | 0 |
| Gray Mixer Blue | 0 |
| Gray Mixer Green | 0 |
| Gray Mixer Magenta | 0 |
| Gray Mixer Orange | 0 |
| Gray Mixer Purple | 0 |
| Gray Mixer Red | 0 |
| Gray Mixer Yellow | 0 |
| Green Hue | 0 |
| Green Saturation | 0 |
| HDR Edit Mode | 0 |
| Has Crop | True |
| Has Settings | True |
| Highlights 2012 | +52 |
| Hyperfocal Distance | 9.32 m |
| ISO | 125 |
| Image Description | Dezember 2024 - Januar 2025, Hamburg und Verschiedene |
| Image Size | 9315x6319 |
| Incremental Temperature | 0 |
| Incremental Tint | 0 |
| Lens | Tokina 28mm |
| Lens Manual Distortion Amount | 0 |
| Lens Model | Tokina 28mm |
| Lens Profile Enable | 0 |
| Luminance Smoothing | 0 |
| Override Look Vignette | False |
| Parametric Darks | 0 |
| Parametric Highlight Split | 75 |
| Parametric Highlights | 0 |
| Parametric Lights | 0 |
| Parametric Midtone Split | 50 |
| Parametric Shadow Split | 25 |
| Parametric Shadows | 0 |
| Perspective Aspect | 0 |
| Perspective Horizontal | 0 |
| Perspective Rotate | 0.0 |
| Perspective Scale | 100 |
| Perspective Upright | 0 |
| Perspective Vertical | 0 |
| Perspective X | 0.00 |
| Perspective Y | 0.00 |
| Point Colors | -1.000000, -1.000000, -1.000000, -1.000000, -1.000000, -1.000000, -1.000000, -1.000000, -1.000000, -1.000000, -1.000000, -1.000000, -1.000000, -1.000000, -1.000000, -1.000000, -1.000000, -1.000000, -1.000000 |
| Post Crop Vignette Amount | 0 |
| Process Version | 15.4 |
| Rating | 5 |
| Raw File Name | Foto-006.jpg |
| Red Hue | 0 |
| Red Saturation | 0 |
| Rights | Ralf Kneemeyer |
| Scale Factor To 35 mm Equivalent | 1.0 |
| Shadow Tint | 0 |
| Shadows | 5 |
| Shadows 2012 | -27 |
| Sharpness | 0 |
| Split Toning Balance | 0 |
| Split Toning Highlight Hue | 0 |
| Split Toning Highlight Saturation | 0 |
| Split Toning Shadow Hue | 0 |
| Split Toning Shadow Saturation | 0 |
| Texture | -38 |
| Tone Curve Name 2012 | Linear |
| Tone Curve PV2012 | 0, 0, 255, 255 |
| Tone Curve PV2012 Blue | 0, 0, 255, 255 |
| Tone Curve PV2012 Green | 0, 0, 255, 255 |
| Tone Curve PV2012 Red | 0, 0, 255, 255 |
| User Comment | Ilford FP4 |
| Version | 17.1 |
| Vignette Amount | 0 |
| White Balance | As Shot |
| Whites 2012 | +35 |
X