Shooting information for this photo
| Camera: | FUJIFILM X100VI |
| Exposure: | 0.002 sec. (1/500) |
| Aperture: | f/2.0 |
| Focal Length: | 23.0 mm (35 mm equivalent: 67.8 mm) |
| Flash: | No Flash |
| Exposure mode: | Aperture-priority AE |
| Max Aperture: | 2.0 |
| Resolution: | 240 x 240 dpi |
| Original Date: | 2024:07:07 15:43:55.21 |
| Created on: | 2024:07:07 15:43:55.21 |
| Modified on: | 2024:07:07 17:27:33 |
| Software: | Adobe Lightroom 7.4.1 (Macintosh) |
| Already Applied | True |
| Auto Lateral CA | 1 |
| Blacks 2012 | +24 |
| Blue Hue | 0 |
| Blue Saturation | 0 |
| Brightness Value | 6.45 |
| Camera Profile | Adobe Standard |
| Camera Profiles Aperture Value | 2 |
| Camera Profiles Author | Adobe |
| Camera Profiles Auto Scale | False |
| Camera Profiles Camera Pretty Name | Fujifilm X100VI |
| Camera Profiles Camera Raw Profile | True |
| Camera Profiles Focal Length | 23 |
| Camera Profiles Focus Distance | 10000 |
| Camera Profiles Make | FUJIFILM |
| Camera Profiles Model | X100VI |
| Camera Profiles Perspective Model Version | 2 |
| Camera Profiles Perspective Model Vignette Model Image X Center | 0.502459 |
| Camera Profiles Perspective Model Vignette Model Image Y Center | 0.509317 |
| Camera Profiles Perspective Model Vignette Model Vignette Model Param 1 | 1 |
| Camera Profiles Perspective Model Vignette Model Vignette Model Piecewise Param | 0.000000, 1.000000, 0.216006, 0.921689, 0.305506, 0.847329, 0.374352, 0.780483, 0.432011, 0.721631, 0.483216, 0.670596, 0.529257, 0.623628, 0.571425, 0.584473, 0.611012, 0.545112, 0.648017, 0.545112 |
| Camera Profiles Profile Name | Camera Settings |
| Camera Profiles Sensor Format Factor | 1.539063 |
| Camera Profiles Unique Camera Model | Fujifilm X100VI |
| Circle Of Confusion | 0.010 mm |
| Clarity 2012 | -21 |
| Color Grade Blending | 50 |
| Color Grade Global Hue | 0 |
| Color Grade Global Lum | 0 |
| Color Grade Global Sat | 0 |
| Color Grade Highlight Lum | 0 |
| Color Grade Midtone Hue | 0 |
| Color Grade Midtone Lum | 0 |
| Color Grade Midtone Sat | 0 |
| Color Grade Shadow Lum | 0 |
| Color Noise Reduction | 25 |
| Color Noise Reduction Detail | 50 |
| Color Noise Reduction Smoothness | 50 |
| Color Space | sRGB |
| Color Temperature | 4800 |
| Compatible Version | 251920384 |
| Contrast 2012 | 0 |
| Crop Angle | 0 |
| Crop Bottom | 1 |
| Crop Constrain To Warp | 0 |
| Crop Left | 0.258901 |
| Crop Right | 0.702759 |
| Crop Top | 0.334214 |
| Custom Rendered | Normal |
| Date Created | 2024:07:07 15:43:55.21+02:00 |
| Defringe Green Amount | 0 |
| Defringe Green Hue Hi | 60 |
| Defringe Green Hue Lo | 40 |
| Defringe Purple Amount | 0 |
| Defringe Purple Hue Hi | 70 |
| Defringe Purple Hue Lo | 30 |
| Dehaze | -30 |
| Exposure 2012 | -0.85 |
| Exposure Compensation | 0 |
| Exposure Mode | Auto |
| Field Of View | 29.7 deg |
| Format | image/jpeg |
| Fuji Rating Already Applied | True |
| Good | True |
| Grain Amount | 30 |
| Grain Frequency | 50 |
| Grain Size | 25 |
| Gray Mixer Aqua | 0 |
| Gray Mixer Blue | +25 |
| Gray Mixer Green | -95 |
| Gray Mixer Magenta | 0 |
| Gray Mixer Orange | +18 |
| Gray Mixer Purple | +10 |
| Gray Mixer Red | +31 |
| Gray Mixer Yellow | +27 |
| Green Hue | 0 |
| Green Saturation | 0 |
| HDR Edit Mode | 0 |
| Has Crop | True |
| Has Settings | True |
| Highlights 2012 | -59 |
| Hue Adjustment Aqua | 0 |
| Hue Adjustment Blue | 0 |
| Hue Adjustment Green | 0 |
| Hue Adjustment Magenta | 0 |
| Hue Adjustment Orange | 0 |
| Hue Adjustment Purple | 0 |
| Hue Adjustment Red | 0 |
| Hue Adjustment Yellow | 0 |
| Hyperfocal Distance | 25.94 m |
| ISO | 125 |
| Image Size | 3430x3430 |
| Lateral Chromatic Aberration Correction Already Applied | True |
| Lens Manual Distortion Amount | 0 |
| Lens Profile Distortion Scale | 100 |
| Lens Profile Enable | 1 |
| Lens Profile Is Embedded | True |
| Lens Profile Name | Camera Settings |
| Lens Profile Setup | LensDefaults |
| Lens Profile Vignetting Scale | 100 |
| Light Source | Unknown |
| Light Value | 10.6 |
| Look Amount | 1 |
| Look Group | Profiles |
| Look Name | Adobe Monochrome |
| Look Parameters Camera Profile | Adobe Standard |
| Look Parameters Clarity 2012 | +8 |
| Look Parameters Convert To Grayscale | True |
| Look Parameters Look Table | 73ED6C18DDE909DD7EA2D771F5AC28 2D |
| Look Parameters Process Version | 15.4 |
| Look Parameters Tone Curve PV2012 | 0, 0, 64, 56, 128, 128, 192, 197, 255, 255 |
| Look Parameters Tone Curve PV2012 Blue | 0, 0, 255, 255 |
| Look Parameters Tone Curve PV2012 Green | 0, 0, 255, 255 |
| Look Parameters Tone Curve PV2012 Red | 0, 0, 255, 255 |
| Look Parameters Version | 16.4 |
| Look Supports Amount | false |
| Look Supports Monochrome | false |
| Look Supports Output Referred | false |
| Luminance Adjustment Aqua | 0 |
| Luminance Adjustment Blue | 0 |
| Luminance Adjustment Green | 0 |
| Luminance Adjustment Magenta | 0 |
| Luminance Adjustment Orange | 0 |
| Luminance Adjustment Purple | 0 |
| Luminance Adjustment Red | 0 |
| Luminance Adjustment Yellow | 0 |
| Luminance Smoothing | 0 |
| Metering Mode | Multi-segment |
| Override Look Vignette | False |
| Parametric Darks | 0 |
| Parametric Highlight Split | 75 |
| Parametric Highlights | 0 |
| Parametric Lights | 0 |
| Parametric Midtone Split | 50 |
| Parametric Shadow Split | 25 |
| Parametric Shadows | 0 |
| Perspective Aspect | 0 |
| Perspective Horizontal | 0 |
| Perspective Rotate | 0.0 |
| Perspective Scale | 100 |
| Perspective Upright | 0 |
| Perspective Vertical | 0 |
| Perspective X | 0.00 |
| Perspective Y | 0.00 |
| Point Colors | -1.000000, -1.000000, -1.000000, -1.000000, -1.000000, -1.000000, -1.000000, -1.000000, -1.000000, -1.000000, -1.000000, -1.000000, -1.000000, -1.000000, -1.000000, -1.000000, -1.000000, -1.000000, -1.000000 |
| Post Crop Vignette Amount | 0 |
| Process Version | 15.4 |
| Rating | 4 |
| Raw File Name | DSCF0424.RAF |
| Red Hue | 0 |
| Red Saturation | 0 |
| Saturation | 0 |
| Saturation Adjustment Aqua | 0 |
| Saturation Adjustment Blue | 0 |
| Saturation Adjustment Green | 0 |
| Saturation Adjustment Magenta | 0 |
| Saturation Adjustment Orange | 0 |
| Saturation Adjustment Purple | 0 |
| Saturation Adjustment Red | 0 |
| Saturation Adjustment Yellow | 0 |
| Scale Factor To 35 mm Equivalent | 2.9 |
| Scene Capture Type | Standard |
| Scene Type | Directly photographed |
| Sensing Method | One-chip color area |
| Sensitivity Type | Standard Output Sensitivity |
| Shadow Tint | 0 |
| Shadows 2012 | +30 |
| Sharpen Detail | 25 |
| Sharpen Edge Masking | 0 |
| Sharpen Radius | +1.0 |
| Sharpness | Normal |
| Split Toning Balance | 0 |
| Split Toning Highlight Hue | 0 |
| Split Toning Highlight Saturation | 0 |
| Split Toning Shadow Hue | 0 |
| Split Toning Shadow Saturation | 0 |
| Subject Distance Range | Unknown |
| Texture | -54 |
| Tint | +10 |
| Tone Curve Name 2012 | Linear |
| Tone Curve PV2012 | 0, 0, 255, 255 |
| Tone Curve PV2012 Blue | 0, 0, 255, 255 |
| Tone Curve PV2012 Green | 0, 0, 255, 255 |
| Tone Curve PV2012 Red | 0, 0, 255, 255 |
| Version | 16.4 |
| Vibrance | 0 |
| Vignette Amount | 0 |
| Vignette Correction Already Applied | True |
| White Balance | Auto |
| Whites 2012 | +21 |
X