Shooting information for this photo
| Camera: | Canon EOS 80D |
| Exposure: | 0.00156 sec. (1/640) |
| Aperture: | f/10.0 |
| Focal Length: | 128.0 mm (35 mm equivalent: 206.5 mm) |
| Flash: | Off, Did not fire |
| Exposure mode: | Aperture-priority AE |
| Max Aperture: | 6.2 |
| Resolution: | 72 x 72 dpi |
| Original Date: | 2018:10:29 13:26:32.94 |
| Created on: | 2018:10:29 13:26:32.94 |
| Modified on: | 2019:01:17 21:27:24 |
| Software: | Adobe Photoshop Lightroom Classic 8.1 (Windows) |
| Already Applied | True |
| Approximate Focus Distance | 7.95 |
| Auto Lateral CA | 0 |
| Blacks 2012 | -10 |
| Blue Hue | 0 |
| Blue Saturation | 0 |
| Camera Profile | Adobe Standard |
| Circle Of Confusion | 0.019 mm |
| Circular Gradient Based Corrections Correction Active | true |
| Circular Gradient Based Corrections Correction Amount | 1.000000 |
| Circular Gradient Based Corrections Correction Masks Angle | 3.079240 |
| Circular Gradient Based Corrections Correction Masks Bottom | 1.061840 |
| Circular Gradient Based Corrections Correction Masks Feather | +50 |
| Circular Gradient Based Corrections Correction Masks Flipped | false |
| Circular Gradient Based Corrections Correction Masks Left | 0.054155 |
| Circular Gradient Based Corrections Correction Masks Mask Value | 1.000000 |
| Circular Gradient Based Corrections Correction Masks Midpoint | +50 |
| Circular Gradient Based Corrections Correction Masks Right | 1.068100 |
| Circular Gradient Based Corrections Correction Masks Roundness | 0 |
| Circular Gradient Based Corrections Correction Masks Top | 0.214023 |
| Circular Gradient Based Corrections Correction Masks Version | +2 |
| Circular Gradient Based Corrections Correction Masks What | Mask/CircularGradient |
| Circular Gradient Based Corrections Correction Range Mask Color Amount | 0.500000 |
| Circular Gradient Based Corrections Correction Range Mask Depth Feather | 0.500000 |
| Circular Gradient Based Corrections Correction Range Mask Depth Max | 1.000000 |
| Circular Gradient Based Corrections Correction Range Mask Depth Min | 0.000000 |
| Circular Gradient Based Corrections Correction Range Mask Lum Feather | 0.500000 |
| Circular Gradient Based Corrections Correction Range Mask Lum Max | 1.000000 |
| Circular Gradient Based Corrections Correction Range Mask Lum Min | 0.000000 |
| Circular Gradient Based Corrections Correction Range Mask Type | 0 |
| Circular Gradient Based Corrections Correction Range Mask Version | +2 |
| Circular Gradient Based Corrections Local Blacks 2012 | 0.000000 |
| Circular Gradient Based Corrections Local Brightness | 0.000000 |
| Circular Gradient Based Corrections Local Clarity 2012 | 0.000000 |
| Circular Gradient Based Corrections Local Contrast 2012 | 0.000000 |
| Circular Gradient Based Corrections Local Defringe | 0.000000 |
| Circular Gradient Based Corrections Local Dehaze | 0.000000 |
| Circular Gradient Based Corrections Local Exposure 2012 | -0.521750 |
| Circular Gradient Based Corrections Local Highlights 2012 | 0.000000 |
| Circular Gradient Based Corrections Local Luminance Noise | 0.000000 |
| Circular Gradient Based Corrections Local Moire | 0.000000 |
| Circular Gradient Based Corrections Local Saturation | 0.000000 |
| Circular Gradient Based Corrections Local Shadows 2012 | 0.000000 |
| Circular Gradient Based Corrections Local Sharpness | 0.000000 |
| Circular Gradient Based Corrections Local Temperature | 0.000000 |
| Circular Gradient Based Corrections Local Tint | 0.000000 |
| Circular Gradient Based Corrections Local Toning Hue | 240.000000 |
| Circular Gradient Based Corrections Local Toning Saturation | 0.000000 |
| Circular Gradient Based Corrections Local Whites 2012 | 0.000000 |
| Circular Gradient Based Corrections What | Correction |
| Clarity 2012 | +20 |
| Color Noise Reduction | 25 |
| Color Noise Reduction Detail | 50 |
| Color Noise Reduction Smoothness | 50 |
| Color Space | sRGB |
| Color Temperature | 5800 |
| Contrast 2012 | +20 |
| Convert To Grayscale | False |
| Custom Rendered | Normal |
| Date Created | 2018:10:29 13:26:32.94 |
| Defringe Green Amount | 0 |
| Defringe Green Hue Hi | 60 |
| Defringe Green Hue Lo | 40 |
| Defringe Purple Amount | 0 |
| Defringe Purple Hue Hi | 70 |
| Defringe Purple Hue Lo | 30 |
| Dehaze | 0 |
| Exposure 2012 | +1.31 |
| Exposure Compensation | -2/3 |
| Exposure Mode | Auto bracket |
| Field Of View | 10.0 deg |
| Firmware | 1.0.1 |
| Flash Compensation | 0 |
| Format | image/jpeg |
| Grain Amount | 0 |
| Green Hue | 0 |
| Green Saturation | 0 |
| Has Crop | False |
| Has Settings | True |
| Highlights 2012 | -10 |
| Hue Adjustment Aqua | 0 |
| Hue Adjustment Blue | 0 |
| Hue Adjustment Green | 0 |
| Hue Adjustment Magenta | 0 |
| Hue Adjustment Orange | 0 |
| Hue Adjustment Purple | 0 |
| Hue Adjustment Red | 0 |
| Hue Adjustment Yellow | 0 |
| Hyperfocal Distance | 87.97 m |
| ISO | 400 |
| Image Number | 0 |
| Image Size | 6000x4000 |
| Lens | 18-250mm |
| Lens ID | Sigma 18-250mm f/3.5-6.3 DC OS HSM |
| Lens Info | 18-250mm f/? |
| Lens Manual Distortion Amount | 0 |
| Lens Model | 18-250mm |
| Lens Profile Enable | 0 |
| Lens Profile Setup | LensDefaults |
| Light Value | 14.0 |
| Luminance Adjustment Aqua | 0 |
| Luminance Adjustment Blue | 0 |
| Luminance Adjustment Green | 0 |
| Luminance Adjustment Magenta | 0 |
| Luminance Adjustment Orange | 0 |
| Luminance Adjustment Purple | 0 |
| Luminance Adjustment Red | 0 |
| Luminance Adjustment Yellow | 0 |
| Luminance Smoothing | 0 |
| Metering Mode | Multi-segment |
| Override Look Vignette | False |
| Parametric Darks | 0 |
| Parametric Highlight Split | 75 |
| Parametric Highlights | 0 |
| Parametric Lights | 0 |
| Parametric Midtone Split | 50 |
| Parametric Shadow Split | 25 |
| Parametric Shadows | 0 |
| Perspective Aspect | 0 |
| Perspective Horizontal | 0 |
| Perspective Rotate | 0.0 |
| Perspective Scale | 100 |
| Perspective Upright | 0 |
| Perspective Vertical | 0 |
| Perspective X | 0.00 |
| Perspective Y | 0.00 |
| Post Crop Vignette Amount | 0 |
| Process Version | 10.0 |
| Rating | 3 |
| Raw File Name | IMG_4582.CR2 |
| Recommended Exposure Index | 400 |
| Red Hue | 0 |
| Red Saturation | 0 |
| Saturation | +10 |
| Saturation Adjustment Aqua | 0 |
| Saturation Adjustment Blue | +37 |
| Saturation Adjustment Green | 0 |
| Saturation Adjustment Magenta | +56 |
| Saturation Adjustment Orange | 0 |
| Saturation Adjustment Purple | +26 |
| Saturation Adjustment Red | 0 |
| Saturation Adjustment Yellow | 0 |
| Scale Factor To 35 mm Equivalent | 1.6 |
| Scene Capture Type | Standard |
| Sensitivity Type | Recommended Exposure Index |
| Shadow Tint | 0 |
| Shadows 2012 | +25 |
| Sharpen Detail | 25 |
| Sharpen Edge Masking | 0 |
| Sharpen Radius | +1.0 |
| Sharpness | 40 |
| Split Toning Balance | 0 |
| Split Toning Highlight Hue | 0 |
| Split Toning Highlight Saturation | 0 |
| Split Toning Shadow Hue | 0 |
| Split Toning Shadow Saturation | 0 |
| Subject | Blue, Botanical Gardens, Canary Islands, Canon, Colours, EOS80D, Flower, Flowers & plants, Garden, Jardin Botanico, Nature, Parks & Gardens, Puerto de la Cruz, Red, Spain, Tenerife, Water, Water Lily |
| Tint | +5 |
| Tone Curve | 0, 0, 255, 255 |
| Tone Curve Blue | 0, 0, 255, 255 |
| Tone Curve Green | 0, 0, 255, 255 |
| Tone Curve Name | Linear |
| Tone Curve Name 2012 | Linear |
| Tone Curve PV2012 | 0, 0, 255, 255 |
| Tone Curve PV2012 Blue | 0, 0, 255, 255 |
| Tone Curve PV2012 Green | 0, 0, 255, 255 |
| Tone Curve PV2012 Red | 0, 0, 255, 255 |
| Tone Curve Red | 0, 0, 255, 255 |
| Tone Map Strength | 0 |
| Version | 11.1 |
| Vibrance | +40 |
| Vignette Amount | 0 |
| White Balance | Auto |
| Whites 2012 | +10 |
X