Shooting information for this photo
| Camera: | Canon EOS 80D |
| Exposure: | 0.025 sec. (1/40) |
| Aperture: | f/11.0 |
| Focal Length: | 22.0 mm (35 mm equivalent: 38.8 mm) |
| Flash: | Off, Did not fire |
| Exposure mode: | Aperture-priority AE |
| Max Aperture: | 3.8 |
| Resolution: | 72 x 72 dpi |
| Original Date: | 2023:09:11 16:50:10.61 |
| Created on: | 2023:09:11 16:50:10.61 |
| Modified on: | 2024:02:03 18:18:51.61 |
| Software: | Adobe Photoshop Lightroom Classic 13.1 (Windows) |
| Already Applied | True |
| Approximate Focus Distance | 2.78 |
| Auto Lateral CA | 0 |
| Blacks 2012 | -19 |
| Blue Hue | 0 |
| Blue Saturation | 0 |
| Camera Profile | Embedded |
| Circle Of Confusion | 0.017 mm |
| City | Tewkesbury |
| Clarity 2012 | 0 |
| Color Grade Blending | 50 |
| Color Grade Global Hue | 0 |
| Color Grade Global Lum | 0 |
| Color Grade Global Sat | 0 |
| Color Grade Highlight Lum | 0 |
| Color Grade Midtone Hue | 0 |
| Color Grade Midtone Lum | 0 |
| Color Grade Midtone Sat | 0 |
| Color Grade Shadow Lum | 0 |
| Color Noise Reduction | 0 |
| Color Space | sRGB |
| Contrast 2012 | +7 |
| Convert To Grayscale | False |
| Country | United Kingdom |
| Country Code | GB |
| Crop Angle | 0 |
| Crop Bottom | 1 |
| Crop Constrain To Warp | 0 |
| Crop Left | 0 |
| Crop Right | 1 |
| Crop Top | 0 |
| Curve Refine Saturation | 100 |
| Custom Rendered | Normal |
| Date Created | 2023:09:11 16:50:10.061 |
| Defringe Green Amount | 0 |
| Defringe Green Hue Hi | 60 |
| Defringe Green Hue Lo | 40 |
| Defringe Purple Amount | 0 |
| Defringe Purple Hue Hi | 70 |
| Defringe Purple Hue Lo | 30 |
| Dehaze | 0 |
| Distortion Correction Already Applied | True |
| Exposure 2012 | +0.22 |
| Exposure Compensation | 0 |
| Exposure Mode | Auto |
| Field Of View | 49.8 deg |
| Firmware | 1.0.1 |
| Flash Compensation | 0 |
| Format | image/jpeg |
| Grain Amount | 0 |
| Green Hue | 0 |
| Green Saturation | 0 |
| HDR Edit Mode | 0 |
| Has Crop | False |
| Has Settings | True |
| Highlights 2012 | -26 |
| Hue Adjustment Aqua | 0 |
| Hue Adjustment Blue | 0 |
| Hue Adjustment Green | 0 |
| Hue Adjustment Magenta | 0 |
| Hue Adjustment Orange | 0 |
| Hue Adjustment Purple | 0 |
| Hue Adjustment Red | 0 |
| Hue Adjustment Yellow | 0 |
| Hyperfocal Distance | 2.58 m |
| ISO | 16000 |
| Image Number | 0 |
| Image Size | 3810x5388 |
| Incremental Temperature | 0 |
| Incremental Tint | 0 |
| Lateral Chromatic Aberration Correction Already Applied | True |
| Lens | 18-250mm |
| Lens ID | Sigma 18-250mm f/3.5-6.3 DC OS HSM |
| Lens Info | 18-250mm f/? |
| Lens Manual Distortion Amount | 0 |
| Lens Model | 18-250mm |
| Lens Profile Enable | 0 |
| Light Value | 4.9 |
| Luminance Adjustment Aqua | 0 |
| Luminance Adjustment Blue | 0 |
| Luminance Adjustment Green | 0 |
| Luminance Adjustment Magenta | 0 |
| Luminance Adjustment Orange | 0 |
| Luminance Adjustment Purple | 0 |
| Luminance Adjustment Red | 0 |
| Luminance Adjustment Yellow | 0 |
| Luminance Smoothing | 0 |
| Metering Mode | Multi-segment |
| Override Look Vignette | False |
| Parametric Darks | 0 |
| Parametric Highlight Split | 75 |
| Parametric Highlights | 0 |
| Parametric Lights | 0 |
| Parametric Midtone Split | 50 |
| Parametric Shadow Split | 25 |
| Parametric Shadows | 0 |
| Perspective Aspect | 0 |
| Perspective Horizontal | 0 |
| Perspective Rotate | 0.0 |
| Perspective Scale | 100 |
| Perspective Upright | 0 |
| Perspective Vertical | 0 |
| Perspective X | 0.00 |
| Perspective Y | 0.00 |
| Point Colors | -1.000000, -1.000000, -1.000000, -1.000000, -1.000000, -1.000000, -1.000000, -1.000000, -1.000000, -1.000000, -1.000000, -1.000000, -1.000000, -1.000000, -1.000000, -1.000000, -1.000000, -1.000000, -1.000000 |
| Post Crop Vignette Amount | 0 |
| Preserved File Name | IMG_0754.CR2 |
| Process Version | 15.4 |
| Rating | 3 |
| Raw File Name | Tewkesbury Abbey-15.tif |
| Recommended Exposure Index | 16000 |
| Red Hue | 0 |
| Red Saturation | 0 |
| Saturation | -1 |
| Saturation Adjustment Aqua | 0 |
| Saturation Adjustment Blue | 0 |
| Saturation Adjustment Green | 0 |
| Saturation Adjustment Magenta | 0 |
| Saturation Adjustment Orange | 0 |
| Saturation Adjustment Purple | 0 |
| Saturation Adjustment Red | 0 |
| Saturation Adjustment Yellow | 0 |
| Scale Factor To 35 mm Equivalent | 1.8 |
| Scene Capture Type | Standard |
| Sensitivity Type | Recommended Exposure Index |
| Shadow Tint | 0 |
| Shadows 2012 | +26 |
| Sharpness | 0 |
| Split Toning Balance | 0 |
| Split Toning Highlight Hue | 0 |
| Split Toning Highlight Saturation | 0 |
| Split Toning Shadow Hue | 0 |
| Split Toning Shadow Saturation | 0 |
| State | England |
| Subject | Abbey, Arches, Black and White, Canon, Church interior, EOS80D, England, Gloucestershire, Places of worship, Tewkesbury, UK |
| Texture | 0 |
| Tone Curve Name 2012 | Medium Contrast |
| Tone Curve PV2012 | 0, 0, 32, 22, 64, 56, 128, 128, 192, 196, 255, 255 |
| Tone Curve PV2012 Blue | 0, 0, 255, 255 |
| Tone Curve PV2012 Green | 0, 0, 255, 255 |
| Tone Curve PV2012 Red | 0, 0, 255, 255 |
| Version | 16.1 |
| Vibrance | +14 |
| Vignette Amount | 0 |
| Vignette Correction Already Applied | True |
| Weighted Flat Subject | UK, England, Gloucestershire, Tewkesbury, Abbey, Places of worship, Arches, Canon, EOS80D, Black and White, Church interior |
| White Balance | Auto |
| Whites 2012 | 0 |
GPS Information |
| GPS Latitude | 51 deg 59' 24.69" N |
| GPS Latitude Ref | North |
| GPS Longitude | 2 deg 9' 38.82" W |
| GPS Longitude Ref | West |
| GPS Position | 51 deg 59' 24.69" N, 2 deg 9' 38.82" W |
| GPS Version ID | 2.2.0.0 |
X