Shooting information for this photo
| Camera: | Canon EOS 80D |
| Exposure: | 0.00125 sec. (1/800) |
| Aperture: | f/11.0 |
| Focal Length: | 31.0 mm (35 mm equivalent: 67.2 mm) |
| Flash: | Off, Did not fire |
| Exposure mode: | Aperture-priority AE |
| Max Aperture: | 4.2 |
| Resolution: | 72 x 72 dpi |
| Original Date: | 2021:05:23 12:33:08.53 |
| Created on: | 2021:05:23 12:33:08 |
| Modified on: | 2022:02:22 12:39:01 |
| Software: | Adobe Photoshop Lightroom Classic 11.2 (Windows) |
| Already Applied | True |
| Approximate Focus Distance | 4294967295 |
| Auto Lateral CA | 0 |
| Blacks 2012 | 0 |
| Blue Hue | 0 |
| Blue Saturation | 0 |
| Camera Profile | Embedded |
| Circle Of Confusion | 0.014 mm |
| City | Nottingham |
| Clarity 2012 | 0 |
| Color Grade Blending | 50 |
| Color Grade Global Hue | 0 |
| Color Grade Global Lum | 0 |
| Color Grade Global Sat | 0 |
| Color Grade Highlight Lum | 0 |
| Color Grade Midtone Hue | 0 |
| Color Grade Midtone Lum | 0 |
| Color Grade Midtone Sat | 0 |
| Color Grade Shadow Lum | 0 |
| Color Noise Reduction | 0 |
| Color Space | sRGB |
| Contrast 2012 | 0 |
| Convert To Grayscale | False |
| Country | United Kingdom |
| Country Code | GB |
| Crop Angle | 0 |
| Crop Bottom | 1 |
| Crop Constrain To Warp | 0 |
| Crop Left | 0 |
| Crop Right | 1 |
| Crop Top | 0 |
| Custom Rendered | Normal |
| Date Created | 2021:05:23 12:33:08.053 |
| Defringe Green Amount | 0 |
| Defringe Green Hue Hi | 60 |
| Defringe Green Hue Lo | 40 |
| Defringe Purple Amount | 0 |
| Defringe Purple Hue Hi | 70 |
| Defringe Purple Hue Lo | 30 |
| Dehaze | 0 |
| Distortion Correction Already Applied | True |
| Exposure 2012 | 0.00 |
| Exposure Compensation | -1/3 |
| Exposure Mode | Auto bracket |
| Field Of View | 30.0 deg |
| Firmware | 1.0.1 |
| Flash Compensation | 0 |
| Format | image/jpeg |
| Grain Amount | 0 |
| Green Hue | 0 |
| Green Saturation | 0 |
| Has Crop | False |
| Has Settings | True |
| Highlights 2012 | -9 |
| Hue Adjustment Aqua | 0 |
| Hue Adjustment Blue | 0 |
| Hue Adjustment Green | 0 |
| Hue Adjustment Magenta | 0 |
| Hue Adjustment Orange | 0 |
| Hue Adjustment Purple | 0 |
| Hue Adjustment Red | 0 |
| Hue Adjustment Yellow | 0 |
| Hyperfocal Distance | 6.30 m |
| ISO | 400 |
| Image Number | 0 |
| Image Size | 4383x3099 |
| Incremental Temperature | 0 |
| Incremental Tint | 0 |
| Lateral Chromatic Aberration Correction Already Applied | True |
| Lens | 18-250mm |
| Lens ID | Sigma 18-250mm f/3.5-6.3 DC OS HSM |
| Lens Info | 18-250mm f/? |
| Lens Manual Distortion Amount | 0 |
| Lens Model | 18-250mm |
| Lens Profile Enable | 0 |
| Light Value | 14.6 |
| Luminance Adjustment Aqua | 0 |
| Luminance Adjustment Blue | 0 |
| Luminance Adjustment Green | 0 |
| Luminance Adjustment Magenta | 0 |
| Luminance Adjustment Orange | 0 |
| Luminance Adjustment Purple | 0 |
| Luminance Adjustment Red | 0 |
| Luminance Adjustment Yellow | 0 |
| Luminance Smoothing | 0 |
| Metering Mode | Multi-segment |
| Override Look Vignette | False |
| Parametric Darks | 0 |
| Parametric Highlight Split | 75 |
| Parametric Highlights | 0 |
| Parametric Lights | 0 |
| Parametric Midtone Split | 50 |
| Parametric Shadow Split | 25 |
| Parametric Shadows | 0 |
| Perspective Aspect | 0 |
| Perspective Horizontal | 0 |
| Perspective Rotate | 0.0 |
| Perspective Scale | 100 |
| Perspective Upright | 0 |
| Perspective Vertical | 0 |
| Perspective X | 0.00 |
| Perspective Y | 0.00 |
| Post Crop Vignette Amount | 0 |
| Preserved File Name | IMG_7489.CR2 |
| Process Version | 11.0 |
| Rating | 3 |
| Recommended Exposure Index | 400 |
| Red Hue | 0 |
| Red Saturation | 0 |
| Saturation | 0 |
| Saturation Adjustment Aqua | 0 |
| Saturation Adjustment Blue | 0 |
| Saturation Adjustment Green | 0 |
| Saturation Adjustment Magenta | 0 |
| Saturation Adjustment Orange | 0 |
| Saturation Adjustment Purple | 0 |
| Saturation Adjustment Red | 0 |
| Saturation Adjustment Yellow | 0 |
| Scale Factor To 35 mm Equivalent | 2.2 |
| Scene Capture Type | Standard |
| Sensitivity Type | Recommended Exposure Index |
| Shadow Tint | 0 |
| Shadows 2012 | 0 |
| Sharpness | 0 |
| Split Toning Balance | 0 |
| Split Toning Highlight Hue | 0 |
| Split Toning Highlight Saturation | 0 |
| Split Toning Shadow Hue | 0 |
| Split Toning Shadow Saturation | 0 |
| State | England |
| Subject | Architecture, Canon, EOS80D, East Midlands, Elizabethan, England, Houses, Houses & Gardens (non-NT), Nottingham, Old Buildings, Parks & Gardens, Tudor, UK, Wollaton |
| Texture | 0 |
| Tone Curve Name 2012 | Linear |
| Tone Curve PV2012 | 0, 0, 255, 255 |
| Tone Curve PV2012 Blue | 0, 0, 255, 255 |
| Tone Curve PV2012 Green | 0, 0, 255, 255 |
| Tone Curve PV2012 Red | 0, 0, 255, 255 |
| Version | 14.2 |
| Vibrance | 0 |
| Vignette Amount | 0 |
| Vignette Correction Already Applied | True |
| Weighted Flat Subject | UK, England, East Midlands, Nottingham, Wollaton, Canon, EOS80D, Architecture, Old Buildings, Tudor, Elizabethan, Parks & Gardens, Houses & Gardens (non-NT), Houses |
| White Balance | Auto |
| Whites 2012 | 0 |
GPS Information |
| GPS Latitude | 52 deg 56' 56.67" N |
| GPS Latitude Ref | North |
| GPS Longitude | 1 deg 12' 39.05" W |
| GPS Longitude Ref | West |
| GPS Position | 52 deg 56' 56.67" N, 1 deg 12' 39.05" W |
| GPS Version ID | 2.2.0.0 |
X