Shooting information for this photo
| Camera: | Canon EOS 80D |
| Exposure: | 0.00125 sec. (1/800) |
| Aperture: | f/9.0 |
| Focal Length: | 18.0 mm (35 mm equivalent: 35.2 mm) |
| Flash: | Off, Did not fire |
| Exposure mode: | Aperture-priority AE |
| Max Aperture: | 3.5 |
| Resolution: | 72 x 72 dpi |
| Dimension: | 4203 x 4203 pixels |
| Original Date: | 2025:03:14 11:18:19.12 |
| Created on: | 2025:03:14 11:18:19.12 |
| Modified on: | 2025:04:27 11:27:04.12 |
| Software: | Adobe Photoshop 26.4 (Windows) |
| Already Applied | True |
| Approximate Focus Distance | 4.19 |
| Auto Lateral CA | 0 |
| Blacks 2012 | +40 |
| Blue Hue | 0 |
| Blue Saturation | 0 |
| Camera Profile | Embedded |
| Circle Of Confusion | 0.015 mm |
| City | Harrogate |
| Clarity 2012 | +40 |
| Color Grade Blending | 50 |
| Color Grade Global Hue | 0 |
| Color Grade Global Lum | 0 |
| Color Grade Global Sat | 0 |
| Color Grade Highlight Lum | 0 |
| Color Grade Midtone Hue | 0 |
| Color Grade Midtone Lum | 0 |
| Color Grade Midtone Sat | 0 |
| Color Grade Shadow Lum | 0 |
| Color Mode | RGB |
| Color Noise Reduction | 0 |
| Color Space | sRGB |
| Compatible Version | 251854848 |
| Contrast 2012 | 0 |
| Country | United Kingdom |
| Country Code | GB |
| Crop Angle | 0 |
| Crop Bottom | 1 |
| Crop Constrain To Warp | 0 |
| Crop Left | 0 |
| Crop Right | 1 |
| Crop Top | 0 |
| Custom Rendered | Normal |
| Date Created | 2025:03:14 11:18:19.012 |
| Dehaze | 0 |
| Distortion Correction Already Applied | True |
| Exposure 2012 | 0.00 |
| Exposure Compensation | 0 |
| Exposure Mode | Auto bracket |
| Field Of View | 54.1 deg |
| Firmware | 1.0.1 |
| Flash Compensation | 0 |
| Format | image/jpeg |
| Good | true |
| Grain Amount | 0 |
| Gray Mixer Aqua | -16 |
| Gray Mixer Blue | +15 |
| Gray Mixer Green | -28 |
| Gray Mixer Magenta | +4 |
| Gray Mixer Orange | -21 |
| Gray Mixer Purple | +19 |
| Gray Mixer Red | -12 |
| Gray Mixer Yellow | -25 |
| Green Hue | 0 |
| Green Saturation | 0 |
| HDR Edit Mode | 0 |
| Has Crop | False |
| Has Settings | True |
| Highlights 2012 | 0 |
| Hyperfocal Distance | 2.34 m |
| ICC Profile Name | sRGB IEC61966-2.1 |
| ISO | 400 |
| Image Number | 0 |
| Image Size | 4203x4203 |
| Incremental Temperature | 0 |
| Incremental Tint | 0 |
| Lateral Chromatic Aberration Correction Already Applied | True |
| Lens | 18-250mm |
| Lens ID | Sigma 18-250mm f/3.5-6.3 DC OS HSM |
| Lens Info | 18-250mm f/? |
| Lens Manual Distortion Amount | 0 |
| Lens Model | 18-250mm |
| Lens Profile Enable | 0 |
| Light Value | 14.0 |
| Look Amount | 1.5 |
| Look Cluster | Adobe |
| Look Copyright | © 2018 Adobe Systems, Inc. |
| Look Group | B&W |
| Look Name | B&W 01 |
| Look Parameters Blacks 2012 | -10 |
| Look Parameters Clarity 2012 | +8 |
| Look Parameters Contrast 2012 | +33 |
| Look Parameters Convert To Grayscale | True |
| Look Parameters Highlights 2012 | -40 |
| Look Parameters Look Table | 62CE423BDCA099FE0B786CA01EB606 B0 |
| Look Parameters Process Version | 15.4 |
| Look Parameters Shadows 2012 | +45 |
| Look Parameters Tone Curve PV2012 | 0, 0, 17, 17, 34, 36, 51, 55, 68, 75, 85, 96, 102, 116, 119, 136, 136, 154, 153, 171, 170, 187, 187, 202, 204, 216, 221, 230, 238, 242, 255, 255 |
| Look Parameters Tone Curve PV2012 Blue | 0, 0, 255, 255 |
| Look Parameters Tone Curve PV2012 Green | 0, 0, 255, 255 |
| Look Parameters Tone Curve PV2012 Red | 0, 0, 255, 255 |
| Look Parameters Version | 17.1 |
| Look Sort Name | B&W 01 |
| Look Supports Monochrome | false |
| Luminance Smoothing | 0 |
| Metering Mode | Spot |
| Override Look Vignette | False |
| Parametric Darks | 0 |
| Parametric Highlight Split | 75 |
| Parametric Highlights | 0 |
| Parametric Lights | 0 |
| Parametric Midtone Split | 50 |
| Parametric Shadow Split | 25 |
| Parametric Shadows | 0 |
| Perspective Aspect | 0 |
| Perspective Horizontal | 0 |
| Perspective Rotate | 0.0 |
| Perspective Scale | 100 |
| Perspective Upright | 0 |
| Perspective Vertical | 0 |
| Perspective X | 0.00 |
| Perspective Y | 0.00 |
| Photometric Interpretation | RGB |
| Pick | 1 |
| Point Colors | -1.000000, -1.000000, -1.000000, -1.000000, -1.000000, -1.000000, -1.000000, -1.000000, -1.000000, -1.000000, -1.000000, -1.000000, -1.000000, -1.000000, -1.000000, -1.000000, -1.000000, -1.000000, -1.000000 |
| Post Crop Vignette Amount | 0 |
| Preserved File Name | IMG_3476.CR2 |
| Process Version | 15.4 |
| Rating | 3 |
| Raw File Name | Tree at Rudding Hall-1.tif |
| Recommended Exposure Index | 400 |
| Red Hue | 0 |
| Red Saturation | 0 |
| Samples Per Pixel | 3 |
| Scale Factor To 35 mm Equivalent | 2.0 |
| Scene Capture Type | Standard |
| Sensitivity Type | Recommended Exposure Index |
| Shadow Tint | 0 |
| Shadows 2012 | 0 |
| Sharpness | 0 |
| Split Toning Balance | 0 |
| Split Toning Highlight Hue | 0 |
| Split Toning Highlight Saturation | 0 |
| Split Toning Shadow Hue | 0 |
| Split Toning Shadow Saturation | 0 |
| State | England |
| Subject | Black and White, Canon, EOS80D, England, Harrogate, Landscape, Monochrome, Nature, Rudding Hall, Sky, Tree, Tree without leaves, Trees & plants, UK, Yorkshire |
| Texture | 0 |
| Tone Curve Name 2012 | Linear |
| Tone Curve PV2012 | 0, 0, 255, 255 |
| Tone Curve PV2012 Blue | 0, 0, 255, 255 |
| Tone Curve PV2012 Green | 0, 0, 255, 255 |
| Tone Curve PV2012 Red | 0, 0, 255, 255 |
| Version | 17.1 |
| Vignette Amount | 0 |
| Vignette Correction Already Applied | True |
| Weighted Flat Subject | UK, England, Yorkshire, Canon, EOS80D, Harrogate, Rudding Hall, Black and White, Landscape, Monochrome, Nature, Sky, Trees & plants, Tree, Tree without leaves |
| White Balance | Auto |
| Whites 2012 | +11 |
GPS Information |
| GPS Latitude | 53 deg 58' 26.11" N |
| GPS Latitude Ref | North |
| GPS Longitude | 1 deg 29' 33.85" W |
| GPS Longitude Ref | West |
| GPS Position | 53 deg 58' 26.11" N, 1 deg 29' 33.85" W |
| GPS Version ID | 2.2.0.0 |
X