Shooting information for this photo
| Camera: | SONY ILCE-7C |
| Exposure: | 0.0005 sec. (1/2000) |
| Aperture: | f/9.0 |
| Focal Length: | 60.0 mm (35 mm equivalent: 60.0 mm) |
| Flash: | Off, Did not fire |
| Exposure mode: | Aperture-priority AE |
| Max Aperture: | 5.6 |
| Resolution: | 240 x 240 dpi |
| Original Date: | 2022:11:28 07:15:39.222 |
| Created on: | 2022:11:28 07:15:39.222 |
| Modified on: | 2022:12:11 09:11:37 |
| Software: | Adobe Photoshop Lightroom Classic 12.0.1 (Macintosh) |
| Copyright: | Brian Foster Allen |
| Already Applied | True |
| Artist | Brian Foster Allen |
| Auto Lateral CA | 0 |
| Blacks 2012 | +88 |
| Blue Hue | 0 |
| Blue Saturation | 0 |
| Brightness Value | 11.196875 |
| Camera Profile | Adobe Standard |
| Circle Of Confusion | 0.030 mm |
| City | Tahiti |
| Clarity 2012 | +1 |
| Color Grade Blending | 50 |
| Color Grade Global Hue | 0 |
| Color Grade Global Lum | 0 |
| Color Grade Global Sat | 0 |
| Color Grade Highlight Lum | 0 |
| Color Grade Midtone Hue | 0 |
| Color Grade Midtone Lum | 0 |
| Color Grade Midtone Sat | 0 |
| Color Grade Shadow Lum | 0 |
| Color Noise Reduction | 25 |
| Color Noise Reduction Detail | 50 |
| Color Noise Reduction Smoothness | 50 |
| Color Space | sRGB |
| Color Temperature | 6500 |
| Contrast | Low |
| Contrast 2012 | +43 |
| Country | French Polynesia |
| Country Code | PF |
| Creator | Brian Foster Allen |
| Crop Angle | 0 |
| Crop Bottom | 0.941353 |
| Crop Constrain To Warp | 0 |
| Crop Left | 0.126389 |
| Crop Right | 0.860895 |
| Crop Top | 0.286796 |
| Custom Rendered | Normal |
| Date Created | 2022:11:28 07:15:39.222-10:00 |
| Dehaze | +11 |
| Digital Zoom Ratio | 1 |
| Distortion Correction Already Applied | True |
| Exposure 2012 | +1.30 |
| Exposure Compensation | -1 |
| Exposure Mode | Auto |
| Field Of View | 33.4 deg |
| Focal Length In 35mm Format | 60 mm |
| Format | image/jpeg |
| Grain Amount | 0 |
| Gray Mixer Aqua | 0 |
| Gray Mixer Blue | 0 |
| Gray Mixer Green | 0 |
| Gray Mixer Magenta | 0 |
| Gray Mixer Orange | 0 |
| Gray Mixer Purple | 0 |
| Gray Mixer Red | 0 |
| Gray Mixer Yellow | 0 |
| Green Hue | 0 |
| Green Saturation | 0 |
| Has Crop | True |
| Has Settings | True |
| Highlights 2012 | +17 |
| Hyperfocal Distance | 13.31 m |
| ISO | 100 |
| Image Size | 2000x1188 |
| Lateral Chromatic Aberration Correction Already Applied | True |
| Lens | FE 28-60mm F4-5.6 |
| Lens Distort Info | 32815/32768 -6096598/1073741824 3259381/1073741824 106169/1073741824 |
| Lens Info | 28-60mm f/4-5.6 |
| Lens Manual Distortion Amount | 0 |
| Lens Model | FE 28-60mm F4-5.6 |
| Lens Profile Distortion Scale | 100 |
| Lens Profile Enable | 1 |
| Lens Profile Filename | SONY (Sony FE 28-60mm F4-5.6) - RAW.lcp |
| Lens Profile Is Embedded | False |
| Lens Profile Name | Adobe (Sony FE 28-60mm F4-5.6) |
| Lens Profile Setup | LensDefaults |
| Lens Profile Vignetting Scale | 100 |
| Light Source | Unknown |
| Light Value | 17.3 |
| Location | Rt 6 |
| Look Amount | 1 |
| Look Group | Profiles |
| Look Name | Adobe Monochrome |
| Look Parameters Camera Profile | Adobe Standard |
| Look Parameters Clarity 2012 | +8 |
| Look Parameters Convert To Grayscale | True |
| Look Parameters Look Table | 73ED6C18DDE909DD7EA2D771F5AC28 2D |
| Look Parameters Process Version | 11.0 |
| Look Parameters Tone Curve PV2012 | 0, 0, 64, 56, 128, 128, 192, 197, 255, 255 |
| Look Parameters Tone Curve PV2012 Blue | 0, 0, 255, 255 |
| Look Parameters Tone Curve PV2012 Green | 0, 0, 255, 255 |
| Look Parameters Tone Curve PV2012 Red | 0, 0, 255, 255 |
| Look Parameters Version | 15.0 |
| Look Supports Amount | false |
| Look Supports Monochrome | false |
| Look Supports Output Referred | false |
| Luminance Smoothing | 0 |
| Metering Mode | Other |
| Override Look Vignette | False |
| Parametric Darks | 0 |
| Parametric Highlight Split | 75 |
| Parametric Highlights | 0 |
| Parametric Lights | 0 |
| Parametric Midtone Split | 50 |
| Parametric Shadow Split | 25 |
| Parametric Shadows | 0 |
| Perspective Aspect | 0 |
| Perspective Horizontal | 0 |
| Perspective Rotate | 0.0 |
| Perspective Scale | 100 |
| Perspective Upright | 0 |
| Perspective Vertical | 0 |
| Perspective X | 0.00 |
| Perspective Y | 0.00 |
| Post Crop Vignette Amount | 0 |
| Preserved File Name | _DSC0723.ARW |
| Process Version | 11.0 |
| Raw File Name | _DSC0723.ARW |
| Recommended Exposure Index | 100 |
| Red Hue | 0 |
| Red Saturation | 0 |
| Rights | Brian Foster Allen |
| Saturation | Normal |
| Scale Factor To 35 mm Equivalent | 1.0 |
| Scene Capture Type | Standard |
| Scene Type | Directly photographed |
| Sensitivity Type | Recommended Exposure Index |
| Shadow Tint | 0 |
| Shadows 2012 | -46 |
| Sharpen Detail | 25 |
| Sharpen Edge Masking | 0 |
| Sharpen Radius | +1.0 |
| Sharpness | Normal |
| Split Toning Balance | 0 |
| Split Toning Highlight Hue | 0 |
| Split Toning Highlight Saturation | 0 |
| Split Toning Shadow Hue | 0 |
| Split Toning Shadow Saturation | 0 |
| State | Windward Islands |
| Texture | 0 |
| Tint | +10 |
| Title | Moorea from Tahiti in the morning |
| Tone Curve Name 2012 | Linear |
| Tone Curve PV2012 | 0, 0, 255, 255 |
| Tone Curve PV2012 Blue | 0, 0, 255, 255 |
| Tone Curve PV2012 Green | 0, 0, 255, 255 |
| Tone Curve PV2012 Red | 0, 0, 255, 255 |
| Version | 15.0 |
| Vignette Amount | 0 |
| Vignette Correction Already Applied | True |
| White Balance | Auto |
| Whites 2012 | -15 |
GPS Information |
| GPS Date Stamp | 2022:11:28 |
| GPS Date/Time | 2022:11:28 17:15:40Z |
| GPS Differential | No Correction |
| GPS Latitude | 17 deg 32' 25.45" S |
| GPS Latitude Ref | South |
| GPS Longitude | 149 deg 34' 19.87" W |
| GPS Longitude Ref | West |
| GPS Map Datum | WGS-84 |
| GPS Measure Mode | 2-Dimensional Measurement |
| GPS Position | 17 deg 32' 25.45" S, 149 deg 34' 19.87" W |
| GPS Status | Measurement Active |
| GPS Time Stamp | 17:15:40 |
| GPS Version ID | 2.3.0.0 |
X