Shooting information for this photo
| Camera: | Canon EOS 7D Mark II |
| Exposure: | 0.00016 sec. (1/6400) |
| Aperture: | f/5.0 |
| Focal Length: | 24.0 mm (35 mm equivalent: 70.3 mm) |
| Flash: | Off, Did not fire |
| Exposure mode: | Manual |
| Max Aperture: | 4.0 |
| Resolution: | 300 x 300 dpi |
| Dimension: | 2000 x 3000 pixels |
| Original Date: | 2025:06:24 14:30:01.00 |
| Created on: | 2025:06:24 14:30:01.00 |
| Modified on: | 2025:07:16 10:36:20.00 |
| Software: | Adobe Photoshop 26.8 (Macintosh) |
| Copyright: | Corinne Pommerell |
| Already Applied | True |
| Approximate Focus Distance | 3.39 |
| Artist | Corinne Pommerell |
| Auto Lateral CA | 0 |
| Blacks 2012 | +55 |
| Blue Hue | 0 |
| Blue Saturation | 0 |
| Camera Profile | Adobe Standard |
| Circle Of Confusion | 0.010 mm |
| Clarity 2012 | +14 |
| Color Grade Blending | 50 |
| Color Grade Global Hue | 0 |
| Color Grade Global Lum | 0 |
| Color Grade Global Sat | 0 |
| Color Grade Highlight Lum | -46 |
| Color Grade Midtone Hue | 0 |
| Color Grade Midtone Lum | +38 |
| Color Grade Midtone Sat | 0 |
| Color Grade Shadow Lum | +18 |
| Color Mode | RGB |
| Color Noise Reduction | 25 |
| Color Noise Reduction Detail | 50 |
| Color Noise Reduction Smoothness | 50 |
| Color Space | Uncalibrated |
| Color Temperature | 5650 |
| Color Variance | -50.000000 |
| Contrast 2012 | +10 |
| Creator | Corinne Pommerell |
| Custom Rendered | Normal |
| Date Created | 2025:06:24 14:30:01 |
| Defringe Green Amount | 0 |
| Defringe Green Hue Hi | 60 |
| Defringe Green Hue Lo | 40 |
| Defringe Purple Amount | 0 |
| Defringe Purple Hue Hi | 70 |
| Defringe Purple Hue Lo | 30 |
| Dehaze | +17 |
| Exposure 2012 | +2.60 |
| Exposure Compensation | 0 |
| Exposure Mode | Manual |
| Field Of View | 28.7 deg |
| Firmware | 1.1.2 |
| Flash Compensation | 0 |
| Format | image/jpeg |
| Grain Amount | 0 |
| Green Hue | 0 |
| Green Saturation | 0 |
| HDR Edit Mode | 0 |
| Has Crop | False |
| Has Settings | True |
| Highlights 2012 | -47 |
| Hue Adjustment Aqua | 0 |
| Hue Adjustment Blue | 0 |
| Hue Adjustment Green | 0 |
| Hue Adjustment Magenta | 0 |
| Hue Adjustment Orange | 0 |
| Hue Adjustment Purple | 0 |
| Hue Adjustment Red | 0 |
| Hue Adjustment Yellow | 0 |
| Hyperfocal Distance | 11.22 m |
| ICC Profile Name | Display P3 |
| ISO | 200 |
| Image Number | 0 |
| Image Size | 2000x3000 |
| Lens | EF24-105mm f/4L IS USM |
| Lens ID | Canon EF 24-105mm f/4L IS |
| Lens Info | 24-105mm f/? |
| Lens Manual Distortion Amount | 0 |
| Lens Model | EF24-105mm f/4L IS USM |
| Lens Profile Enable | 0 |
| Light Value | 16.3 |
| Look Amount | 1 |
| Look Copyright | © 2018 Adobe Systems, Inc. |
| Look Group | Profiles |
| Look Name | Adobe Color |
| Look Parameters Camera Profile | Adobe Standard |
| Look Parameters Convert To Grayscale | False |
| Look Parameters Look Table | E1095149FDB39D7A057BAB208837E2 E1 |
| Look Parameters Process Version | 15.4 |
| Look Parameters Tone Curve PV2012 | 0, 0, 22, 16, 40, 35, 127, 127, 224, 230, 240, 246, 255, 255 |
| Look Parameters Tone Curve PV2012 Blue | 0, 0, 255, 255 |
| Look Parameters Tone Curve PV2012 Green | 0, 0, 255, 255 |
| Look Parameters Tone Curve PV2012 Red | 0, 0, 255, 255 |
| Look Parameters Version | 17.4.1 |
| Look Supports Amount | false |
| Look Supports Monochrome | false |
| Look Supports Output Referred | false |
| Luminance Adjustment Aqua | 0 |
| Luminance Adjustment Blue | 0 |
| Luminance Adjustment Green | 0 |
| Luminance Adjustment Magenta | 0 |
| Luminance Adjustment Orange | 0 |
| Luminance Adjustment Purple | 0 |
| Luminance Adjustment Red | 0 |
| Luminance Adjustment Yellow | 0 |
| Luminance Smoothing | 0 |
| Metering Mode | Spot |
| Override Look Vignette | False |
| Owner Name | Corinne Pommerell |
| Parametric Darks | 0 |
| Parametric Highlight Split | 75 |
| Parametric Highlights | 0 |
| Parametric Lights | 0 |
| Parametric Midtone Split | 50 |
| Parametric Shadow Split | 25 |
| Parametric Shadows | 0 |
| Perspective Aspect | 0 |
| Perspective Horizontal | 0 |
| Perspective Rotate | 0.0 |
| Perspective Scale | 100 |
| Perspective Upright | 0 |
| Perspective Vertical | 0 |
| Perspective X | 0.00 |
| Perspective Y | 0.00 |
| Point Colors | -1.000000, -1.000000, -1.000000, -1.000000, -1.000000, -1.000000, -1.000000, -1.000000, -1.000000, -1.000000, -1.000000, -1.000000, -1.000000, -1.000000, -1.000000, -1.000000, -1.000000, -1.000000, -1.000000 |
| Post Crop Vignette Amount | 0 |
| Process Version | 15.4 |
| Rating | 4 |
| Recommended Exposure Index | 200 |
| Red Hue | 0 |
| Red Saturation | 0 |
| Rights | Corinne Pommerell |
| Saturation | 0 |
| Saturation Adjustment Aqua | 0 |
| Saturation Adjustment Blue | 0 |
| Saturation Adjustment Green | 0 |
| Saturation Adjustment Magenta | 0 |
| Saturation Adjustment Orange | 0 |
| Saturation Adjustment Purple | 0 |
| Saturation Adjustment Red | 0 |
| Saturation Adjustment Yellow | 0 |
| Scale Factor To 35 mm Equivalent | 2.9 |
| Scene Capture Type | Standard |
| Sensitivity Type | Recommended Exposure Index |
| Shadow Tint | 0 |
| Shadows 2012 | -2 |
| Sharpen Detail | 25 |
| Sharpen Edge Masking | 0 |
| Sharpen Radius | +1.0 |
| Sharpness | 40 |
| Split Toning Balance | 0 |
| Split Toning Highlight Hue | 0 |
| Split Toning Highlight Saturation | 0 |
| Split Toning Shadow Hue | 0 |
| Split Toning Shadow Saturation | 0 |
| Texture | +18 |
| Tint | +12 |
| Tone Curve Name 2012 | Linear |
| Tone Curve PV2012 | 0, 0, 255, 255 |
| Tone Curve PV2012 Blue | 0, 0, 255, 255 |
| Tone Curve PV2012 Green | 0, 0, 255, 255 |
| Tone Curve PV2012 Red | 0, 0, 255, 255 |
| Version | 17.4.1 |
| Vibrance | 0 |
| Vignette Amount | 0 |
| White Balance | Auto |
| Whites 2012 | +31 |
GPS Information |
| GPS Altitude | 2 m Below Sea Level |
| GPS Altitude Ref | Below Sea Level |
| GPS Date Stamp | 2025:06:24 |
| GPS Date/Time | 2025:06:24 12:27:52.102Z |
| GPS Dest Bearing Ref | Unknown () |
| GPS Dilution Of Precision | 2 |
| GPS Img Direction Ref | Magnetic North |
| GPS Latitude | 70 deg 51' 29.59" N |
| GPS Latitude Ref | North |
| GPS Longitude | 29 deg 5' 55.21" E |
| GPS Longitude Ref | East |
| GPS Map Datum | WGS-84 |
| GPS Measure Mode | 3-Dimensional Measurement |
| GPS Position | 70 deg 51' 29.59" N, 29 deg 5' 55.21" E |
| GPS Satellites | 24 |
| GPS Status | Measurement Active |
| GPS Time Stamp | 12:27:52.102 |
| GPS Version ID | 2.3.0.0 |
X