Shooting information for this photo
| Camera: | Google Pixel 8 |
| Exposure: | 0.02 sec. (1/50) |
| Aperture: | f/1.7 |
| Focal Length: | 6.9 mm (35 mm equivalent: 49.0 mm) |
| Flash: | Off, Did not fire |
| Exposure mode: | Program AE |
| Max Aperture: | 1.7 |
| Resolution: | 240 x 240 dpi |
| Original Date: | 2024:11:22 18:56:15.439 |
| Created on: | 2024:11:22 18:56:15.439 |
| Modified on: | 2024:11:26 20:45:12 |
| Software: | Adobe Lightroom 8.0 (Windows) |
| Already Applied | True |
| Approximate Focus Distance | 161.308 |
| Auto Lateral CA | 0 |
| Blacks 2012 | 0 |
| Blue Hue | 0 |
| Blue Saturation | 0 |
| Brightness | +50 |
| Brightness Value | 0.56 |
| Camera Profile | Embedded |
| Circle Of Confusion | 0.004 mm |
| City | London |
| Clarity 2012 | 0 |
| Color Grade Blending | 50 |
| Color Grade Global Hue | 0 |
| Color Grade Global Lum | 0 |
| Color Grade Global Sat | 0 |
| Color Grade Highlight Lum | -16 |
| Color Grade Midtone Hue | 0 |
| Color Grade Midtone Lum | -26 |
| Color Grade Midtone Sat | 0 |
| Color Grade Shadow Lum | -26 |
| Color Noise Reduction | 0 |
| Color Space | sRGB |
| Contrast | Normal |
| Contrast 2012 | +6 |
| Convert To Grayscale | False |
| Country | United Kingdom |
| Crop Angle | 0 |
| Crop Bottom | 1 |
| Crop Constrain To Warp | 0 |
| Crop Left | 0 |
| Crop Right | 1 |
| Crop Top | 0 |
| Custom Rendered | Custom |
| Date Created | 2024:11:22 18:56:15.439+00:00 |
| Defringe Green Amount | 0 |
| Defringe Green Hue Hi | 60 |
| Defringe Green Hue Lo | 40 |
| Defringe Purple Amount | 0 |
| Defringe Purple Hue Hi | 70 |
| Defringe Purple Hue Lo | 30 |
| Dehaze | 0 |
| Depth Of Field | inf (6.36 m - inf) |
| Digital Zoom Ratio | 0 |
| Exposure 2012 | 0.00 |
| Exposure Compensation | 0 |
| Exposure Mode | Auto |
| Field Of View | 40.3 deg |
| Focal Length In 35mm Format | 49 mm |
| Format | image/jpeg |
| Grain Amount | 0 |
| Green Hue | 0 |
| Green Saturation | 0 |
| HDR Edit Mode | 0 |
| Has Crop | False |
| Has Extended XMP | 367B83B3E42E2C0CDB45A70D29D9EF 0E |
| Has Settings | True |
| Highlights 2012 | +15 |
| Hue Adjustment Aqua | 0 |
| Hue Adjustment Blue | 0 |
| Hue Adjustment Green | 0 |
| Hue Adjustment Magenta | 0 |
| Hue Adjustment Orange | 0 |
| Hue Adjustment Purple | 0 |
| Hue Adjustment Red | 0 |
| Hue Adjustment Yellow | 0 |
| Hyperfocal Distance | 6.62 m |
| ISO | 299 |
| Image Size | 1542x2048 |
| Incremental Temperature | 0 |
| Incremental Tint | 0 |
| Lens | Pixel 8 back camera 6.9mm f/1.68 |
| Lens Make | |
| Lens Manual Distortion Amount | 0 |
| Lens Model | Pixel 8 back camera 6.9mm f/1.68 |
| Lens Profile Enable | 0 |
| Light Value | 5.6 |
| Luminance Adjustment Aqua | 0 |
| Luminance Adjustment Blue | 0 |
| Luminance Adjustment Green | 0 |
| Luminance Adjustment Magenta | 0 |
| Luminance Adjustment Orange | 0 |
| Luminance Adjustment Purple | 0 |
| Luminance Adjustment Red | 0 |
| Luminance Adjustment Yellow | 0 |
| Luminance Smoothing | 0 |
| Metering Mode | Center-weighted average |
| Override Look Vignette | False |
| Parametric Darks | 0 |
| Parametric Highlight Split | 75 |
| Parametric Highlights | 0 |
| Parametric Lights | 0 |
| Parametric Midtone Split | 50 |
| Parametric Shadow Split | 25 |
| Parametric Shadows | 0 |
| Perspective Aspect | 0 |
| Perspective Horizontal | 0 |
| Perspective Rotate | 0.0 |
| Perspective Scale | 100 |
| Perspective Upright | 0 |
| Perspective Vertical | 0 |
| Perspective X | 0.00 |
| Perspective Y | 0.00 |
| Point Colors | -1.000000, -1.000000, -1.000000, -1.000000, -1.000000, -1.000000, -1.000000, -1.000000, -1.000000, -1.000000, -1.000000, -1.000000, -1.000000, -1.000000, -1.000000, -1.000000, -1.000000, -1.000000, -1.000000 |
| Post Crop Vignette Amount | 0 |
| Process Version | 15.4 |
| Raw File Name | PXL_20241122_185615439.jpg |
| Red Hue | 0 |
| Red Saturation | 0 |
| Saturation | Normal |
| Saturation Adjustment Aqua | 0 |
| Saturation Adjustment Blue | 0 |
| Saturation Adjustment Green | 0 |
| Saturation Adjustment Magenta | 0 |
| Saturation Adjustment Orange | 0 |
| Saturation Adjustment Purple | 0 |
| Saturation Adjustment Red | 0 |
| Saturation Adjustment Yellow | 0 |
| Scale Factor To 35 mm Equivalent | 7.1 |
| Scene Capture Type | Standard |
| Scene Type | Directly photographed |
| Sensing Method | One-chip color area |
| Shadow Tint | 0 |
| Shadows | 5 |
| Shadows 2012 | -9 |
| Sharpness | Normal |
| Split Toning Balance | 0 |
| Split Toning Highlight Hue | 0 |
| Split Toning Highlight Saturation | 0 |
| Split Toning Shadow Hue | 0 |
| Split Toning Shadow Saturation | 0 |
| State | England |
| Subject Distance | 161.308 m |
| Subject Distance Range | Distant |
| Texture | 0 |
| Tone Curve Name 2012 | Linear |
| Tone Curve PV2012 | 0, 0, 255, 255 |
| Tone Curve PV2012 Blue | 0, 0, 255, 255 |
| Tone Curve PV2012 Green | 0, 0, 255, 255 |
| Tone Curve PV2012 Red | 0, 0, 255, 255 |
| Version | 17.0 |
| Vibrance | 0 |
| Vignette Amount | 0 |
| White Balance | Auto |
| Whites 2012 | +6 |
GPS Information |
| GPS Altitude | 68.4 m |
| GPS Date Stamp | 2024:11:22 |
| GPS Date/Time | 2024:11:22 18:56:01Z |
| GPS Latitude | 51 deg 30' 42.11" N |
| GPS Latitude Ref | North |
| GPS Longitude | 0 deg 7' 23.11" W |
| GPS Longitude Ref | West |
| GPS Position | 51 deg 30' 42.11" N, 0 deg 7' 23.11" W |
| GPS Time Stamp | 18:56:01 |
| GPS Version ID | 2.2.0.0 |
X