Shooting information for this photo
| Camera: | FUJIFILM X100T |
| Exposure: | 0.01 sec. (1/100) |
| Aperture: | f/8.0 |
| Focal Length: | 23.0 mm (35 mm equivalent: 84.2 mm) |
| Flash: | Off, Did not fire |
| Exposure mode: | Aperture-priority AE |
| Max Aperture: | 2.0 |
| Resolution: | 240 x 240 dpi |
| Original Date: | 2024:11:23 11:16:47 |
| Created on: | 2024:11:23 11:16:47 |
| Modified on: | 2024:11:25 21:35:49 |
| Software: | Adobe Lightroom 8.0 (Windows) |
| Already Applied | True |
| Auto Lateral CA | 1 |
| Blacks 2012 | -16 |
| Blue Hue | 0 |
| Blue Saturation | 0 |
| Brightness Value | 6.94 |
| Camera Profile | Adobe Standard |
| Circle Of Confusion | 0.008 mm |
| Clarity 2012 | 0 |
| Color Grade Blending | 50 |
| Color Grade Global Hue | 0 |
| Color Grade Global Lum | 0 |
| Color Grade Global Sat | 0 |
| Color Grade Highlight Lum | -26 |
| Color Grade Midtone Hue | 0 |
| Color Grade Midtone Lum | -23 |
| Color Grade Midtone Sat | 0 |
| Color Grade Shadow Lum | +7 |
| Color Noise Reduction | 25 |
| Color Noise Reduction Detail | 50 |
| Color Noise Reduction Smoothness | 50 |
| Color Space | sRGB |
| Color Temperature | 5550 |
| Contrast 2012 | +8 |
| Crop Angle | 0 |
| Crop Bottom | 1 |
| Crop Constrain To Warp | 0 |
| Crop Left | 0 |
| Crop Right | 1 |
| Crop Top | 0 |
| Custom Rendered | Normal |
| Date Created | 2024:11:23 11:16:47 |
| Defringe Green Amount | 0 |
| Defringe Green Hue Hi | 60 |
| Defringe Green Hue Lo | 40 |
| Defringe Purple Amount | 0 |
| Defringe Purple Hue Hi | 70 |
| Defringe Purple Hue Lo | 30 |
| Dehaze | -10 |
| Exposure 2012 | -0.09 |
| Exposure Compensation | 0 |
| Exposure Mode | Auto |
| Field Of View | 24.1 deg |
| Format | image/jpeg |
| Fuji Rating Already Applied | True |
| Grain Amount | 0 |
| Gray Mixer Aqua | 0 |
| Gray Mixer Blue | 0 |
| Gray Mixer Green | 0 |
| Gray Mixer Magenta | 0 |
| Gray Mixer Orange | 0 |
| Gray Mixer Purple | 0 |
| Gray Mixer Red | 0 |
| Gray Mixer Yellow | 0 |
| Green Hue | 0 |
| Green Saturation | 0 |
| HDR Edit Mode | 0 |
| Has Crop | False |
| Has Settings | True |
| Highlights 2012 | -84 |
| Hue Adjustment Aqua | 0 |
| Hue Adjustment Blue | 0 |
| Hue Adjustment Green | 0 |
| Hue Adjustment Magenta | 0 |
| Hue Adjustment Orange | 0 |
| Hue Adjustment Purple | 0 |
| Hue Adjustment Red | 0 |
| Hue Adjustment Yellow | 0 |
| Hyperfocal Distance | 8.06 m |
| ISO | 320 |
| Image Size | 1365x2048 |
| Lateral Chromatic Aberration Correction Already Applied | True |
| Lens Manual Distortion Amount | 0 |
| Lens Profile Enable | 0 |
| Light Source | Unknown |
| Light Value | 11.0 |
| Look Amount | 1 |
| Look Group | Profiles |
| Look Name | Adobe Monochrome |
| Look Parameters Camera Profile | Adobe Standard |
| Look Parameters Clarity 2012 | +8 |
| Look Parameters Convert To Grayscale | True |
| Look Parameters Look Table | 73ED6C18DDE909DD7EA2D771F5AC28 2D |
| Look Parameters Process Version | 15.4 |
| Look Parameters Tone Curve PV2012 | 0, 0, 64, 56, 128, 128, 192, 197, 255, 255 |
| Look Parameters Tone Curve PV2012 Blue | 0, 0, 255, 255 |
| Look Parameters Tone Curve PV2012 Green | 0, 0, 255, 255 |
| Look Parameters Tone Curve PV2012 Red | 0, 0, 255, 255 |
| Look Parameters Version | 17.0 |
| Look Supports Amount | false |
| Look Supports Monochrome | false |
| Look Supports Output Referred | false |
| Luminance Adjustment Aqua | 0 |
| Luminance Adjustment Blue | 0 |
| Luminance Adjustment Green | 0 |
| Luminance Adjustment Magenta | 0 |
| Luminance Adjustment Orange | 0 |
| Luminance Adjustment Purple | 0 |
| Luminance Adjustment Red | 0 |
| Luminance Adjustment Yellow | 0 |
| Luminance Smoothing | 0 |
| Metering Mode | Multi-segment |
| Override Look Vignette | False |
| Parametric Darks | 0 |
| Parametric Highlight Split | 75 |
| Parametric Highlights | 0 |
| Parametric Lights | 0 |
| Parametric Midtone Split | 50 |
| Parametric Shadow Split | 25 |
| Parametric Shadows | 0 |
| Perspective Aspect | 0 |
| Perspective Horizontal | 0 |
| Perspective Rotate | 0.0 |
| Perspective Scale | 100 |
| Perspective Upright | 0 |
| Perspective Vertical | 0 |
| Perspective X | 0.00 |
| Perspective Y | 0.00 |
| Point Colors | -1.000000, -1.000000, -1.000000, -1.000000, -1.000000, -1.000000, -1.000000, -1.000000, -1.000000, -1.000000, -1.000000, -1.000000, -1.000000, -1.000000, -1.000000, -1.000000, -1.000000, -1.000000, -1.000000 |
| Post Crop Vignette Amount | -11 |
| Post Crop Vignette Feather | 50 |
| Post Crop Vignette Highlight Contrast | 0 |
| Post Crop Vignette Midpoint | 50 |
| Post Crop Vignette Roundness | 0 |
| Post Crop Vignette Style | 1 |
| Process Version | 15.4 |
| Raw File Name | DSCF2227.RAF |
| Red Hue | 0 |
| Red Saturation | 0 |
| Saturation | +7 |
| Saturation Adjustment Aqua | 0 |
| Saturation Adjustment Blue | 0 |
| Saturation Adjustment Green | 0 |
| Saturation Adjustment Magenta | 0 |
| Saturation Adjustment Orange | 0 |
| Saturation Adjustment Purple | 0 |
| Saturation Adjustment Red | 0 |
| Saturation Adjustment Yellow | 0 |
| Scale Factor To 35 mm Equivalent | 3.7 |
| Scene Capture Type | Standard |
| Scene Type | Directly photographed |
| Sensing Method | One-chip color area |
| Sensitivity Type | Standard Output Sensitivity |
| Shadow Tint | 0 |
| Shadows 2012 | +62 |
| Sharpen Detail | 25 |
| Sharpen Edge Masking | 0 |
| Sharpen Radius | +1.0 |
| Sharpness | Normal |
| Split Toning Balance | 0 |
| Split Toning Highlight Hue | 0 |
| Split Toning Highlight Saturation | 0 |
| Split Toning Shadow Hue | 0 |
| Split Toning Shadow Saturation | 0 |
| Subject Distance Range | Unknown |
| Texture | 0 |
| Tint | +2 |
| Tone Curve Name 2012 | Linear |
| Tone Curve PV2012 | 0, 0, 255, 255 |
| Tone Curve PV2012 Blue | 0, 0, 255, 255 |
| Tone Curve PV2012 Green | 0, 0, 255, 255 |
| Tone Curve PV2012 Red | 0, 0, 255, 255 |
| Version | 17.0 |
| Vibrance | +20 |
| Vignette Amount | 0 |
| Vignette Correction Already Applied | True |
| White Balance | Auto |
| Whites 2012 | +61 |
X