Shooting information for this photo
| Camera: | Google Pixel 8 |
| Exposure: | 0.04 sec. (1/25) |
| Aperture: | f/1.7 |
| Focal Length: | 6.9 mm (35 mm equivalent: 24.0 mm) |
| Flash: | Off, Did not fire |
| Exposure mode: | Program AE |
| Max Aperture: | 1.7 |
| Resolution: | 240 x 240 dpi |
| Original Date: | 2024:11:16 19:07:50.004 |
| Created on: | 2024:11:16 19:07:50.004 |
| Modified on: | 2024:11:17 09:15:14 |
| Software: | Adobe Lightroom 8.0 (Windows) |
| Already Applied | True |
| Approximate Focus Distance | 54.982 |
| Auto Lateral CA | 0 |
| Blacks 2012 | 0 |
| Blue Hue | 0 |
| Blue Saturation | 0 |
| Brightness | +50 |
| Brightness Value | -0.35 |
| Camera Profile | Embedded |
| Circle Of Confusion | 0.009 mm |
| City | Buxton |
| Clarity 2012 | +19 |
| Color Grade Blending | 50 |
| Color Grade Global Hue | 0 |
| Color Grade Global Lum | 0 |
| Color Grade Global Sat | 0 |
| Color Grade Highlight Lum | 0 |
| Color Grade Midtone Hue | 0 |
| Color Grade Midtone Lum | 0 |
| Color Grade Midtone Sat | 0 |
| Color Grade Shadow Lum | 0 |
| Color Noise Reduction | 0 |
| Color Space | sRGB |
| Contrast | Normal |
| Contrast 2012 | +22 |
| Convert To Grayscale | False |
| Country | United Kingdom |
| Crop Angle | 2.019668 |
| Crop Bottom | 0.894989 |
| Crop Constrain To Warp | 0 |
| Crop Left | 0.127622 |
| Crop Right | 0.94942 |
| Crop Top | 0.011236 |
| Custom Rendered | Custom |
| Date Created | 2024:11:16 19:07:50.004+00:00 |
| Defringe Green Amount | 0 |
| Defringe Green Hue Hi | 60 |
| Defringe Green Hue Lo | 40 |
| Defringe Purple Amount | 0 |
| Defringe Purple Hue Hi | 70 |
| Defringe Purple Hue Lo | 30 |
| Dehaze | +18 |
| Depth Of Field | inf (3.06 m - inf) |
| Digital Zoom Ratio | 1.66 |
| Exposure 2012 | 0.00 |
| Exposure Compensation | 0 |
| Exposure Mode | Auto |
| Field Of View | 73.7 deg |
| Focal Length In 35mm Format | 24 mm |
| Format | image/jpeg |
| Grain Amount | 0 |
| Green Hue | 0 |
| Green Saturation | 0 |
| HDR Edit Mode | 0 |
| Has Crop | True |
| Has Extended XMP | CFF4BCBAA036EBB8DAFE5C828ECC72 A5 |
| Has Settings | True |
| Highlights 2012 | +31 |
| Hue Adjustment Aqua | 0 |
| Hue Adjustment Blue | 0 |
| Hue Adjustment Green | 0 |
| Hue Adjustment Magenta | 0 |
| Hue Adjustment Orange | 0 |
| Hue Adjustment Purple | 0 |
| Hue Adjustment Red | 0 |
| Hue Adjustment Yellow | 0 |
| Hyperfocal Distance | 3.24 m |
| ISO | 274 |
| Image Size | 2048x1542 |
| Incremental Temperature | +7 |
| Incremental Tint | -32 |
| Lens | Pixel 8 back camera 6.9mm f/1.68 |
| Lens Make | |
| Lens Manual Distortion Amount | 0 |
| Lens Model | Pixel 8 back camera 6.9mm f/1.68 |
| Lens Profile Enable | 0 |
| Light Value | 4.7 |
| Luminance Adjustment Aqua | 0 |
| Luminance Adjustment Blue | 0 |
| Luminance Adjustment Green | 0 |
| Luminance Adjustment Magenta | 0 |
| Luminance Adjustment Orange | 0 |
| Luminance Adjustment Purple | 0 |
| Luminance Adjustment Red | 0 |
| Luminance Adjustment Yellow | 0 |
| Luminance Smoothing | 0 |
| Metering Mode | Center-weighted average |
| Override Look Vignette | False |
| Parametric Darks | 0 |
| Parametric Highlight Split | 75 |
| Parametric Highlights | 0 |
| Parametric Lights | 0 |
| Parametric Midtone Split | 50 |
| Parametric Shadow Split | 25 |
| Parametric Shadows | 0 |
| Perspective Aspect | 0 |
| Perspective Horizontal | 0 |
| Perspective Rotate | 0.0 |
| Perspective Scale | 100 |
| Perspective Upright | 0 |
| Perspective Vertical | 0 |
| Perspective X | 0.00 |
| Perspective Y | 0.00 |
| Point Colors | -1.000000, -1.000000, -1.000000, -1.000000, -1.000000, -1.000000, -1.000000, -1.000000, -1.000000, -1.000000, -1.000000, -1.000000, -1.000000, -1.000000, -1.000000, -1.000000, -1.000000, -1.000000, -1.000000 |
| Post Crop Vignette Amount | -21 |
| Post Crop Vignette Feather | 50 |
| Post Crop Vignette Highlight Contrast | 0 |
| Post Crop Vignette Midpoint | 50 |
| Post Crop Vignette Roundness | 0 |
| Post Crop Vignette Style | 1 |
| Process Version | 15.4 |
| Raw File Name | PXL_20241116_190750004.jpg |
| Red Hue | 0 |
| Red Saturation | 0 |
| Saturation | Normal |
| Saturation Adjustment Aqua | +28 |
| Saturation Adjustment Blue | 0 |
| Saturation Adjustment Green | 0 |
| Saturation Adjustment Magenta | 0 |
| Saturation Adjustment Orange | 0 |
| Saturation Adjustment Purple | 0 |
| Saturation Adjustment Red | +24 |
| Saturation Adjustment Yellow | +21 |
| Scale Factor To 35 mm Equivalent | 3.5 |
| Scene Capture Type | Standard |
| Scene Type | Directly photographed |
| Sensing Method | One-chip color area |
| Shadow Tint | 0 |
| Shadows | 5 |
| Shadows 2012 | -45 |
| Sharpness | Normal |
| Split Toning Balance | 0 |
| Split Toning Highlight Hue | 0 |
| Split Toning Highlight Saturation | 0 |
| Split Toning Shadow Hue | 0 |
| Split Toning Shadow Saturation | 0 |
| State | England |
| Subject Distance | 54.982 m |
| Subject Distance Range | Distant |
| Texture | 0 |
| Tone Curve Name 2012 | Linear |
| Tone Curve PV2012 | 0, 0, 255, 255 |
| Tone Curve PV2012 Blue | 0, 0, 255, 255 |
| Tone Curve PV2012 Green | 0, 0, 255, 255 |
| Tone Curve PV2012 Red | 0, 0, 255, 255 |
| Version | 17.0 |
| Vibrance | +24 |
| Vignette Amount | 0 |
| White Balance | Auto |
| Whites 2012 | 0 |
GPS Information |
| GPS Altitude | 350.2 m |
| GPS Date Stamp | 2024:11:16 |
| GPS Date/Time | 2024:11:16 19:07:26Z |
| GPS Latitude | 53 deg 15' 29.83" N |
| GPS Latitude Ref | North |
| GPS Longitude | 1 deg 55' 4.51" W |
| GPS Longitude Ref | West |
| GPS Position | 53 deg 15' 29.83" N, 1 deg 55' 4.51" W |
| GPS Time Stamp | 19:07:26 |
| GPS Version ID | 2.2.0.0 |
X