Shooting information for this photo
| Camera: | FUJIFILM X100T |
| Exposure: | 0.00417 sec. (1/240) |
| Aperture: | f/4.0 |
| Focal Length: | 23.0 mm (35 mm equivalent: 84.6 mm) |
| Flash: | Off, Did not fire |
| Exposure mode: | Aperture-priority AE |
| Max Aperture: | 2.0 |
| Resolution: | 240 x 240 dpi |
| Original Date: | 2023:09:04 07:25:24 |
| Created on: | 2023:09:04 07:25:24 |
| Modified on: | 2023:09:04 22:18:30 |
| Software: | Adobe Lightroom 6.5 (Windows) |
| Already Applied | True |
| Auto Lateral CA | 1 |
| Blacks 2012 | 0 |
| Blue Hue | 0 |
| Blue Saturation | 0 |
| Brightness | +50 |
| Brightness Value | 6.91 |
| Camera Profile | Embedded |
| Circle Of Confusion | 0.008 mm |
| Clarity 2012 | +21 |
| Color Grade Blending | 50 |
| Color Grade Global Hue | 0 |
| Color Grade Global Lum | 0 |
| Color Grade Global Sat | 0 |
| Color Grade Highlight Lum | +20 |
| Color Grade Midtone Hue | 0 |
| Color Grade Midtone Lum | -100 |
| Color Grade Midtone Sat | 0 |
| Color Grade Shadow Lum | 0 |
| Color Noise Reduction | 0 |
| Color Space | sRGB |
| Contrast | +25 |
| Contrast 2012 | -10 |
| Convert To Grayscale | True |
| Crop Angle | 0 |
| Crop Bottom | 1 |
| Crop Constrain To Warp | 0 |
| Crop Left | 0 |
| Crop Right | 1 |
| Crop Top | 0 |
| Custom Rendered | Normal |
| Date Created | 2023:09:04 07:25:24 |
| Dehaze | +13 |
| Exposure 2012 | 0.00 |
| Exposure Compensation | 0 |
| Exposure Mode | Auto |
| Field Of View | 24.0 deg |
| Format | image/jpeg |
| Fuji Rating Already Applied | True |
| Grain Amount | 0 |
| Gray Mixer Aqua | 0 |
| Gray Mixer Blue | 0 |
| Gray Mixer Green | -38 |
| Gray Mixer Magenta | -5 |
| Gray Mixer Orange | 0 |
| Gray Mixer Purple | 0 |
| Gray Mixer Red | 0 |
| Gray Mixer Yellow | -37 |
| Green Hue | 0 |
| Green Saturation | 0 |
| Has Crop | False |
| Has Settings | True |
| Highlights 2012 | -23 |
| Hyperfocal Distance | 16.19 m |
| ISO | 200 |
| Image Size | 2048x1365 |
| Incremental Temperature | -6 |
| Incremental Tint | +12 |
| Lateral Chromatic Aberration Correction Already Applied | True |
| Lens Manual Distortion Amount | 0 |
| Lens Profile Enable | 1 |
| Lens Profile Setup | LensDefaults |
| Light Source | Unknown |
| Light Value | 10.9 |
| Luminance Smoothing | 0 |
| Metering Mode | Multi-segment |
| Override Look Vignette | False |
| Parametric Darks | 0 |
| Parametric Highlight Split | 75 |
| Parametric Highlights | 0 |
| Parametric Lights | 0 |
| Parametric Midtone Split | 50 |
| Parametric Shadow Split | 25 |
| Parametric Shadows | 0 |
| Perspective Aspect | 0 |
| Perspective Horizontal | 0 |
| Perspective Rotate | 0.0 |
| Perspective Scale | 100 |
| Perspective Upright | 0 |
| Perspective Vertical | 0 |
| Perspective X | 0.00 |
| Perspective Y | 0.00 |
| Post Crop Vignette Amount | -12 |
| Post Crop Vignette Feather | 50 |
| Post Crop Vignette Highlight Contrast | 0 |
| Post Crop Vignette Midpoint | 50 |
| Post Crop Vignette Roundness | 0 |
| Post Crop Vignette Style | 1 |
| Process Version | 15.4 |
| Raw File Name | DSCF0031.JPG |
| Red Hue | 0 |
| Red Saturation | 0 |
| Scale Factor To 35 mm Equivalent | 3.7 |
| Scene Capture Type | Standard |
| Scene Type | Directly photographed |
| Sensing Method | One-chip color area |
| Sensitivity Type | Standard Output Sensitivity |
| Shadow Tint | 0 |
| Shadows | 5 |
| Shadows 2012 | +20 |
| Sharpness | Normal |
| Split Toning Balance | 0 |
| Split Toning Highlight Hue | 0 |
| Split Toning Highlight Saturation | 0 |
| Split Toning Shadow Hue | 0 |
| Split Toning Shadow Saturation | 0 |
| Subject Distance Range | Unknown |
| Texture | 0 |
| Tone Curve Name 2012 | Linear |
| Tone Curve PV2012 | 0, 0, 255, 255 |
| Tone Curve PV2012 Blue | 0, 0, 255, 255 |
| Tone Curve PV2012 Green | 0, 0, 255, 255 |
| Tone Curve PV2012 Red | 0, 0, 255, 255 |
| Version | 15.5 |
| Vignette Amount | 0 |
| White Balance | Auto |
| Whites 2012 | 0 |
X