Shooting information for this photo
Camera: | NIKON CORPORATION NIKON D5200 |
Exposure: | 0.002 sec. (1/500) |
Aperture: | f/9.0 |
Focal Length: | 35.0 mm (35 mm equivalent: 35.0 mm) |
Flash: | No Flash |
Exposure mode: | Aperture-priority AE |
Max Aperture: | 1.7 |
Resolution: | 240 x 240 dpi |
Original Date: | 2021:05:11 18:42:53.20 |
Created on: | 2021:05:11 18:42:53.20 |
Modified on: | 2021:05:13 21:23:14 |
Software: | Adobe Lightroom 4.2 (Windows) |
Already Applied | True |
Approximate Focus Distance | 4294967295 |
Auto Lateral CA | 1 |
Blacks 2012 | +27 |
Blue Hue | 0 |
Blue Saturation | 0 |
CFA Pattern | [Red,Green][Green,Blue] |
Camera Profile | Adobe Standard |
Circle Of Confusion | 0.030 mm |
Clarity 2012 | +17 |
Color Grade Blending | 50 |
Color Grade Global Hue | 0 |
Color Grade Global Lum | 0 |
Color Grade Global Sat | 0 |
Color Grade Highlight Lum | -35 |
Color Grade Midtone Hue | 0 |
Color Grade Midtone Lum | 0 |
Color Grade Midtone Sat | 0 |
Color Grade Shadow Lum | 0 |
Color Noise Reduction | 25 |
Color Noise Reduction Detail | 50 |
Color Noise Reduction Smoothness | 50 |
Color Space | sRGB |
Color Temperature | 5613 |
Contrast | Normal |
Contrast 2012 | +5 |
Crop Angle | 0 |
Crop Bottom | 1 |
Crop Constrain To Warp | 0 |
Crop Left | 0 |
Crop Right | 1 |
Crop Top | 0 |
Custom Rendered | Normal |
Date Created | 2021:05:11 18:42:53.20 |
Defringe Green Amount | 0 |
Defringe Green Hue Hi | 60 |
Defringe Green Hue Lo | 40 |
Defringe Purple Amount | 0 |
Defringe Purple Hue Hi | 70 |
Defringe Purple Hue Lo | 30 |
Dehaze | 0 |
Digital Zoom Ratio | 1 |
Distortion Correction Already Applied | True |
Exposure 2012 | -0.38 |
Exposure Compensation | 0 |
Exposure Mode | Auto |
Field Of View | 54.4 deg |
Focal Length In 35mm Format | 35 mm |
Format | image/jpeg |
Gain Control | Low gain up |
Gradient Based Corr Active | true |
Gradient Based Corr Amount | 1.000000 |
Gradient Based Corr Brightness | 0.000000 |
Gradient Based Corr Clarity 2012 | 0.000000 |
Gradient Based Corr Contrast 2012 | 0.000000 |
Gradient Based Corr Correction Range Mask Color Amount | 0.500000 |
Gradient Based Corr Correction Range Mask Depth Feather | 0.500000 |
Gradient Based Corr Correction Range Mask Depth Max | 1.000000 |
Gradient Based Corr Correction Range Mask Depth Min | 0.000000 |
Gradient Based Corr Correction Range Mask Lum Feather | 0.500000 |
Gradient Based Corr Correction Range Mask Lum Max | 1.000000 |
Gradient Based Corr Correction Range Mask Lum Min | 0.000000 |
Gradient Based Corr Correction Range Mask Type | 0 |
Gradient Based Corr Correction Range Mask Version | +2 |
Gradient Based Corr Defringe | 0.000000 |
Gradient Based Corr Exposure 2012 | 0.310000 |
Gradient Based Corr Highlights 2012 | 0.000000 |
Gradient Based Corr Hue | 0.000000 |
Gradient Based Corr Local Blacks 2012 | 0.000000 |
Gradient Based Corr Local Dehaze | 0.115385 |
Gradient Based Corr Local Hue | 0.153153 |
Gradient Based Corr Local Texture | 0.000000 |
Gradient Based Corr Local Whites 2012 | 0.000000 |
Gradient Based Corr Luminance Noise | 0.000000 |
Gradient Based Corr Mask Full X | 0.000000 |
Gradient Based Corr Mask Full Y | -0.008043 |
Gradient Based Corr Mask Value | 1.000000 |
Gradient Based Corr Mask What | Mask/Gradient |
Gradient Based Corr Mask Zero X | 0.430392 |
Gradient Based Corr Mask Zero Y | 0.623409 |
Gradient Based Corr Moire | 0.000000 |
Gradient Based Corr Saturation | 0.000000 |
Gradient Based Corr Shadows 2012 | 0.000000 |
Gradient Based Corr Sharpness | 0.000000 |
Gradient Based Corr Temperature | 0.000000 |
Gradient Based Corr Tint | 0.000000 |
Gradient Based Corr What | Correction |
Grain Amount | 0 |
Green Hue | 0 |
Green Saturation | 0 |
Has Crop | False |
Has Settings | True |
Highlights 2012 | -36 |
Hue Adjustment Aqua | 0 |
Hue Adjustment Blue | 0 |
Hue Adjustment Green | 0 |
Hue Adjustment Magenta | 0 |
Hue Adjustment Orange | 0 |
Hue Adjustment Purple | 0 |
Hue Adjustment Red | +10 |
Hue Adjustment Yellow | +12 |
Hyperfocal Distance | 4.53 m |
ISO | 400 |
Image Number | 22873 |
Image Size | 6000x4000 |
Lateral Chromatic Aberration Correction Already Applied | True |
Lens | 35.0 mm f/1.8 |
Lens ID | AF-S DX Nikkor 35mm f/1.8G |
Lens Info | 35mm f/1.8 |
Lens Manual Distortion Amount | 0 |
Lens Model | 35.0 mm f/1.8 |
Lens Profile Distortion Scale | 100 |
Lens Profile Enable | 1 |
Lens Profile Filename | NIKON D90 (Nikon AF-S DX NIKKOR 35mm f1.8G) - RAW.lcp |
Lens Profile Is Embedded | False |
Lens Profile Name | Adobe (Nikon AF-S DX NIKKOR 35mm f/1.8G) |
Lens Profile Setup | LensDefaults |
Lens Profile Vignetting Scale | 100 |
Light Source | Unknown |
Light Value | 13.3 |
Look Amount | 1.000000 |
Look Group | Profiles |
Look Name | Adobe Color |
Look Parameters Camera Profile | Adobe Standard |
Look Parameters Convert To Grayscale | False |
Look Parameters Look Table | E1095149FDB39D7A057BAB208837E2 E1 |
Look Parameters Process Version | 11.0 |
Look Parameters Tone Curve PV2012 | 0, 0, 22, 16, 40, 35, 127, 127, 224, 230, 240, 246, 255, 255 |
Look Parameters Tone Curve PV2012 Blue | 0, 0, 255, 255 |
Look Parameters Tone Curve PV2012 Green | 0, 0, 255, 255 |
Look Parameters Tone Curve PV2012 Red | 0, 0, 255, 255 |
Look Parameters Version | 13.2 |
Look Supports Amount | false |
Look Supports Monochrome | false |
Look Supports Output Referred | false |
Luminance Adjustment Aqua | 0 |
Luminance Adjustment Blue | 0 |
Luminance Adjustment Green | 0 |
Luminance Adjustment Magenta | 0 |
Luminance Adjustment Orange | 0 |
Luminance Adjustment Purple | 0 |
Luminance Adjustment Red | 0 |
Luminance Adjustment Yellow | 0 |
Luminance Noise Reduction Contrast | 0 |
Luminance Noise Reduction Detail | 50 |
Luminance Smoothing | 1 |
Metering Mode | Multi-segment |
Override Look Vignette | False |
Parametric Darks | 0 |
Parametric Highlight Split | 75 |
Parametric Highlights | 0 |
Parametric Lights | 0 |
Parametric Midtone Split | 50 |
Parametric Shadow Split | 25 |
Parametric Shadows | 0 |
Perspective Aspect | 0 |
Perspective Horizontal | 0 |
Perspective Rotate | 0.0 |
Perspective Scale | 100 |
Perspective Upright | 0 |
Perspective Vertical | 0 |
Perspective X | 0.00 |
Perspective Y | 0.00 |
Post Crop Vignette Amount | 0 |
Process Version | 11.0 |
Raw File Name | DSC_0013.NEF |
Red Hue | 0 |
Red Saturation | 0 |
Saturation | Normal |
Saturation Adjustment Aqua | 0 |
Saturation Adjustment Blue | +39 |
Saturation Adjustment Green | +24 |
Saturation Adjustment Magenta | 0 |
Saturation Adjustment Orange | 0 |
Saturation Adjustment Purple | 0 |
Saturation Adjustment Red | +29 |
Saturation Adjustment Yellow | +33 |
Scale Factor To 35 mm Equivalent | 1.0 |
Scene Capture Type | Standard |
Scene Type | Directly photographed |
Sensing Method | One-chip color area |
Sensitivity Type | Recommended Exposure Index |
Shadow Tint | 0 |
Shadows 2012 | -51 |
Sharpen Detail | 25 |
Sharpen Edge Masking | 0 |
Sharpen Radius | +1.0 |
Sharpness | Normal |
Split Toning Balance | 0 |
Split Toning Highlight Hue | 0 |
Split Toning Highlight Saturation | 0 |
Split Toning Shadow Hue | 0 |
Split Toning Shadow Saturation | 0 |
Subject Distance Range | Unknown |
Texture | 0 |
Tint | +23 |
Tone Curve Name 2012 | Linear |
Tone Curve PV2012 | 0, 0, 255, 255 |
Tone Curve PV2012 Blue | 0, 0, 255, 255 |
Tone Curve PV2012 Green | 0, 0, 255, 255 |
Tone Curve PV2012 Red | 0, 0, 255, 255 |
Version | 13.2 |
Vibrance | +17 |
Vignette Amount | 0 |
Vignette Correction Already Applied | True |
White Balance | Auto |
Whites 2012 | -4 |