Shooting information for this photo
| Camera: | NIKON CORPORATION NIKON D750 |
| Exposure: | 0.004 sec. (1/250) |
| Aperture: | f/10.0 |
| Focal Length: | 42.0 mm (35 mm equivalent: 42.0 mm) |
| Flash: | Off, Did not fire |
| Exposure mode: | Aperture-priority AE |
| Max Aperture: | 4.0 |
| Resolution: | 93 x 93 dpi |
| Original Date: | 2024:02:17 13:34:33.000000091 |
| Created on: | 2024:02:17 13:34:33.91 |
| Modified on: | 2024:03:18 07:15:44 |
| Software: | Adobe Photoshop Lightroom 6.14 (Windows) |
| Copyright: | Kawasirius |
| Already Applied | True |
| Approximate Focus Distance | 4.73 |
| Artist | Henri |
| Auto Lateral CA | 0 |
| Auto White Version | 134348800 |
| Blacks 2012 | -60 |
| Blue Hue | 0 |
| Blue Saturation | 0 |
| CFA Pattern | [Red,Green][Green,Blue] |
| CFA Pattern Columns | 2 |
| CFA Pattern Rows | 2 |
| CFA Pattern Values | 0, 1, 1, 2 |
| Camera Profile | Embedded |
| Circle Of Confusion | 0.030 mm |
| Clarity 2012 | 0 |
| Color Noise Reduction | 0 |
| Color Space | Uncalibrated |
| Contrast | Normal |
| Contrast 2012 | +6 |
| Convert To Grayscale | False |
| Creator | Henri |
| Custom Rendered | Normal |
| Date Created | 2024:02:17 13:34:33.91 |
| Defringe Green Amount | 0 |
| Defringe Green Hue Hi | 60 |
| Defringe Green Hue Lo | 40 |
| Defringe Purple Amount | 0 |
| Defringe Purple Hue Hi | 70 |
| Defringe Purple Hue Lo | 30 |
| Dehaze | 0 |
| Digital Zoom Ratio | 1 |
| Distortion Correction Already Applied | True |
| Exposure 2012 | -0.20 |
| Exposure Compensation | +4/3 |
| Exposure Mode | Auto |
| Field Of View | 46.4 deg |
| Focal Length In 35mm Format | 42 mm |
| Format | image/jpeg |
| Gain Control | None |
| Grain Amount | 0 |
| Green Hue | 0 |
| Green Saturation | 0 |
| Has Crop | False |
| Has Settings | True |
| Highlights 2012 | 0 |
| Hue Adjustment Aqua | 0 |
| Hue Adjustment Blue | 0 |
| Hue Adjustment Green | 0 |
| Hue Adjustment Magenta | 0 |
| Hue Adjustment Orange | 0 |
| Hue Adjustment Purple | 0 |
| Hue Adjustment Red | 0 |
| Hue Adjustment Yellow | 0 |
| Hyperfocal Distance | 5.87 m |
| ISO | 250 |
| Image Number | 18378 |
| Image Size | 5676x3789 |
| Incremental Temperature | +6 |
| Incremental Tint | 0 |
| Lens | TAMRON 28-300mm F3.5-6.3 Di VC PZD A010N |
| Lens ID | TAMRON 28-300mm F3.5-6.3 Di VC PZD A010N |
| Lens Info | 28-300mm f/3.5-6.3 |
| Lens Manual Distortion Amount | 0 |
| Lens Model | TAMRON 28-300mm F3.5-6.3 Di VC PZD A010N |
| Lens Profile Enable | 0 |
| Lens Profile Setup | LensDefaults |
| Lens Specification | 28, 300, 3.5, 6.3 |
| Light Source | Unknown |
| Light Value | 13.3 |
| Luminance Adjustment Aqua | 0 |
| Luminance Adjustment Blue | 0 |
| Luminance Adjustment Green | 0 |
| Luminance Adjustment Magenta | 0 |
| Luminance Adjustment Orange | 0 |
| Luminance Adjustment Purple | 0 |
| Luminance Adjustment Red | 0 |
| Luminance Adjustment Yellow | 0 |
| Luminance Noise Reduction Contrast | 0 |
| Luminance Noise Reduction Detail | 50 |
| Luminance Smoothing | 100 |
| Metering Mode | Multi-segment |
| Parametric Darks | 0 |
| Parametric Highlight Split | 75 |
| Parametric Highlights | 0 |
| Parametric Lights | 0 |
| Parametric Midtone Split | 50 |
| Parametric Shadow Split | 25 |
| Parametric Shadows | 0 |
| Perspective Aspect | 0 |
| Perspective Horizontal | 0 |
| Perspective Rotate | 0.0 |
| Perspective Scale | 100 |
| Perspective Upright | 0 |
| Perspective Vertical | 0 |
| Perspective X | 0.00 |
| Perspective Y | 0.00 |
| Post Crop Vignette Amount | 0 |
| Process Version | 6.7 |
| Red Hue | 0 |
| Red Saturation | 0 |
| Rights | Kawasirius |
| Saturation | Normal |
| Saturation Adjustment Aqua | 0 |
| Saturation Adjustment Blue | 0 |
| Saturation Adjustment Green | 0 |
| Saturation Adjustment Magenta | 0 |
| Saturation Adjustment Orange | 0 |
| Saturation Adjustment Purple | 0 |
| Saturation Adjustment Red | 0 |
| Saturation Adjustment Yellow | 0 |
| Scale Factor To 35 mm Equivalent | 1.0 |
| Scene Capture Type | Standard |
| Scene Type | Directly photographed |
| Sensing Method | One-chip color area |
| Sensitivity Type | Recommended Exposure Index |
| Shadow Tint | 0 |
| Shadows 2012 | 0 |
| Sharpen Detail | 25 |
| Sharpen Edge Masking | 0 |
| Sharpen Radius | +1.0 |
| Sharpness | Normal |
| Split Toning Balance | 0 |
| Split Toning Highlight Hue | 0 |
| Split Toning Highlight Saturation | 0 |
| Split Toning Shadow Hue | 0 |
| Split Toning Shadow Saturation | 0 |
| Subject Distance Range | Unknown |
| Tone Curve | 0, 0, 255, 255 |
| Tone Curve Blue | 0, 0, 255, 255 |
| Tone Curve Green | 0, 0, 255, 255 |
| Tone Curve Name | Linear |
| Tone Curve Name 2012 | Linear |
| Tone Curve PV2012 | 0, 0, 255, 255 |
| Tone Curve PV2012 Blue | 0, 0, 255, 255 |
| Tone Curve PV2012 Green | 0, 0, 255, 255 |
| Tone Curve PV2012 Red | 0, 0, 255, 255 |
| Tone Curve Red | 0, 0, 255, 255 |
| Tone Map Strength | 0 |
| Version | 10.1 |
| Vibrance | 0 |
| Vignette Amount | 0 |
| Vignette Correction Already Applied | True |
| White Balance | Auto |
| Whites 2012 | +44 |
X