Shooting information for this photo
| Camera: | Canon EOS 450D |
| Exposure: | 0.00313 sec. (1/320) |
| Aperture: | f/4.5 |
| Focal Length: | 18.0 mm (35 mm equivalent: 29.1 mm) |
| Flash: | Off, Did not fire |
| Exposure mode: | Aperture-priority AE |
| Max Aperture: | 3.5 |
| Resolution: | 300 x 300 dpi |
| Dimension: | 2848 x 1899 pixels |
| Original Date: | 2010:12:25 16:22:47.02 |
| Created on: | 2010:12:25 16:22:47.02 |
| Modified on: | 2010:12:27 16:49:38 |
| Software: | DxO PhotoLab |
| Already Applied | True |
| Approximate Focus Distance | 3.49 |
| Blue Hue | 0 |
| Blue Saturation | 0 |
| Brightness | +57 |
| Camera Profile | Adobe Standard |
| Chromatic Aberration B | 0 |
| Chromatic Aberration R | 0 |
| Circle Of Confusion | 0.019 mm |
| Clarity | 0 |
| Color Noise Reduction | 25 |
| Color Noise Reduction Detail | 50 |
| Color Space | sRGB |
| Color Temperature | 4750 |
| Contrast | +27 |
| Convert To Grayscale | False |
| Custom Rendered | Normal |
| Defringe | 0 |
| Depth Of Field | 32.02 m (1.84 - 33.86) |
| Exposure | 0.00 |
| Exposure Compensation | 0 |
| Exposure Mode | Auto |
| Field Of View | 63.5 deg |
| Fill Light | 8 |
| Firmware | 1.0.9 |
| Flash Compensation | 0 |
| Flash Fired | False |
| Flash Function | False |
| Flash Mode | Off |
| Flash Red Eye Mode | False |
| Flash Return | No return detection |
| Grain Amount | 0 |
| Green Hue | 0 |
| Green Saturation | 0 |
| Has Crop | False |
| Has Settings | True |
| Highlight Recovery | 24 |
| Hue Adjustment Aqua | 0 |
| Hue Adjustment Blue | 0 |
| Hue Adjustment Green | 0 |
| Hue Adjustment Magenta | 0 |
| Hue Adjustment Orange | 0 |
| Hue Adjustment Purple | 0 |
| Hue Adjustment Red | 0 |
| Hue Adjustment Yellow | 0 |
| Hyperfocal Distance | 3.87 m |
| ISO | 200 |
| Image Number | 0 |
| Image Size | 2848x1899 |
| Lens | EF-S18-55mm f/3.5-5.6 IS |
| Lens ID | Canon EF-S 18-55mm f/3.5-5.6 IS |
| Lens Info | 18-55mm f/? |
| Lens Manual Distortion Amount | 0 |
| Lens Model | EF-S18-55mm f/3.5-5.6 IS |
| Lens Profile Chromatic Aberration Scale | 100 |
| Lens Profile Distortion Scale | 100 |
| Lens Profile Enable | 1 |
| Lens Profile Filename | Canon EOS 50D (Canon EF-S 18-55mm f3.5-5.6 IS) - RAW.lcp |
| Lens Profile Name | Adobe (Canon EF-S 18-55mm f/3.5-5.6 IS) |
| Lens Profile Setup | LensDefaults |
| Lens Profile Vignetting Scale | 100 |
| Light Value | 11.7 |
| Luminance Adjustment Aqua | -2 |
| Luminance Adjustment Blue | +2 |
| Luminance Adjustment Green | -100 |
| Luminance Adjustment Magenta | 0 |
| Luminance Adjustment Orange | 0 |
| Luminance Adjustment Purple | 0 |
| Luminance Adjustment Red | -75 |
| Luminance Adjustment Yellow | -75 |
| Luminance Smoothing | 0 |
| Metering Mode | Multi-segment |
| Parametric Darks | -20 |
| Parametric Highlight Split | 75 |
| Parametric Highlights | +31 |
| Parametric Lights | 0 |
| Parametric Midtone Split | 50 |
| Parametric Shadow Split | 25 |
| Parametric Shadows | +1 |
| Perspective Horizontal | 0 |
| Perspective Rotate | 0.0 |
| Perspective Scale | 100 |
| Perspective Vertical | 0 |
| Post Crop Vignette Amount | 0 |
| Process Version | 5.7 |
| Red Hue | 0 |
| Red Saturation | 0 |
| Saturation | 0 |
| Saturation Adjustment Aqua | 0 |
| Saturation Adjustment Blue | -25 |
| Saturation Adjustment Green | 0 |
| Saturation Adjustment Magenta | 0 |
| Saturation Adjustment Orange | +34 |
| Saturation Adjustment Purple | 0 |
| Saturation Adjustment Red | +34 |
| Saturation Adjustment Yellow | +25 |
| Scale Factor To 35 mm Equivalent | 1.6 |
| Scene Capture Type | Standard |
| Sensitivity Type | Unknown |
| Shadow Tint | 0 |
| Shadows | 4 |
| Sharpen Detail | 36 |
| Sharpen Edge Masking | 0 |
| Sharpen Radius | +1.0 |
| Sharpness | 50 |
| Split Toning Balance | 0 |
| Split Toning Highlight Hue | 0 |
| Split Toning Highlight Saturation | 0 |
| Split Toning Shadow Hue | 0 |
| Split Toning Shadow Saturation | 0 |
| Subject Distance | 3.49 m |
| Tint | +11 |
| Tone Curve | 0, 0, 32, 22, 64, 56, 128, 128, 192, 196, 255, 255 |
| Tone Curve Name | Medium Contrast |
| Version | 6.3 |
| Vibrance | 0 |
| Vignette Amount | 0 |
| White Balance | Auto |
X