Shooting information for this photo
| Camera: | Canon EOS 450D |
| Exposure: | 0.004 sec. (1/250) |
| Aperture: | f/10.0 |
| Focal Length: | 130.0 mm (35 mm equivalent: 210.0 mm) |
| Flash: | Off, Did not fire |
| Exposure mode: | Manual |
| Max Aperture: | 4.6 |
| Resolution: | 240 x 240 dpi |
| Dimension: | 4272 x 2848 pixels |
| Original Date: | 2011:06:10 14:46:06.03 |
| Created on: | 2011:06:10 14:46:06.03 |
| Modified on: | 2016:10:27 22:45:10 |
| Software: | Adobe Photoshop Camera Raw 6.4.1 |
| Already Applied | True |
| Artist | Picasa |
| Blue Hue | 0 |
| Blue Saturation | 0 |
| Brightness | +71 |
| Camera Profile | Adobe Standard |
| Chromatic Aberration B | 0 |
| Chromatic Aberration R | 0 |
| Circle Of Confusion | 0.019 mm |
| Clarity | 0 |
| Color Noise Reduction | 25 |
| Color Noise Reduction Detail | 50 |
| Color Temperature | 5550 |
| Contrast | +36 |
| Convert To Grayscale | False |
| Creator | Picasa |
| Custom Rendered | Normal |
| Defringe | 0 |
| Exposure | +1.05 |
| Exposure Compensation | 0 |
| Exposure Mode | Manual |
| Field Of View | 9.8 deg |
| Fill Light | 0 |
| Firmware | 1.0.9 |
| Flash Compensation | 0 |
| Format | image/jpeg |
| Grain Amount | 0 |
| Green Hue | 0 |
| Green Saturation | 0 |
| Has Crop | False |
| Has Settings | True |
| Highlight Recovery | 0 |
| Hue Adjustment Aqua | 0 |
| Hue Adjustment Blue | 0 |
| Hue Adjustment Green | 0 |
| Hue Adjustment Magenta | 0 |
| Hue Adjustment Orange | 0 |
| Hue Adjustment Purple | 0 |
| Hue Adjustment Red | 0 |
| Hue Adjustment Yellow | 0 |
| Hyperfocal Distance | 90.86 m |
| ISO | 400 |
| Image Number | 0 |
| Image Size | 4272x2848 |
| Lens | EF75-300mm f/4-5.6 USM |
| Lens ID | Canon EF 75-300mm f/4-5.6 USM |
| Lens Info | 75-300mm f/? |
| Lens Manual Distortion Amount | 0 |
| Lens Model | EF75-300mm f/4-5.6 USM |
| Lens Profile Enable | 0 |
| Lens Profile Setup | LensDefaults |
| Light Value | 12.6 |
| Luminance Adjustment Aqua | 0 |
| Luminance Adjustment Blue | 0 |
| Luminance Adjustment Green | 0 |
| Luminance Adjustment Magenta | 0 |
| Luminance Adjustment Orange | 0 |
| Luminance Adjustment Purple | 0 |
| Luminance Adjustment Red | 0 |
| Luminance Adjustment Yellow | 0 |
| Luminance Smoothing | 0 |
| Metering Mode | Multi-segment |
| Parametric Darks | -17 |
| Parametric Highlight Split | 75 |
| Parametric Highlights | 0 |
| Parametric Lights | 0 |
| Parametric Midtone Split | 50 |
| Parametric Shadow Split | 25 |
| Parametric Shadows | -16 |
| Perspective Horizontal | 0 |
| Perspective Rotate | 0.0 |
| Perspective Scale | 100 |
| Perspective Vertical | 0 |
| Post Crop Vignette Amount | 0 |
| Process Version | 5.7 |
| Raw File Name | IMG_4957.CR2 |
| Red Hue | 0 |
| Red Saturation | 0 |
| Related Image Height | 2848 |
| Related Image Width | 4272 |
| Saturation | 0 |
| Saturation Adjustment Aqua | 0 |
| Saturation Adjustment Blue | 0 |
| Saturation Adjustment Green | 0 |
| Saturation Adjustment Magenta | 0 |
| Saturation Adjustment Orange | 0 |
| Saturation Adjustment Purple | 0 |
| Saturation Adjustment Red | 0 |
| Saturation Adjustment Yellow | 0 |
| Scale Factor To 35 mm Equivalent | 1.6 |
| Scene Capture Type | Standard |
| Shadow Tint | 0 |
| Shadows | 3 |
| Sharpen Detail | 33 |
| Sharpen Edge Masking | 0 |
| Sharpen Radius | +1.0 |
| Sharpness | 49 |
| Split Toning Balance | 0 |
| Split Toning Highlight Hue | 0 |
| Split Toning Highlight Saturation | 0 |
| Split Toning Shadow Hue | 0 |
| Split Toning Shadow Saturation | 0 |
| Tint | +32 |
| Tone Curve | 0, 0, 32, 22, 64, 56, 128, 128, 192, 196, 255, 255 |
| Tone Curve Name | Medium Contrast |
| Version | 6.4.1 |
| Vibrance | 0 |
| Vignette Amount | 0 |
| White Balance | Auto |
X