Shooting information for this photo
| Camera: | Canon EOS 60D |
| Exposure: | 0.025 sec. (1/40) |
| Aperture: | f/4.5 |
| Focal Length: | 12.0 mm (35 mm equivalent: 18.9 mm) |
| Flash: | Off, Did not fire |
| Exposure mode: | Aperture-priority AE |
| Max Aperture: | 4.6 |
| Resolution: | 300 x 300 dpi |
| Dimension: | 3046 x 4872 pixels |
| Original Date: | 2016:01:16 18:45:29.00 |
| Created on: | 2016:01:16 18:45:29.00 |
| Modified on: | 2016:01:17 21:00:43.00 |
| Software: | Adobe Photoshop CS6 (Windows) |
| Already Applied | True |
| Approximate Focus Distance | 0.62 |
| Auto Lateral CA | 0 |
| Auto White Version | 134348800 |
| Blacks 2012 | -20 |
| Blue Hue | 0 |
| Blue Saturation | 0 |
| Camera Profile | Adobe Standard |
| Circle Of Confusion | 0.019 mm |
| Clarity 2012 | +12 |
| Color Mode | RGB |
| Color Noise Reduction | 25 |
| Color Noise Reduction Detail | 50 |
| Color Noise Reduction Smoothness | 50 |
| Color Space | sRGB |
| Color Temperature | 5150 |
| Contrast 2012 | +19 |
| Convert To Grayscale | False |
| Custom Rendered | Normal |
| Date Created | 2016:01:16 18:45:29 |
| Defringe Green Amount | 0 |
| Defringe Green Hue Hi | 60 |
| Defringe Green Hue Lo | 40 |
| Defringe Purple Amount | 0 |
| Defringe Purple Hue Hi | 70 |
| Defringe Purple Hue Lo | 30 |
| Exposure 2012 | 0.00 |
| Exposure Compensation | 0 |
| Exposure Mode | Auto |
| Field Of View | 87.3 deg |
| Firmware | 1.1.0 |
| Flash Compensation | 0 |
| Format | image/jpeg |
| Grain Amount | 0 |
| Green Hue | 0 |
| Green Saturation | 0 |
| Has Crop | False |
| Has Settings | True |
| Highlights 2012 | -100 |
| Hue Adjustment Aqua | 0 |
| Hue Adjustment Blue | 0 |
| Hue Adjustment Green | 0 |
| Hue Adjustment Magenta | 0 |
| Hue Adjustment Orange | 0 |
| Hue Adjustment Purple | 0 |
| Hue Adjustment Red | 0 |
| Hue Adjustment Yellow | 0 |
| Hyperfocal Distance | 1.68 m |
| ICC Profile Name | sRGB IEC61966-2.1 |
| ISO | 200 |
| Image Number | 0 |
| Image Size | 3046x4872 |
| Lens | 10-20mm |
| Lens ID | Sigma 10-20mm f/4-5.6 |
| Lens Info | 10-20mm f/? |
| Lens Manual Distortion Amount | 0 |
| Lens Model | 10-20mm |
| Lens Profile Enable | 0 |
| Lens Profile Setup | LensDefaults |
| Light Value | 8.7 |
| Luminance Adjustment Aqua | 0 |
| Luminance Adjustment Blue | +17 |
| Luminance Adjustment Green | 0 |
| Luminance Adjustment Magenta | +14 |
| Luminance Adjustment Orange | +20 |
| Luminance Adjustment Purple | +21 |
| Luminance Adjustment Red | +36 |
| Luminance Adjustment Yellow | 0 |
| Luminance Noise Reduction Contrast | 35 |
| Luminance Noise Reduction Detail | 50 |
| Luminance Smoothing | 28 |
| Metering Mode | Multi-segment |
| Parametric Darks | 0 |
| Parametric Highlight Split | 75 |
| Parametric Highlights | 0 |
| Parametric Lights | 0 |
| Parametric Midtone Split | 50 |
| Parametric Shadow Split | 25 |
| Parametric Shadows | 0 |
| Perspective Aspect | 0 |
| Perspective Horizontal | +11 |
| Perspective Rotate | 0.0 |
| Perspective Scale | 100 |
| Perspective Upright | 0 |
| Perspective Vertical | -8 |
| Post Crop Vignette Amount | 0 |
| Process Version | 6.7 |
| Rating | 0 |
| Raw File Name | IMG_6171.CR2 |
| Recommended Exposure Index | 200 |
| Red Hue | 0 |
| Red Saturation | 0 |
| Saturation | 0 |
| Saturation Adjustment Aqua | 0 |
| Saturation Adjustment Blue | 0 |
| Saturation Adjustment Green | 0 |
| Saturation Adjustment Magenta | 0 |
| Saturation Adjustment Orange | 0 |
| Saturation Adjustment Purple | 0 |
| Saturation Adjustment Red | 0 |
| Saturation Adjustment Yellow | 0 |
| Scale Factor To 35 mm Equivalent | 1.6 |
| Scene Capture Type | Standard |
| Sensitivity Type | Recommended Exposure Index |
| Shadow Tint | 0 |
| Shadows 2012 | +100 |
| Sharpen Detail | 25 |
| Sharpen Edge Masking | 83 |
| Sharpen Radius | +1.0 |
| Sharpness | 36 |
| Split Toning Balance | 0 |
| Split Toning Highlight Hue | 0 |
| Split Toning Highlight Saturation | 0 |
| Split Toning Shadow Hue | 0 |
| Split Toning Shadow Saturation | 0 |
| Tint | +6 |
| Tone Curve | 0, 0, 32, 22, 64, 56, 128, 128, 192, 196, 255, 255 |
| Tone Curve Blue | 0, 0, 255, 255 |
| Tone Curve Green | 0, 0, 255, 255 |
| Tone Curve Name | Medium Contrast |
| Tone Curve Name 2012 | Linear |
| Tone Curve PV2012 | 0, 0, 255, 255 |
| Tone Curve PV2012 Blue | 0, 0, 255, 255 |
| Tone Curve PV2012 Green | 0, 0, 255, 255 |
| Tone Curve PV2012 Red | 0, 0, 255, 255 |
| Tone Curve Red | 0, 0, 255, 255 |
| Version | 9.0 |
| Vibrance | 0 |
| Vignette Amount | 0 |
| White Balance | Manual |
| Whites 2012 | +32 |
X