Shooting information for this photo
| Camera: | Canon EOS DIGITAL REBEL XS |
| Exposure: | 0.01667 sec. (1/60) |
| Aperture: | f/5.6 |
| Focal Length: | 55.0 mm (35 mm equivalent: 89.0 mm) |
| Flash: | On, Fired |
| Exposure mode: | Program AE |
| Max Aperture: | 5.7 |
| Resolution: | 300 x 300 dpi |
| Dimension: | 3888 x 2592 pixels |
| Original Date: | 2010:03:21 09:47:19.03 |
| Created on: | 2010:03:21 09:47:19.03 |
| Modified on: | 2017:01:16 18:58:19.03 |
| Software: | Adobe Photoshop CS6 (Windows) |
| Already Applied | True |
| Approximate Focus Distance | 0.93 |
| Auto Lateral CA | 0 |
| Auto White Version | 134348800 |
| Blue Hue | 0 |
| Blue Saturation | 0 |
| Brightness | 0 |
| Camera Profile | Embedded |
| Circle Of Confusion | 0.019 mm |
| Clarity | +23 |
| Color Mode | RGB |
| Color Noise Reduction | 0 |
| Color Space | Uncalibrated |
| Contrast | +19 |
| Convert To Grayscale | False |
| Custom Rendered | Normal |
| Date Created | 2010:03:21 09:47:19.003 |
| Defringe Green Amount | 0 |
| Defringe Green Hue Hi | 60 |
| Defringe Green Hue Lo | 40 |
| Defringe Purple Amount | 0 |
| Defringe Purple Hue Hi | 70 |
| Defringe Purple Hue Lo | 30 |
| Depth Of Field | 0.06 m (0.90 - 0.96) |
| Exposure | 0.00 |
| Exposure Compensation | 0 |
| Exposure Mode | Auto |
| Field Of View | 22.9 deg |
| Fill Light | 20 |
| Firmware | 1.0.3 |
| Flash Compensation | 0 |
| Format | image/jpeg |
| Grain Amount | 0 |
| Green Hue | 0 |
| Green Saturation | 0 |
| Has Crop | False |
| Has Settings | True |
| Highlight Recovery | 11 |
| Hue Adjustment Aqua | 0 |
| Hue Adjustment Blue | 0 |
| Hue Adjustment Green | 0 |
| Hue Adjustment Magenta | 0 |
| Hue Adjustment Orange | 0 |
| Hue Adjustment Purple | 0 |
| Hue Adjustment Red | 0 |
| Hue Adjustment Yellow | 0 |
| Hyperfocal Distance | 29.10 m |
| ICC Profile Name | Adobe RGB (1998) |
| ISO | 100 |
| Image Number | 0 |
| Image Size | 3888x2592 |
| Incremental Temperature | 0 |
| Incremental Tint | 0 |
| Lens | EF-S18-55mm f/3.5-5.6 IS |
| Lens ID | Canon EF-S 18-55mm f/3.5-5.6 IS |
| Lens Info | 18-55mm f/? |
| Lens Manual Distortion Amount | 0 |
| Lens Model | EF-S18-55mm f/3.5-5.6 IS |
| Lens Profile Enable | 0 |
| Lens Profile Setup | LensDefaults |
| Light Value | 10.9 |
| Luminance Adjustment Aqua | 0 |
| Luminance Adjustment Blue | 0 |
| Luminance Adjustment Green | 0 |
| Luminance Adjustment Magenta | 0 |
| Luminance Adjustment Orange | 0 |
| Luminance Adjustment Purple | 0 |
| Luminance Adjustment Red | 0 |
| Luminance Adjustment Yellow | 0 |
| Luminance Smoothing | 0 |
| Metering Mode | Multi-segment |
| Parametric Darks | 0 |
| Parametric Highlight Split | 75 |
| Parametric Highlights | 0 |
| Parametric Lights | 0 |
| Parametric Midtone Split | 50 |
| Parametric Shadow Split | 25 |
| Parametric Shadows | 0 |
| Perspective Aspect | 0 |
| Perspective Horizontal | 0 |
| Perspective Rotate | 0.0 |
| Perspective Scale | 100 |
| Perspective Upright | 0 |
| Perspective Vertical | 0 |
| Post Crop Vignette Amount | 0 |
| Process Version | 5.7 |
| Rating | 0 |
| Raw File Name | IMG_0906.JPG |
| Red Hue | 0 |
| Red Saturation | 0 |
| Saturation | 0 |
| Saturation Adjustment Aqua | 0 |
| Saturation Adjustment Blue | 0 |
| Saturation Adjustment Green | 0 |
| Saturation Adjustment Magenta | 0 |
| Saturation Adjustment Orange | 0 |
| Saturation Adjustment Purple | 0 |
| Saturation Adjustment Red | 0 |
| Saturation Adjustment Yellow | 0 |
| Scale Factor To 35 mm Equivalent | 1.6 |
| Scene Capture Type | Standard |
| Shadow Tint | 0 |
| Shadows | 5 |
| Sharpen Detail | 25 |
| Sharpen Edge Masking | 0 |
| Sharpen Radius | +1.0 |
| Sharpness | 0 |
| Split Toning Balance | 0 |
| Split Toning Highlight Hue | 0 |
| Split Toning Highlight Saturation | 0 |
| Split Toning Shadow Hue | 0 |
| Split Toning Shadow Saturation | 0 |
| Subject Distance | 0.93 m |
| Tone Curve | 0, 0, 255, 255 |
| Tone Curve Blue | 0, 0, 255, 255 |
| Tone Curve Green | 0, 0, 255, 255 |
| Tone Curve Name | Linear |
| Tone Curve Name 2012 | Linear |
| Tone Curve PV2012 | 0, 0, 255, 255 |
| Tone Curve PV2012 Blue | 0, 0, 255, 255 |
| Tone Curve PV2012 Green | 0, 0, 255, 255 |
| Tone Curve PV2012 Red | 0, 0, 255, 255 |
| Tone Curve Red | 0, 0, 255, 255 |
| Version | 9.0 |
| Vibrance | +13 |
| Vignette Amount | 0 |
| White Balance | Auto |
X