Shooting information for this photo
Camera: | Panasonic DMC-GM5 |
Exposure: | 8.0E-5 sec. (1/12800) |
Aperture: | f/1.7 |
Focal Length: | 20.0 mm (35 mm equivalent: 40.0 mm) |
Flash: | Off, Did not fire |
Exposure mode: | Aperture-priority AE |
Max Aperture: | 1.7 |
Resolution: | 240 x 240 dpi |
Dimension: | 3448 x 4592 pixels |
Original Date: | 2017:07:19 02:40:59.561 |
Created on: | 2017:07:19 02:40:59.561 |
Modified on: | 2017:08:05 08:43:27 |
Software: | Adobe Photoshop Lightroom 5.7.1 (Macintosh) |
Already Applied | True |
Auto Lateral CA | 0 |
Auto White Version | 134348800 |
Blacks 2012 | +20 |
Blue Hue | -5 |
Blue Saturation | -10 |
Camera Profile | Adobe Standard |
Circle Of Confusion | 0.015 mm |
Clarity 2012 | +55 |
Color Noise Reduction | 25 |
Color Noise Reduction Detail | 50 |
Color Noise Reduction Smoothness | 50 |
Color Space | sRGB |
Color Temperature | 4900 |
Contrast | High |
Contrast 2012 | -5 |
Convert To Grayscale | False |
Custom Rendered | Custom |
Defringe Green Amount | 0 |
Defringe Green Hue Hi | 60 |
Defringe Green Hue Lo | 40 |
Defringe Purple Amount | 0 |
Defringe Purple Hue Hi | 70 |
Defringe Purple Hue Lo | 30 |
Digital Zoom Ratio | 0 |
Exposure 2012 | 0.00 |
Exposure Compensation | -0.33 |
Exposure Mode | Auto |
Field Of View | 48.5 deg |
Focal Length In 35mm Format | 40 mm |
Format | image/jpeg |
Gain Control | Low gain up |
Grain Amount | 20 |
Grain Frequency | 70 |
Grain Size | 30 |
Green Hue | +100 |
Green Saturation | -5 |
Has Crop | False |
Has Settings | True |
Highlights 2012 | -15 |
Hue Adjustment Aqua | +5 |
Hue Adjustment Blue | -5 |
Hue Adjustment Green | +20 |
Hue Adjustment Magenta | +20 |
Hue Adjustment Orange | +10 |
Hue Adjustment Purple | +25 |
Hue Adjustment Red | -15 |
Hue Adjustment Yellow | +20 |
Hyperfocal Distance | 15.66 m |
ISO | 200 |
Image Size | 3448x4592 |
Lens | LUMIX G 20/F1.7 |
Lens Manual Distortion Amount | 0 |
Lens Model | LUMIX G 20/F1.7 |
Lens Profile Enable | 0 |
Lens Profile Setup | LensDefaults |
Light Source | Unknown |
Light Value | 14.2 |
Luminance Adjustment Aqua | -15 |
Luminance Adjustment Blue | -25 |
Luminance Adjustment Green | -10 |
Luminance Adjustment Magenta | 0 |
Luminance Adjustment Orange | +5 |
Luminance Adjustment Purple | 0 |
Luminance Adjustment Red | -15 |
Luminance Adjustment Yellow | 0 |
Luminance Smoothing | 0 |
Metering Mode | Multi-segment |
Parametric Darks | -8 |
Parametric Highlight Split | 78 |
Parametric Highlights | 0 |
Parametric Lights | +8 |
Parametric Midtone Split | 40 |
Parametric Shadow Split | 18 |
Parametric Shadows | -10 |
Perspective Aspect | 0 |
Perspective Horizontal | 0 |
Perspective Rotate | 0.0 |
Perspective Scale | 100 |
Perspective Upright | 0 |
Perspective Vertical | 0 |
Post Crop Vignette Amount | 0 |
Process Version | 6.7 |
Red Hue | +55 |
Red Saturation | -20 |
Saturation | Normal |
Saturation Adjustment Aqua | -35 |
Saturation Adjustment Blue | -20 |
Saturation Adjustment Green | -10 |
Saturation Adjustment Magenta | -15 |
Saturation Adjustment Orange | -5 |
Saturation Adjustment Purple | 0 |
Saturation Adjustment Red | -15 |
Saturation Adjustment Yellow | -10 |
Scale Factor To 35 mm Equivalent | 2.0 |
Scene Capture Type | Standard |
Scene Type | Directly photographed |
Sensing Method | One-chip color area |
Shadow Tint | 0 |
Shadows 2012 | +15 |
Sharpen Detail | 25 |
Sharpen Edge Masking | 0 |
Sharpen Radius | +1.0 |
Sharpness | Hard |
Split Toning Balance | +70 |
Split Toning Highlight Hue | 65 |
Split Toning Highlight Saturation | 5 |
Split Toning Shadow Hue | 215 |
Split Toning Shadow Saturation | 45 |
Tint | +11 |
Tone Curve | 0, 0, 255, 255 |
Tone Curve Blue | 0, 0, 255, 255 |
Tone Curve Green | 0, 0, 255, 255 |
Tone Curve Name | Linear |
Tone Curve Name 2012 | Provia 400X XP + Blue |
Tone Curve PV2012 | 0, 20, 42, 52, 137, 139, 255, 255 |
Tone Curve PV2012 Blue | 0, 0, 59, 43, 120, 124, 181, 199, 255, 255 |
Tone Curve PV2012 Green | 0, 0, 63, 43, 112, 126, 181, 201, 255, 255 |
Tone Curve PV2012 Red | 0, 0, 24, 4, 67, 38, 116, 128, 181, 201, 255, 255 |
Tone Curve Red | 0, 0, 255, 255 |
Version | 8.7.1 |
Vibrance | 0 |
Vignette Amount | 0 |
White Balance | Auto |
Whites 2012 | -10 |