Shooting information for this photo
Camera: | Panasonic DMC-GX8 |
Exposure: | 0.00031 sec. (1/3200) |
Aperture: | f/4.0 |
Focal Length: | 15.0 mm (35 mm equivalent: 30.0 mm) |
Flash: | Off, Did not fire |
Exposure mode: | Aperture-priority AE |
Max Aperture: | 1.7 |
Resolution: | 240 x 240 dpi |
Dimension: | 3888 x 5184 pixels |
Original Date: | 2017:06:21 10:39:50.840 |
Created on: | 2017:06:21 10:39:50.840 |
Modified on: | 2017:06:22 00:40:10 |
Software: | Adobe Photoshop Lightroom 5.7.1 (Macintosh) |
Already Applied | True |
Auto Lateral CA | 0 |
Auto White Version | 134348800 |
Blacks 2012 | +25 |
Blue Hue | -12 |
Blue Saturation | -15 |
Camera Profile | Portra 160⁺¹ |
Circle Of Confusion | 0.015 mm |
Clarity 2012 | 0 |
Color Noise Reduction | 25 |
Color Noise Reduction Detail | 50 |
Color Noise Reduction Smoothness | 50 |
Color Space | sRGB |
Color Temperature | 5850 |
Contrast | Normal |
Contrast 2012 | 0 |
Convert To Grayscale | False |
Custom Rendered | Normal |
Defringe Green Amount | 0 |
Defringe Green Hue Hi | 60 |
Defringe Green Hue Lo | 40 |
Defringe Purple Amount | 0 |
Defringe Purple Hue Hi | 70 |
Defringe Purple Hue Lo | 30 |
Digital Zoom Ratio | 0 |
Exposure 2012 | 0.00 |
Exposure Compensation | -0.33 |
Exposure Mode | Auto |
Field Of View | 61.9 deg |
Focal Length In 35mm Format | 30 mm |
Format | image/jpeg |
Gain Control | Low gain up |
Grain Amount | 15 |
Grain Frequency | 50 |
Grain Size | 20 |
Green Hue | +50 |
Green Saturation | -10 |
Has Crop | False |
Has Settings | True |
Highlights 2012 | -25 |
Hue Adjustment Aqua | +5 |
Hue Adjustment Blue | -4 |
Hue Adjustment Green | +15 |
Hue Adjustment Magenta | +25 |
Hue Adjustment Orange | +12 |
Hue Adjustment Purple | +10 |
Hue Adjustment Red | +8 |
Hue Adjustment Yellow | +10 |
Hyperfocal Distance | 3.74 m |
ISO | 200 |
Image Size | 3888x5184 |
Lens | DJI MFT 15mm F1.7 ASPH |
Lens Manual Distortion Amount | 0 |
Lens Model | DJI MFT 15mm F1.7 ASPH |
Lens Profile Enable | 0 |
Lens Profile Setup | LensDefaults |
Light Source | Unknown |
Light Value | 14.6 |
Luminance Adjustment Aqua | 0 |
Luminance Adjustment Blue | -10 |
Luminance Adjustment Green | 0 |
Luminance Adjustment Magenta | 0 |
Luminance Adjustment Orange | -2 |
Luminance Adjustment Purple | 0 |
Luminance Adjustment Red | -20 |
Luminance Adjustment Yellow | 0 |
Luminance Smoothing | 0 |
Metering Mode | Multi-segment |
Parametric Darks | +4 |
Parametric Highlight Split | 75 |
Parametric Highlights | -5 |
Parametric Lights | 0 |
Parametric Midtone Split | 48 |
Parametric Shadow Split | 20 |
Parametric Shadows | -15 |
Perspective Aspect | 0 |
Perspective Horizontal | 0 |
Perspective Rotate | 0.0 |
Perspective Scale | 100 |
Perspective Upright | 0 |
Perspective Vertical | 0 |
Post Crop Vignette Amount | 0 |
Process Version | 6.7 |
Red Hue | +30 |
Red Saturation | -10 |
Saturation | Normal |
Saturation Adjustment Aqua | -10 |
Saturation Adjustment Blue | -10 |
Saturation Adjustment Green | -20 |
Saturation Adjustment Magenta | -20 |
Saturation Adjustment Orange | -2 |
Saturation Adjustment Purple | 0 |
Saturation Adjustment Red | -20 |
Saturation Adjustment Yellow | -5 |
Scale Factor To 35 mm Equivalent | 2.0 |
Scene Capture Type | Standard |
Scene Type | Directly photographed |
Sensing Method | One-chip color area |
Shadow Tint | 0 |
Shadows 2012 | +25 |
Sharpen Detail | 25 |
Sharpen Edge Masking | 0 |
Sharpen Radius | +1.0 |
Sharpness | Normal |
Split Toning Balance | 0 |
Split Toning Highlight Hue | 0 |
Split Toning Highlight Saturation | 5 |
Split Toning Shadow Hue | 0 |
Split Toning Shadow Saturation | 0 |
Tint | +14 |
Tone Curve | 0, 0, 255, 255 |
Tone Curve Blue | 0, 0, 255, 255 |
Tone Curve Green | 0, 0, 255, 255 |
Tone Curve Name | Linear |
Tone Curve Name 2012 | Portra 160+1 |
Tone Curve PV2012 | 0, 10, 35, 38, 96, 96, 166, 171, 255, 255 |
Tone Curve PV2012 Blue | 0, 0, 44, 18, 80, 63, 117, 122, 179, 200, 255, 255 |
Tone Curve PV2012 Green | 0, 0, 46, 20, 117, 122, 179, 200, 255, 255 |
Tone Curve PV2012 Red | 0, 0, 47, 18, 80, 62, 117, 122, 179, 200, 255, 255 |
Tone Curve Red | 0, 0, 255, 255 |
Version | 8.7.1 |
Vibrance | 0 |
Vignette Amount | 0 |
White Balance | Auto |
Whites 2012 | -25 |