Shooting information for this photo
| Camera: | NIKON CORPORATION NIKON D5100 |
| Exposure: | 0.0025 sec. (1/400) |
| Aperture: | f/10.0 |
| Focal Length: | 18.0 mm (35 mm equivalent: 27.0 mm) |
| Flash: | No Flash |
| Exposure mode: | Program AE |
| Max Aperture: | 3.5 |
| Resolution: | 240 x 240 dpi |
| Original Date: | 2016:08:13 14:33:57.9 |
| Created on: | 2016:08:13 14:33:57.9 |
| Modified on: | 2016:08:17 15:33:07 |
| Software: | Adobe Photoshop Lightroom 6.0 (Windows) |
| Already Applied | True |
| Approximate Focus Distance | 3758 |
| Auto Lateral CA | 0 |
| Auto White Version | 134348800 |
| Blacks 2012 | -5 |
| Blue Hue | 0 |
| Blue Saturation | 0 |
| Camera Profile | Adobe Standard |
| Circle Of Confusion | 0.020 mm |
| Circular Gradient Based Corrections Correction Active | true |
| Circular Gradient Based Corrections Correction Amount | 1.000000 |
| Circular Gradient Based Corrections Correction Masks Angle | 0.000000 |
| Circular Gradient Based Corrections Correction Masks Bottom | 0.747474 |
| Circular Gradient Based Corrections Correction Masks Feather | +50 |
| Circular Gradient Based Corrections Correction Masks Flipped | true |
| Circular Gradient Based Corrections Correction Masks Left | -0.065775 |
| Circular Gradient Based Corrections Correction Masks Mask Value | 1.000000 |
| Circular Gradient Based Corrections Correction Masks Midpoint | +50 |
| Circular Gradient Based Corrections Correction Masks Right | 0.895206 |
| Circular Gradient Based Corrections Correction Masks Roundness | 0 |
| Circular Gradient Based Corrections Correction Masks Top | 0.501683 |
| Circular Gradient Based Corrections Correction Masks Version | +2 |
| Circular Gradient Based Corrections Correction Masks What | Mask/CircularGradient |
| Circular Gradient Based Corrections Local Brightness | 0.000000 |
| Circular Gradient Based Corrections Local Clarity 2012 | 0.031060 |
| Circular Gradient Based Corrections Local Contrast 2012 | 0.109090 |
| Circular Gradient Based Corrections Local Defringe | 0.000000 |
| Circular Gradient Based Corrections Local Exposure 2012 | -0.018750 |
| Circular Gradient Based Corrections Local Highlights 2012 | 0.072730 |
| Circular Gradient Based Corrections Local Luminance Noise | 0.000000 |
| Circular Gradient Based Corrections Local Moire | 0.080750 |
| Circular Gradient Based Corrections Local Saturation | 0.000000 |
| Circular Gradient Based Corrections Local Shadows 2012 | 0.937890 |
| Circular Gradient Based Corrections Local Sharpness | 0.167700 |
| Circular Gradient Based Corrections Local Temperature | 0.006210 |
| Circular Gradient Based Corrections Local Tint | 0.000000 |
| Circular Gradient Based Corrections Local Toning Hue | 0.000000 |
| Circular Gradient Based Corrections Local Toning Saturation | 0.000000 |
| Circular Gradient Based Corrections What | Correction |
| Clarity 2012 | 0 |
| Color Noise Reduction | 25 |
| Color Noise Reduction Detail | 50 |
| Color Noise Reduction Smoothness | 50 |
| Color Temperature | 5150 |
| Contrast | Normal |
| Contrast 2012 | 0 |
| Convert To Grayscale | False |
| Custom Rendered | Normal |
| Defringe Green Amount | 0 |
| Defringe Green Hue Hi | 60 |
| Defringe Green Hue Lo | 40 |
| Defringe Purple Amount | 0 |
| Defringe Purple Hue Hi | 70 |
| Defringe Purple Hue Lo | 30 |
| Digital Zoom Ratio | 1 |
| Exposure 2012 | 0.00 |
| Exposure Compensation | 0 |
| Exposure Mode | Auto |
| Field Of View | 67.4 deg |
| Focal Length In 35mm Format | 27 mm |
| Format | image/jpeg |
| Gain Control | Low gain up |
| Gradient Based Corr Active | true |
| Gradient Based Corr Amount | 1.000000 |
| Gradient Based Corr Brightness | 0.000000 |
| Gradient Based Corr Clarity 2012 | 0.018180 |
| Gradient Based Corr Contrast 2012 | 0.109090 |
| Gradient Based Corr Defringe | 0.000000 |
| Gradient Based Corr Exposure 2012 | -0.229750 |
| Gradient Based Corr Highlights 2012 | -0.167700 |
| Gradient Based Corr Hue | 0.000000 |
| Gradient Based Corr Luminance Noise | 0.000000 |
| Gradient Based Corr Mask Full X | 0.571672 |
| Gradient Based Corr Mask Full Y | -0.007732 |
| Gradient Based Corr Mask Value | 1.000000 |
| Gradient Based Corr Mask What | Mask/Gradient |
| Gradient Based Corr Mask Zero X | 0.573379 |
| Gradient Based Corr Mask Zero Y | 0.438144 |
| Gradient Based Corr Moire | 0.000000 |
| Gradient Based Corr Saturation | 0.000000 |
| Gradient Based Corr Shadows 2012 | 0.540370 |
| Gradient Based Corr Sharpness | 0.090910 |
| Gradient Based Corr Temperature | 0.006210 |
| Gradient Based Corr Tint | 0.000000 |
| Gradient Based Corr What | Correction |
| Grain Amount | 0 |
| Green Hue | 0 |
| Green Saturation | 0 |
| Has Crop | False |
| Has Settings | True |
| Highlights 2012 | -36 |
| Hue Adjustment Aqua | 0 |
| Hue Adjustment Blue | 0 |
| Hue Adjustment Green | 0 |
| Hue Adjustment Magenta | 0 |
| Hue Adjustment Orange | 0 |
| Hue Adjustment Purple | 0 |
| Hue Adjustment Red | 0 |
| Hue Adjustment Yellow | 0 |
| Hyperfocal Distance | 1.62 m |
| ISO | 400 |
| Image Number | 11105 |
| Image Size | 4928x3264 |
| Lens | 18.0-270.0 mm f/3.5-6.3 |
| Lens ID | Tamron AF 18-270mm f/3.5-6.3 Di II VC PZD (B008) |
| Lens Info | 18-270mm f/3.5-6.3 |
| Lens Manual Distortion Amount | 0 |
| Lens Model | 18.0-270.0 mm f/3.5-6.3 |
| Lens Profile Enable | 0 |
| Lens Profile Setup | LensDefaults |
| Light Source | Unknown |
| Light Value | 13.3 |
| Luminance Adjustment Aqua | 0 |
| Luminance Adjustment Blue | 0 |
| Luminance Adjustment Green | 0 |
| Luminance Adjustment Magenta | 0 |
| Luminance Adjustment Orange | 0 |
| Luminance Adjustment Purple | 0 |
| Luminance Adjustment Red | 0 |
| Luminance Adjustment Yellow | 0 |
| Luminance Smoothing | 0 |
| Metering Mode | Multi-segment |
| Paint Correction Active | true |
| Paint Correction Amount | 1.000000 |
| Paint Correction Brightness | 0.000000 |
| Paint Correction Clarity 2012 | 0.018180 |
| Paint Correction Contrast 2012 | 0.109090 |
| Paint Correction Defringe | 0.000000 |
| Paint Correction Exposure 2012 | -0.155250 |
| Paint Correction Highlights 2012 | 0.072730 |
| Paint Correction Hue | 226.000000 |
| Paint Correction Luminance Noise | 0.000000 |
| Paint Correction Mask Center Weight | 0.102357 |
| Paint Correction Mask Flow | 1.000000 |
| Paint Correction Mask Radius | 0.096861 |
| Paint Correction Mask Value | 0.571000 |
| Paint Correction Mask What | Mask/Paint |
| Paint Correction Moire | 0.000000 |
| Paint Correction Saturation | 0.310000 |
| Paint Correction Shadows 2012 | 0.515530 |
| Paint Correction Sharpness | 0.090910 |
| Paint Correction Temperature | 0.006210 |
| Paint Correction Tint | 0.000000 |
| Paint Correction What | Correction |
| Parametric Darks | 0 |
| Parametric Highlight Split | 75 |
| Parametric Highlights | 0 |
| Parametric Lights | 0 |
| Parametric Midtone Split | 50 |
| Parametric Shadow Split | 25 |
| Parametric Shadows | 0 |
| Perspective Aspect | 0 |
| Perspective Horizontal | 0 |
| Perspective Rotate | 0.0 |
| Perspective Scale | 100 |
| Perspective Upright | 0 |
| Perspective Vertical | 0 |
| Post Crop Vignette Amount | 0 |
| Process Version | 6.7 |
| Raw File Name | DSC_0021.jpg |
| Red Hue | 0 |
| Red Saturation | 0 |
| Saturation | Normal |
| Saturation Adjustment Aqua | 0 |
| Saturation Adjustment Blue | 0 |
| Saturation Adjustment Green | 0 |
| Saturation Adjustment Magenta | 0 |
| Saturation Adjustment Orange | 0 |
| Saturation Adjustment Purple | 0 |
| Saturation Adjustment Red | 0 |
| Saturation Adjustment Yellow | 0 |
| Scale Factor To 35 mm Equivalent | 1.5 |
| Scene Capture Type | Standard |
| Scene Type | Directly photographed |
| Sensing Method | One-chip color area |
| Shadow Tint | 0 |
| Shadows 2012 | +30 |
| Sharpen Detail | 25 |
| Sharpen Edge Masking | 0 |
| Sharpen Radius | +1.0 |
| Sharpness | Normal |
| Split Toning Balance | 0 |
| Split Toning Highlight Hue | 0 |
| Split Toning Highlight Saturation | 0 |
| Split Toning Shadow Hue | 0 |
| Split Toning Shadow Saturation | 0 |
| Subject Distance Range | Unknown |
| Tint | +15 |
| Tone Curve | 0, 0, 255, 255 |
| Tone Curve Blue | 0, 0, 255, 255 |
| Tone Curve Green | 0, 0, 255, 255 |
| Tone Curve Name | Linear |
| Tone Curve Name 2012 | Linear |
| Tone Curve PV2012 | 0, 0, 255, 255 |
| Tone Curve PV2012 Blue | 0, 0, 255, 255 |
| Tone Curve PV2012 Green | 0, 0, 255, 255 |
| Tone Curve PV2012 Red | 0, 0, 255, 255 |
| Tone Curve Red | 0, 0, 255, 255 |
| Version | 9.0 |
| Vibrance | 0 |
| Vignette Amount | 0 |
| White Balance | Auto |
| Whites 2012 | -38 |
X