Shooting information for this photo
Camera: | NIKON CORPORATION NIKON D5100 |
Exposure: | 0.01667 sec. (1/60) |
Aperture: | f/4.0 |
Focal Length: | 18.0 mm (35 mm equivalent: 27.0 mm) |
Flash: | Off, Did not fire |
Exposure mode: | Not Defined |
Max Aperture: | 3.6 |
Resolution: | 300 x 300 dpi |
Dimension: | 3264 x 4928 pixels |
Original Date: | 2014:05:31 13:44:55 |
Created on: | 2014:05:31 13:44:55 |
Modified on: | 2014:06:14 09:20:07 |
Software: | Microsoft Photo Gallery 16.4.3505.912 |
AF Aperture | 3.7 |
AF Area Mode | Auto-area |
AF Info 2 Version | 0100 |
AF Points Used | Center, Top, Mid-left, Upper-left, Lower-left, Far Left, Mid-right, Lower-right, Far Right |
Active D-Lighting | Auto |
Already Applied | False |
Approximate Focus Distance | 4294967295 |
Auto Distortion Control | On |
Auto Focus | On |
Auto Lateral CA | 0 |
Blacks 2012 | +76 |
Blue Balance | 1.390625 |
Blue Hue | 0 |
Blue Saturation | 0 |
Brightness | 0 |
CFA Pattern | [Red,Green][Green,Blue] |
Camera Profile | Embedded |
Circle Of Confusion | 0.020 mm |
Clarity | 0 |
Clarity 2012 | +56 |
Color Noise Reduction | 0 |
Color Space | sRGB |
Contrast | Normal |
Contrast 2012 | +41 |
Contrast Detect AF | Off |
Contrast Detect AF In Focus | No |
Convert To Grayscale | False |
Crop Angle | 1.453895 |
Crop Bottom | 0.989642 |
Crop Constrain To Warp | 1 |
Crop Hi Speed | Off (4992x3280 cropped to 4992x3280 at pixel 0,0) |
Crop Left | 0.036906 |
Crop Right | 0.963094 |
Crop Top | 0.010358 |
Custom Rendered | Normal |
Defringe | 0 |
Depth Of Field | inf (2.36 m - inf) |
Digital Zoom Ratio | 1 |
Effective Max Aperture | 3.7 |
Exit Pupil Position | 93.1 mm |
Exposure | 0.00 |
Exposure 2012 | -0.10 |
Exposure Bracket Value | 0 |
Exposure Compensation | 0 |
Exposure Difference | 0 |
Exposure Mode | Auto |
Exposure Tuning | 0 |
External Flash Compensation | 0 |
External Flash Exposure Comp | 0 |
External Flash Firmware | n/a |
External Flash Flags | (none) |
Field Of View | 67.2 deg (7.47 m) |
Fill Light | 0 |
Filter Effect | n/a |
Firmware Version | 1.01b |
Flash Color Filter | None |
Flash Commander Mode | Off |
Flash Compensation | 0 |
Flash Control Mode | Off |
Flash Exposure Bracket Value | 0.0 |
Flash Exposure Comp 3 | 0 |
Flash Exposure Comp 4 | 0 |
Flash Exposure Compensation | 0 |
Flash GN Distance | 0 |
Flash Group A Compensation | 0 |
Flash Group A Control Mode | Off |
Flash Group B Compensation | 0 |
Flash Group B Control Mode | Off |
Flash Group C Compensation | 0 |
Flash Group C Control Mode | Off |
Flash Info Version | 0104 |
Flash Mode | Did Not Fire |
Flash Source | None |
Focal Length In 35mm Format | 27 mm |
Focus Distance | 5.62 m |
Focus Mode | AF-A |
Focus Position | 0x05 |
Format | image/jpeg |
Gain Control | Low gain up |
Grain Amount | 0 |
Green Hue | 0 |
Green Saturation | 0 |
Has Crop | True |
Has Settings | True |
High ISO Noise Reduction | High |
Highlight Recovery | 0 |
Highlights 2012 | +49 |
Hue Adjustment | None |
Hue Adjustment Aqua | 0 |
Hue Adjustment Blue | 0 |
Hue Adjustment Green | 0 |
Hue Adjustment Magenta | 0 |
Hue Adjustment Orange | 0 |
Hue Adjustment Purple | 0 |
Hue Adjustment Red | 0 |
Hue Adjustment Yellow | 0 |
Hyperfocal Distance | 4.04 m |
ISO | 640 |
ISO2 | 635 |
ISO Expansion | Off |
ISO Expansion 2 | Off |
ISO Setting | 640 |
Image Boundary | 0 0 4928 3264 |
Image Data Size | 6894299 |
Image Number | 5615 |
Image Size | 3264x4928 |
Incremental Temperature | 0 |
Incremental Tint | 0 |
Lens | 18-105mm f/3.5-5.6 G VR |
Lens Data Version | 0204 |
Lens F Stops | 5.33 |
Lens ID | AF-S DX VR Zoom-Nikkor 18-105mm f/3.5-5.6G ED |
Lens ID Number | 158 |
Lens Info | 18-105mm f/3.5-5.6 |
Lens Manual Distortion Amount | 0 |
Lens Profile Enable | 0 |
Lens Profile Setup | LensDefaults |
Lens Type | G VR |
Light Source | Fine Weather |
Light Value | 7.2 |
Location Created City | Winchester |
Location Created Country Name | Vereinigtes Königreich |
Location Created Province State | England |
Luminance Adjustment Aqua | 0 |
Luminance Adjustment Blue | 0 |
Luminance Adjustment Green | 0 |
Luminance Adjustment Magenta | 0 |
Luminance Adjustment Orange | 0 |
Luminance Adjustment Purple | 0 |
Luminance Adjustment Red | 0 |
Luminance Adjustment Yellow | 0 |
Luminance Smoothing | 0 |
MCU Version | 160 |
Maker Note Version | 2.10 |
Max Aperture At Max Focal | 5.7 |
Max Aperture At Min Focal | 3.6 |
Max Focal Length | 106.8 mm |
Metering Mode | Multi-segment |
Min Focal Length | 18.3 mm |
Multi Exposure Auto Gain | Off |
Multi Exposure Mode | Off |
Multi Exposure Shots | 0 |
Multi Exposure Version | 0100 |
Noise Reduction | Off |
Offset Schema | 4088 |
Parametric Darks | 0 |
Parametric Highlight Split | 75 |
Parametric Highlights | 0 |
Parametric Lights | 0 |
Parametric Midtone Split | 50 |
Parametric Shadow Split | 25 |
Parametric Shadows | 0 |
Perspective Horizontal | 0 |
Perspective Rotate | 0.0 |
Perspective Scale | 100 |
Perspective Vertical | 0 |
Phase Detect AF | On (11-point) |
Picture Control Adjust | Default Settings |
Picture Control Base | Landscape |
Picture Control Name | Landscape |
Picture Control Quick Adjust | n/a |
Picture Control Version | 0100 |
Post Crop Vignette Amount | 0 |
Primary AF Point | Center |
Process Version | 6.7 |
Program Shift | 0 |
Quality | Fine |
Rating | 0 |
Raw File Name | DSC_0287.JPG |
Red Balance | 2.027344 |
Red Hue | 0 |
Red Saturation | 0 |
Saturation | Normal |
Saturation Adjustment Aqua | 0 |
Saturation Adjustment Blue | 0 |
Saturation Adjustment Green | 0 |
Saturation Adjustment Magenta | 0 |
Saturation Adjustment Orange | 0 |
Saturation Adjustment Purple | 0 |
Saturation Adjustment Red | 0 |
Saturation Adjustment Yellow | 0 |
Scale Factor To 35 mm Equivalent | 1.5 |
Scene Capture Type | Landscape |
Scene Type | Directly photographed |
Sensing Method | One-chip color area |
Sensitivity Type | Recommended Exposure Index |
Shadow Tint | 0 |
Shadows | 0 |
Shadows 2012 | 0 |
Sharpen Detail | 25 |
Sharpen Edge Masking | 0 |
Sharpen Radius | +1.0 |
Sharpness | Normal |
Shooting Mode | Single-Frame |
Shot Info Version | 0221 |
Shutter Count | 5615 |
Split Toning Balance | 0 |
Split Toning Highlight Hue | 0 |
Split Toning Highlight Saturation | 0 |
Split Toning Shadow Hue | 0 |
Split Toning Shadow Saturation | 0 |
Subject Distance Range | Unknown |
Tone Curve | 0, 0, 255, 255 |
Tone Curve Blue | 0, 0, 255, 255 |
Tone Curve Green | 0, 0, 255, 255 |
Tone Curve Name | Linear |
Tone Curve Name 2012 | Linear |
Tone Curve PV2012 | 0, 0, 255, 255 |
Tone Curve PV2012 Blue | 0, 0, 255, 255 |
Tone Curve PV2012 Green | 0, 0, 255, 255 |
Tone Curve PV2012 Red | 0, 0, 255, 255 |
Tone Curve Red | 0, 0, 255, 255 |
Toning Effect | n/a |
Toning Saturation | n/a |
VR Info Version | 0100 |
Vari Program | Sunset |
Version | 7.0 |
Vibrance | 0 |
Vibration Reduction | On |
Vignette Amount | 0 |
WB GRBG Levels | 256 519 356 256 |
WB RB Levels | 2.02734375 1.390625 1 1 |
White Balance | Sunny |
White Balance Fine Tune | 0 0 |
Whites 2012 | +17 |
GPS Information |
GPS Version ID | 2.3.0.0 |