Shooting information for this photo
Camera: | NIKON CORPORATION NIKON D700 |
Exposure: | 1.3 sec. |
Aperture: | f/5.6 |
Focal Length: | 32.0 mm (35 mm equivalent: 32.0 mm) |
Flash: | No Flash |
Exposure mode: | Aperture-priority AE |
Max Aperture: | 2.8 |
Resolution: | 240 x 240 dpi |
Dimension: | 4256 x 2832 pixels |
Original Date: | 2011:03:12 21:28:54.79 |
Digitized Date: | 2011:03:12 21:28:54.79+01:00 |
Created on: | 2011:03:12 21:28:54.79 |
Modified on: | 2011:03:13 15:57:03 |
Software: | Microsoft Windows Live Photo Gallery14.0.8081.709 |
Already Applied | True |
Approximate Focus Distance | 4294967295 |
Blue Hue | 0 |
Blue Saturation | 0 |
Brightness | 0 |
CFA Pattern | [Red,Green][Green,Blue] |
Camera Profile | Embedded |
Chromatic Aberration B | 0 |
Chromatic Aberration R | 0 |
Circle Of Confusion | 0.030 mm |
Clarity | +100 |
Color Noise Reduction | 0 |
Contrast | -25 |
Convert To Grayscale | False |
Custom Rendered | Normal |
Defringe | 0 |
Depth Of Field | inf (6.09 m - inf) |
Digital Zoom Ratio | 1 |
Exposure | -1.00 |
Exposure Compensation | 0 |
Exposure Mode | Auto |
Field Of View | 58.7 deg |
Fill Light | 34 |
Flash Fired | False |
Flash Function | False |
Flash Mode | Unknown |
Flash Red Eye Mode | False |
Flash Return | No return detection |
Focal Length In 35mm Format | 32 mm |
Gain Control | Low gain up |
Grain Amount | 0 |
Green Hue | 0 |
Green Saturation | 0 |
Has Crop | False |
Has Settings | True |
Highlight Recovery | 0 |
Hue Adjustment Aqua | 0 |
Hue Adjustment Blue | 0 |
Hue Adjustment Green | 0 |
Hue Adjustment Magenta | 0 |
Hue Adjustment Orange | 0 |
Hue Adjustment Purple | 0 |
Hue Adjustment Red | 0 |
Hue Adjustment Yellow | 0 |
Hyperfocal Distance | 6.09 m |
ISO | 400 |
Image Number | 7662 |
Image Size | 4256x1887 |
Incremental Temperature | -39 |
Incremental Tint | +25 |
Lens | 24.0-70.0 mm f/2.8 |
Lens ID | Sigma 24-70mm F2.8 IF EX DG HSM |
Lens Info | 24-70mm f/2.8 |
Lens Manual Distortion Amount | 0 |
Lens Model | 24.0-70.0 mm f/2.8 |
Lens Profile Enable | 0 |
Lens Profile Setup | LensDefaults |
Light Source | Unknown |
Light Value | 2.6 |
Luminance Adjustment Aqua | 0 |
Luminance Adjustment Blue | 0 |
Luminance Adjustment Green | 0 |
Luminance Adjustment Magenta | 0 |
Luminance Adjustment Orange | 0 |
Luminance Adjustment Purple | 0 |
Luminance Adjustment Red | 0 |
Luminance Adjustment Yellow | 0 |
Luminance Smoothing | 0 |
Metering Mode | Multi-segment |
Parametric Darks | 0 |
Parametric Highlight Split | 75 |
Parametric Highlights | +23 |
Parametric Lights | 0 |
Parametric Midtone Split | 50 |
Parametric Shadow Split | 25 |
Parametric Shadows | +65 |
Perspective Horizontal | 0 |
Perspective Rotate | 0.0 |
Perspective Scale | 100 |
Perspective Vertical | 0 |
Post Crop Vignette Amount | 0 |
Process Version | 5.7 |
Red Hue | 0 |
Red Saturation | 0 |
Saturation | 0 |
Saturation Adjustment Aqua | 0 |
Saturation Adjustment Blue | 0 |
Saturation Adjustment Green | 0 |
Saturation Adjustment Magenta | 0 |
Saturation Adjustment Orange | 0 |
Saturation Adjustment Purple | 0 |
Saturation Adjustment Red | 0 |
Saturation Adjustment Yellow | 0 |
Scale Factor To 35 mm Equivalent | 1.0 |
Scene Capture Type | Standard |
Scene Type | Directly photographed |
Sensing Method | One-chip color area |
Sensitivity Type | Unknown |
Shadow Tint | 0 |
Shadows | 0 |
Sharpen Detail | 25 |
Sharpen Edge Masking | 0 |
Sharpen Radius | +1.0 |
Sharpness | 0 |
Split Toning Balance | 0 |
Split Toning Highlight Hue | 0 |
Split Toning Highlight Saturation | 0 |
Split Toning Shadow Hue | 0 |
Split Toning Shadow Saturation | 0 |
Subject Distance | 4294967295 m |
Subject Distance Range | Unknown |
Tone Curve | 0, 0, 32, 22, 64, 56, 128, 128, 192, 196, 255, 255 |
Tone Curve Name | Medium Contrast |
Version | 6.3 |
Vibrance | 0 |
Vignette Amount | 0 |
White Balance | Auto |