Shooting information for this photo
Camera: | Canon EOS 5D Mark II |
Exposure: | 0.00313 sec. (1/320) |
Aperture: | f/10.0 |
Focal Length: | 16.0 mm (35 mm equivalent: 103.2 mm) |
Flash: | Off, Did not fire |
Exposure mode: | Manual |
Max Aperture: | 2.8 |
Resolution: | 72 x 72 dpi |
Dimension: | 850 x 567 pixels |
Original Date: | 2011:02:26 14:24:04.25 |
Digitized Date: | 2011:02:26 14:24:04.25Z |
Created on: | 2011:02:26 14:24:04.25 |
Modified on: | 2011:03:25 18:48:47 |
Software: | Adobe Photoshop CS5 Macintosh |
Copyright: | Copyright: Ragnheidur Arngrimsdottir |
Already Applied | True |
Approximate Focus Distance | 1.57 |
Artist | Photographer: Ragnheidur Arngrimsdottir |
Blue Hue | 0 |
Blue Saturation | 0 |
Brightness | 0 |
Camera Profile | Embedded |
Chromatic Aberration B | 0 |
Chromatic Aberration R | 0 |
Circle Of Confusion | 0.005 mm |
Clarity | +23 |
Color Noise Reduction | 24 |
Color Noise Reduction Detail | 50 |
Contrast | 0 |
Convert To Grayscale | False |
Creator | Photographer: Ragnheidur Arngrimsdottir |
Crop Angle | 0 |
Crop Bottom | 1 |
Crop Constrain To Warp | 0 |
Crop Height | 567 |
Crop Left | 0.052877 |
Crop Right | 0.947123 |
Crop Top | 0 |
Crop Unit | pixels |
Crop Width | 850 |
Custom Rendered | Normal |
Date Created | 2011:02:26 14:24:04.025 |
Defringe | 0 |
Depth Of Field | 0.97 m (1.22 - 2.19) |
Exposure | +0.15 |
Exposure Compensation | 0 |
Exposure Mode | Manual |
Field Of View | 19.8 deg |
Fill Light | 0 |
Firmware | 1.1.0 |
Flash Compensation | 0 |
Flash Fired | False |
Flash Function | False |
Flash Mode | Off |
Flash Red Eye Mode | False |
Flash Return | No return detection |
Format | image/tiff |
Grain Amount | 0 |
Green Hue | 0 |
Green Saturation | 0 |
Has Crop | True |
Has Settings | True |
Highlight Recovery | 0 |
Hue Adjustment Aqua | 0 |
Hue Adjustment Blue | 0 |
Hue Adjustment Green | 0 |
Hue Adjustment Magenta | 0 |
Hue Adjustment Orange | 0 |
Hue Adjustment Purple | 0 |
Hue Adjustment Red | 0 |
Hue Adjustment Yellow | 0 |
Hyperfocal Distance | 5.49 m |
ISO | 100 |
Image Number | 0 |
Image Size | 850x567 |
Incremental Temperature | +2 |
Incremental Tint | 0 |
Label | Yellow |
Lens | EF16-35mm f/2.8L USM |
Lens ID | Canon EF 16-35mm f/2.8L |
Lens Info | 16-35mm f/? |
Lens Manual Distortion Amount | 0 |
Lens Model | EF16-35mm f/2.8L USM |
Lens Profile Enable | 0 |
Lens Profile Setup | LensDefaults |
Light Value | 15.0 |
Luminance Adjustment Aqua | 0 |
Luminance Adjustment Blue | 0 |
Luminance Adjustment Green | 0 |
Luminance Adjustment Magenta | 0 |
Luminance Adjustment Orange | 0 |
Luminance Adjustment Purple | 0 |
Luminance Adjustment Red | 0 |
Luminance Adjustment Yellow | 0 |
Luminance Noise Reduction Contrast | 7 |
Luminance Noise Reduction Detail | 6 |
Luminance Smoothing | 28 |
Metering Mode | Multi-segment |
Owner Name | Ragnheidur Arngrimsdottir |
Paint Correction Active | true |
Paint Correction Amount | 1.000000 |
Paint Correction Brightness | 0.008403 |
Paint Correction Clarity | 0.815126 |
Paint Correction Contrast | 0.630252 |
Paint Correction Exposure | 0.142857 |
Paint Correction Hue | 0.000000 |
Paint Correction Mask Center Weight | 0.214556 |
Paint Correction Mask Flow | 0.967273 |
Paint Correction Mask Radius | 0.054861 |
Paint Correction Mask Value | 0.537190 |
Paint Correction Mask What | Mask/Paint |
Paint Correction Saturation | 0.000000 |
Paint Correction Sharpness | 0.428571 |
Paint Correction What | Correction |
Parametric Darks | +8 |
Parametric Highlight Split | 75 |
Parametric Highlights | 0 |
Parametric Lights | +8 |
Parametric Midtone Split | 50 |
Parametric Shadow Split | 25 |
Parametric Shadows | 0 |
Perspective Horizontal | 0 |
Perspective Rotate | 0.0 |
Perspective Scale | 100 |
Perspective Vertical | 0 |
Post Crop Vignette Amount | 0 |
Process Version | 5.7 |
Rating | 1 |
Red Hue | 0 |
Red Saturation | 0 |
Rights | Copyright: Ragnheidur Arngrimsdottir |
Saturation | 0 |
Saturation Adjustment Aqua | 0 |
Saturation Adjustment Blue | -11 |
Saturation Adjustment Green | 0 |
Saturation Adjustment Magenta | 0 |
Saturation Adjustment Orange | 0 |
Saturation Adjustment Purple | 0 |
Saturation Adjustment Red | 0 |
Saturation Adjustment Yellow | 0 |
Scale Factor To 35 mm Equivalent | 6.4 |
Scene Capture Type | Standard |
Sensitivity Type | Unknown |
Shadow Tint | 0 |
Shadows | 0 |
Sharpen Detail | 25 |
Sharpen Edge Masking | 0 |
Sharpen Radius | +1.0 |
Sharpness | 16 |
Split Toning Balance | 0 |
Split Toning Highlight Hue | 0 |
Split Toning Highlight Saturation | 0 |
Split Toning Shadow Hue | 0 |
Split Toning Shadow Saturation | 0 |
Subject | 2011, Búðardalur, ferðalag, imagio, imagio ferðalag, strandir, vetur |
Subject Distance | 1.57 m |
Tone Curve | 0, 0, 255, 255 |
Tone Curve Name | Linear |
Version | 6.3 |
Vibrance | 0 |
Vignette Amount | 0 |
White Balance | Custom |