Shooting information for this photo
Camera: | Canon EOS 40D |
Exposure: | 0.01667 sec. (1/60) |
Aperture: | f/5.6 |
Focal Length: | 85.0 mm (35 mm equivalent: 137.6 mm) |
Flash: | Off, Did not fire |
Exposure mode: | Program AE |
Max Aperture: | 5.7 |
Resolution: | 240 x 240 dpi |
Original Date: | 2008:02:06 14:29:43.01 |
Digitized Date: | 2008:02:06 14:29:43.01+01:00 |
Created on: | 2008:02:06 14:29:43.01 |
Modified on: | 2008:02:10 16:29:56 |
Already Applied | True |
Artist | Christoph Mueller |
Blue Hue | 0 |
Blue Saturation | 0 |
Brightness | +83 |
Camera Profile | ACR 4.2 |
Chromatic Aberration B | 0 |
Chromatic Aberration R | 0 |
Circle Of Confusion | 0.019 mm |
Clarity | 3 |
Color Noise Reduction | 25 |
Color Temperature | 5050 |
Contrast | +45 |
Convert To Grayscale | False |
Creator | Christoph Mueller |
Custom Rendered | Normal |
Defringe | 0 |
Exposure | +0.11 |
Exposure Compensation | -2/3 |
Exposure Mode | Auto |
Field Of View | 14.9 deg |
Fill Light | 0 |
Firmware | 1.0.3 |
Flash Compensation | 0 |
Flash Fired | False |
Flash Function | False |
Flash Mode | Off |
Flash Red Eye Mode | False |
Flash Return | No return detection |
Green Hue | 0 |
Green Saturation | 0 |
Has Crop | False |
Has Settings | True |
Highlight Recovery | 0 |
Hue Adjustment Aqua | 0 |
Hue Adjustment Blue | 0 |
Hue Adjustment Green | 0 |
Hue Adjustment Magenta | 0 |
Hue Adjustment Orange | 0 |
Hue Adjustment Purple | 0 |
Hue Adjustment Red | 0 |
Hue Adjustment Yellow | 0 |
Hyperfocal Distance | 69.51 m |
ISO | 200 |
Image Number | 0 |
Image Size | 3888x2592 |
Lens | EF-S17-85mm f/4-5.6 IS USM |
Lens Info | 17-85mm f/? |
Light Value | 9.9 |
Luminance Adjustment Aqua | 0 |
Luminance Adjustment Blue | 0 |
Luminance Adjustment Green | 0 |
Luminance Adjustment Magenta | 0 |
Luminance Adjustment Orange | 0 |
Luminance Adjustment Purple | 0 |
Luminance Adjustment Red | 0 |
Luminance Adjustment Yellow | 0 |
Luminance Smoothing | 0 |
Metering Mode | Multi-segment |
Owner Name | Christoph Mueller |
Parametric Darks | 0 |
Parametric Highlight Split | 75 |
Parametric Highlights | 0 |
Parametric Lights | 0 |
Parametric Midtone Split | 50 |
Parametric Shadow Split | 25 |
Parametric Shadows | 0 |
Red Hue | 0 |
Red Saturation | 0 |
Saturation | +3 |
Saturation Adjustment Aqua | 0 |
Saturation Adjustment Blue | 0 |
Saturation Adjustment Green | 0 |
Saturation Adjustment Magenta | 0 |
Saturation Adjustment Orange | 0 |
Saturation Adjustment Purple | 0 |
Saturation Adjustment Red | 0 |
Saturation Adjustment Yellow | 0 |
Scale Factor To 35 mm Equivalent | 1.6 |
Scene Capture Type | Standard |
Shadow Tint | 0 |
Shadows | 1 |
Sharpen Detail | 25 |
Sharpen Edge Masking | 0 |
Sharpen Radius | +1.0 |
Sharpness | 25 |
Split Toning Balance | 0 |
Split Toning Highlight Hue | 0 |
Split Toning Highlight Saturation | 0 |
Split Toning Shadow Hue | 0 |
Split Toning Shadow Saturation | 0 |
Tint | +13 |
Tone Curve | 0, 0, 32, 22, 64, 56, 128, 128, 192, 196, 255, 255 |
Tone Curve Name | Medium Contrast |
Version | 1.0 |
Vibrance | +3 |
Vignette Amount | 0 |
White Balance | As Shot |