Shooting information for this photo
Camera: | NIKON CORPORATION NIKON D700 |
Exposure: | 0.0004 sec. (1/2500) |
Aperture: | f/4.5 |
Focal Length: | 70.0 mm (35 mm equivalent: 70.0 mm) |
Flash: | No Flash |
Exposure mode: | Aperture-priority AE |
Max Aperture: | 4.4 |
Resolution: | 240 x 240 dpi |
Dimension: | 4256 x 2832 pixels |
Original Date: | 2009:09:14 13:12:22.75 |
Digitized Date: | 2009:09:14 13:12:22.75+01:00 |
Created on: | 2009:09:14 13:12:22.75 |
Modified on: | 2009:09:23 17:04:33 |
Software: | Ver.1.00 |
Copyright: | Kieran Turner |
Already Applied | True |
Artist | Kieran Turner |
Blue Hue | 0 |
Blue Saturation | 0 |
Brightness | +50 |
CFA Pattern | [Red,Green][Green,Blue] |
Camera Profile | Camera Portrait |
Chromatic Aberration B | 0 |
Chromatic Aberration R | 0 |
Circle Of Confusion | 0.030 mm |
Clarity | +55 |
Color Noise Reduction | 25 |
Color Space | Uncalibrated |
Color Temperature | 4813 |
Contrast | Normal |
Convert To Grayscale | False |
Creator | Kieran Turner |
Custom Rendered | Normal |
Defringe | 0 |
Digital Zoom Ratio | 1 |
Exposure | +0.25 |
Exposure Compensation | 0 |
Exposure Mode | Auto |
Field Of View | 28.8 deg |
Fill Light | 6 |
Flash Fired | False |
Flash Function | False |
Flash Mode | Unknown |
Flash Red Eye Mode | False |
Flash Return | No return detection |
Focal Length In 35mm Format | 70 mm |
Gain Control | None |
Green Hue | 0 |
Green Saturation | 0 |
Has Crop | False |
Has Settings | True |
Highlight Recovery | 52 |
Hue Adjustment Aqua | 0 |
Hue Adjustment Blue | 0 |
Hue Adjustment Green | 0 |
Hue Adjustment Magenta | 0 |
Hue Adjustment Orange | 0 |
Hue Adjustment Purple | 0 |
Hue Adjustment Red | 0 |
Hue Adjustment Yellow | 0 |
Hyperfocal Distance | 36.24 m |
ISO | 250 |
Image Number | 401 |
Image Size | 4286x2862 |
Lens | 70.0-300.0 mm f/4.5-5.6 |
Lens Info | 70-300mm f/4.5-5.6 |
Light Source | Unknown |
Light Value | 14.3 |
Luminance Adjustment Aqua | 0 |
Luminance Adjustment Blue | 0 |
Luminance Adjustment Green | 0 |
Luminance Adjustment Magenta | 0 |
Luminance Adjustment Orange | 0 |
Luminance Adjustment Purple | 0 |
Luminance Adjustment Red | 0 |
Luminance Adjustment Yellow | 0 |
Luminance Smoothing | 0 |
Marked | True |
Metering Mode | Multi-segment |
Parametric Darks | -14 |
Parametric Highlight Split | 75 |
Parametric Highlights | +24 |
Parametric Lights | +26 |
Parametric Midtone Split | 50 |
Parametric Shadow Split | 25 |
Parametric Shadows | -50 |
Red Hue | 0 |
Red Saturation | 0 |
Rights | Kieran Turner |
Saturation | Normal |
Saturation Adjustment Aqua | -14 |
Saturation Adjustment Blue | 0 |
Saturation Adjustment Green | 0 |
Saturation Adjustment Magenta | 0 |
Saturation Adjustment Orange | -31 |
Saturation Adjustment Purple | 0 |
Saturation Adjustment Red | -14 |
Saturation Adjustment Yellow | -55 |
Scale Factor To 35 mm Equivalent | 1.0 |
Scene Capture Type | Standard |
Scene Type | Directly photographed |
Sensing Method | One-chip color area |
Shadow Tint | 0 |
Shadows | 3 |
Sharpen Detail | 25 |
Sharpen Edge Masking | 0 |
Sharpen Radius | +1.0 |
Sharpness | Normal |
Split Toning Balance | -36 |
Split Toning Highlight Hue | 227 |
Split Toning Highlight Saturation | 31 |
Split Toning Shadow Hue | 73 |
Split Toning Shadow Saturation | 33 |
Subject | brighton |
Subject Distance Range | Unknown |
Tint | 0 |
Tone Curve | 0, 0, 32, 22, 64, 56, 128, 128, 192, 196, 255, 255 |
Tone Curve Name | Medium Contrast |
Version | 5.5 |
Vibrance | -12 |
Vignette Amount | -100 |
Vignette Midpoint | 8 |
White Balance | Auto |