Shooting information for this photo
Camera: | Canon EOS 350D DIGITAL |
Exposure: | 0.01 sec. (1/100) |
Aperture: | f/7.1 |
Focal Length: | 50.0 mm (35 mm equivalent: 81.1 mm) |
Flash: | Off, Did not fire |
Exposure mode: | Program AE |
Max Aperture: | 5.6 |
Resolution: | 96 x 96 dpi |
Original Date: | 2007:09:15 17:31:35 |
Digitized Date: | 2007:09:15 17:31:35+01:00 |
Created on: | 2007:09:15 17:31:35 |
Modified on: | 2007:10:03 21:41:55 |
Already Applied | True |
Artist | unknown |
Blue Hue | 0 |
Blue Saturation | 0 |
Brightness | +50 |
Camera Profile | ACR 3.1 |
Chromatic Aberration B | 0 |
Chromatic Aberration R | 0 |
Circle Of Confusion | 0.019 mm |
Clarity | 45 |
Color Noise Reduction | 25 |
Color Temperature | 7000 |
Contrast | +12 |
Convert To Grayscale | False |
Creator | unknown |
Crop Angle | 0 |
Crop Bottom | 1 |
Crop Height | 689 |
Crop Left | 0.009479 |
Crop Right | 1 |
Crop Top | 0 |
Crop Unit | pixels |
Crop Width | 1024 |
Custom Rendered | Normal |
Defringe | 0 |
Exposure | +0.52 |
Exposure Compensation | 0 |
Exposure Mode | Auto |
Field Of View | 25.0 deg |
Fill Light | 12 |
Firmware | 1.0.3 |
Flash Compensation | -0.333333333333333 |
Flash Fired | False |
Flash Function | False |
Flash Mode | Off |
Flash Red Eye Mode | False |
Flash Return | No return detection |
Green Hue | 0 |
Green Saturation | 0 |
Has Crop | True |
Has Settings | True |
Highlight Recovery | 0 |
Hue Adjustment Aqua | 0 |
Hue Adjustment Blue | 0 |
Hue Adjustment Green | 0 |
Hue Adjustment Magenta | 0 |
Hue Adjustment Orange | 0 |
Hue Adjustment Purple | 0 |
Hue Adjustment Red | 0 |
Hue Adjustment Yellow | 0 |
Hyperfocal Distance | 19.01 m |
ISO | 200 |
Image Number | 224 |
Image Size | 1024x689 |
Lens | 28.0-135.0 mm |
Lens Info | 28-135mm f/? |
Light Value | 11.3 |
Luminance Adjustment Aqua | 0 |
Luminance Adjustment Blue | 0 |
Luminance Adjustment Green | 0 |
Luminance Adjustment Magenta | 0 |
Luminance Adjustment Orange | 0 |
Luminance Adjustment Purple | 0 |
Luminance Adjustment Red | 0 |
Luminance Adjustment Yellow | 0 |
Luminance Smoothing | 0 |
Metering Mode | Partial |
Owner Name | unknown |
Parametric Darks | -15 |
Parametric Highlight Split | 75 |
Parametric Highlights | +8 |
Parametric Lights | +15 |
Parametric Midtone Split | 50 |
Parametric Shadow Split | 25 |
Parametric Shadows | -30 |
Red Hue | 0 |
Red Saturation | 0 |
Saturation | +32 |
Saturation Adjustment Aqua | 0 |
Saturation Adjustment Blue | 0 |
Saturation Adjustment Green | 0 |
Saturation Adjustment Magenta | 0 |
Saturation Adjustment Orange | 0 |
Saturation Adjustment Purple | 0 |
Saturation Adjustment Red | 0 |
Saturation Adjustment Yellow | 0 |
Scale Factor To 35 mm Equivalent | 1.6 |
Scene Capture Type | Standard |
Shadow Tint | 0 |
Shadows | 5 |
Sharpen Detail | 25 |
Sharpen Edge Masking | 100 |
Sharpen Radius | +1.0 |
Sharpness | 25 |
Split Toning Balance | 0 |
Split Toning Highlight Hue | 0 |
Split Toning Highlight Saturation | 0 |
Split Toning Shadow Hue | 0 |
Split Toning Shadow Saturation | 0 |
Tint | +27 |
Tone Curve | 0, 0, 32, 22, 64, 56, 128, 128, 192, 196, 255, 255 |
Tone Curve Name | Medium Contrast |
Version | 1.0 |
Vibrance | -25 |
Vignette Amount | 0 |
White Balance | Auto |