Shooting information for this photo
Camera: | OLYMPUS IMAGING CORP. E-510 |
Exposure: | 0.02 sec. (1/50) |
Aperture: | f/5.6 |
Focal Length: | 46.0 mm |
Flash: | On, Did not fire |
Exposure mode: | Aperture-priority AE |
Max Aperture: | 2.8 |
Resolution: | 240 x 240 dpi |
Dimension: | 2716 x 3622 pixels |
Original Date: | 2008:08:23 08:47:16 |
Digitized Date: | 2008:08:23 08:47:16+01:00 |
Created on: | 2008:08:23 08:47:16 |
Modified on: | 2008:08:26 15:30:14 |
Software: | Adobe Photoshop CS3 Windows |
Already Applied | True |
Blue Hue | 0 |
Blue Saturation | 0 |
Brightness | +54 |
CFA Pattern | [Red,Green][Green,Blue] |
Camera Profile | ACR 4.4 |
Chromatic Aberration B | 0 |
Chromatic Aberration R | 0 |
Clarity | +48 |
Color Mode | RGB |
Color Noise Reduction | 25 |
Color Space | sRGB |
Color Temperature | 5400 |
Contrast | +29 |
Convert To Grayscale | False |
Crop Angle | 0.31366 |
Crop Bottom | 1 |
Crop Height | 4 |
Crop Left | 0.005661 |
Crop Right | 0.994339 |
Crop Top | 0 |
Crop Unit | Unknown (3) |
Crop Width | 3 |
Custom Rendered | Normal |
Defringe | 0 |
Description | OLYMPUS DIGITAL CAMERA |
Digital Zoom Ratio | 1 |
Exposure | -0.60 |
Exposure Compensation | 0 |
Exposure Mode | Auto |
Fill Light | 9 |
Flash Compensation | 0 |
Flash Fired | False |
Flash Function | False |
Flash Mode | On |
Flash Red Eye Mode | False |
Flash Return | No return detection |
Format | image/jpeg |
Gain Control | None |
Green Hue | 0 |
Green Saturation | 0 |
Has Crop | True |
Has Settings | True |
Highlight Recovery | 34 |
Hue Adjustment Aqua | 0 |
Hue Adjustment Blue | 0 |
Hue Adjustment Green | 0 |
Hue Adjustment Magenta | 0 |
Hue Adjustment Orange | 0 |
Hue Adjustment Purple | 0 |
Hue Adjustment Red | 0 |
Hue Adjustment Yellow | 0 |
ICC Profile Name | sRGB IEC61966-2.1 |
ISO | 100 |
Image Description | OLYMPUS DIGITAL CAMERA |
Image Size | 2716x3622 |
Lens | 14.0-54.0 mm f/2.8-3.5 |
Lens Info | 14-54mm f/2.8-3.5 |
Light Source | Unknown |
Light Value | 10.6 |
Luminance Adjustment Aqua | 0 |
Luminance Adjustment Blue | 0 |
Luminance Adjustment Green | 0 |
Luminance Adjustment Magenta | 0 |
Luminance Adjustment Orange | 0 |
Luminance Adjustment Purple | 0 |
Luminance Adjustment Red | 0 |
Luminance Adjustment Yellow | 0 |
Luminance Smoothing | 0 |
Metering Mode | Spot |
Parametric Darks | 0 |
Parametric Highlight Split | 75 |
Parametric Highlights | 0 |
Parametric Lights | 0 |
Parametric Midtone Split | 50 |
Parametric Shadow Split | 25 |
Parametric Shadows | 0 |
Post Crop Vignette Amount | 0 |
Rating | 0 |
Raw File Name | JE234748.ORF |
Red Hue | 0 |
Red Saturation | 0 |
Saturation | +10 |
Saturation Adjustment Aqua | 0 |
Saturation Adjustment Blue | 0 |
Saturation Adjustment Green | 0 |
Saturation Adjustment Magenta | 0 |
Saturation Adjustment Orange | 0 |
Saturation Adjustment Purple | 0 |
Saturation Adjustment Red | 0 |
Saturation Adjustment Yellow | 0 |
Scene Capture Type | Standard |
Shadow Tint | 0 |
Shadows | 0 |
Sharpen Detail | 25 |
Sharpen Edge Masking | 0 |
Sharpen Radius | +1.0 |
Sharpness | 25 |
Split Toning Balance | 0 |
Split Toning Highlight Hue | 0 |
Split Toning Highlight Saturation | 0 |
Split Toning Shadow Hue | 0 |
Split Toning Shadow Saturation | 0 |
Tint | +16 |
Tone Curve | 0, 0, 32, 22, 64, 56, 128, 128, 192, 196, 255, 255 |
Tone Curve Name | Medium Contrast |
Version | 4.5 |
Vibrance | +17 |
Vignette Amount | 0 |
White Balance | As Shot |