Shooting information for this photo
Camera: | NIKON CORPORATION NIKON D300 |
Exposure: | 0.00125 sec. (1/800) |
Aperture: | f/8.0 |
Focal Length: | 420.0 mm (35 mm equivalent: 630.0 mm) |
Flash: | No Flash |
Exposure mode: | Aperture-priority AE |
Max Aperture: | 4.0 |
Resolution: | 240 x 240 dpi |
Dimension: | 3518 x 2345 pixels |
Original Date: | 2013:01:05 09:33:52.60 |
Created on: | 2013:01:05 09:33:52.60 |
Modified on: | 2013:01:05 21:50:17.60 |
Software: | Adobe Photoshop CS5 Macintosh |
Copyright: | JUAN EMILIO |
Already Applied | True |
Approximate Focus Distance | 7.08 |
Artist | JUAN.E |
Auto Lateral CA | 0 |
Blacks 2012 | 0 |
Blue Hue | 0 |
Blue Saturation | 0 |
Brightness | +45 |
CFA Pattern | [Red,Green][Green,Blue] |
Camera Profile | ACR 4.4 |
Circle Of Confusion | 0.020 mm |
Clarity | +25 |
Clarity 2012 | 0 |
Color Mode | RGB |
Color Noise Reduction | 35 |
Color Noise Reduction Detail | 50 |
Color Space | Uncalibrated |
Color Temperature | 4350 |
Contrast | +50 |
Contrast 2012 | 0 |
Convert To Grayscale | False |
Creator | JUAN.E |
Crop Angle | 0 |
Crop Bottom | 0.939681 |
Crop Constrain To Warp | 1 |
Crop Height | 3 |
Crop Left | 0 |
Crop Right | 0.820471 |
Crop Top | 0.116137 |
Crop Unit | Unknown (3) |
Crop Width | 2 |
Custom Rendered | Normal |
Defringe | 0 |
Depth Of Field | 0.09 m (7.04 - 7.12) |
Digital Zoom Ratio | 1 |
Exposure | 0.00 |
Exposure 2012 | 0.00 |
Exposure Compensation | 0 |
Exposure Mode | Auto |
Field Of View | 3.3 deg |
Fill Light | 0 |
Focal Length In 35mm Format | 630 mm |
Format | image/jpeg |
Gain Control | None |
Gradient Based Corr Active | true |
Gradient Based Corr Amount | 1.000000 |
Gradient Based Corr Brightness | 0.000000 |
Gradient Based Corr Clarity | 0.000000 |
Gradient Based Corr Contrast | -0.100000 |
Gradient Based Corr Exposure | -0.250000 |
Gradient Based Corr Hue | 92.000000 |
Gradient Based Corr Mask Full X | 0.819763 |
Gradient Based Corr Mask Full Y | 0.441163 |
Gradient Based Corr Mask Value | 1.000000 |
Gradient Based Corr Mask What | Mask/Gradient |
Gradient Based Corr Mask Zero X | 0.397885 |
Gradient Based Corr Mask Zero Y | 0.441163 |
Gradient Based Corr Saturation | 0.110000 |
Gradient Based Corr Sharpness | -1.000000 |
Gradient Based Corr What | Correction |
Gradient Based Corrections Local Clarity 2012 | 0.000000 |
Gradient Based Corrections Local Contrast 2012 | 0.000000 |
Gradient Based Corrections Local Exposure 2012 | 0.000000 |
Gradient Based Corrections Local Highlights 2012 | 0.000000 |
Gradient Based Corrections Local Luminance Noise | 0.000000 |
Gradient Based Corrections Local Moire | 0.000000 |
Gradient Based Corrections Local Shadows 2012 | 0.000000 |
Gradient Based Corrections Local Temperature | 0.000000 |
Gradient Based Corrections Local Tint | 0.000000 |
Grain Amount | 0 |
Green Hue | 0 |
Green Saturation | 0 |
Has Crop | True |
Has Settings | True |
Highlight Recovery | 24 |
Highlights 2012 | 0 |
Hue Adjustment Aqua | 0 |
Hue Adjustment Blue | 0 |
Hue Adjustment Green | 0 |
Hue Adjustment Magenta | 0 |
Hue Adjustment Orange | 0 |
Hue Adjustment Purple | 0 |
Hue Adjustment Red | 0 |
Hue Adjustment Yellow | 0 |
Hyperfocal Distance | 1100.80 m |
ICC Profile Name | Adobe RGB (1998) |
ISO | 200 |
Image Number | 6454 |
Image Size | 3518x2345 |
Lens | 170.0-420.0 mm f/4.0 |
Lens ID | Unknown (122) 170-420mm |
Lens Info | 170-420mm f/4 |
Lens Manual Distortion Amount | 0 |
Lens Model | 170.0-420.0 mm f/4.0 |
Lens Profile Enable | 0 |
Lens Profile Setup | LensDefaults |
Light Source | Unknown |
Light Value | 14.6 |
Luminance Adjustment Aqua | 0 |
Luminance Adjustment Blue | 0 |
Luminance Adjustment Green | 0 |
Luminance Adjustment Magenta | 0 |
Luminance Adjustment Orange | 0 |
Luminance Adjustment Purple | 0 |
Luminance Adjustment Red | 0 |
Luminance Adjustment Yellow | 0 |
Luminance Noise Reduction Contrast | 0 |
Luminance Noise Reduction Detail | 50 |
Luminance Smoothing | 50 |
Metering Mode | Spot |
Parametric Darks | 0 |
Parametric Highlight Split | 75 |
Parametric Highlights | 0 |
Parametric Lights | 0 |
Parametric Midtone Split | 50 |
Parametric Shadow Split | 25 |
Parametric Shadows | 0 |
Perspective Horizontal | 0 |
Perspective Rotate | 0.0 |
Perspective Scale | 100 |
Perspective Vertical | 0 |
Post Crop Vignette Amount | 0 |
Process Version | 5.7 |
Rating | 0 |
Raw File Name | _JEC7464.NEF |
Red Hue | 0 |
Red Saturation | 0 |
Related Image Height | 2345 |
Related Image Width | 3518 |
Rights | JUAN EMILIO |
Saturation | 0 |
Saturation Adjustment Aqua | 0 |
Saturation Adjustment Blue | 0 |
Saturation Adjustment Green | 0 |
Saturation Adjustment Magenta | 0 |
Saturation Adjustment Orange | 0 |
Saturation Adjustment Purple | 0 |
Saturation Adjustment Red | 0 |
Saturation Adjustment Yellow | 0 |
Scale Factor To 35 mm Equivalent | 1.5 |
Scene Capture Type | Standard |
Scene Type | Directly photographed |
Sensing Method | One-chip color area |
Shadow Tint | 0 |
Shadows | 0 |
Shadows 2012 | 0 |
Sharpen Detail | 25 |
Sharpen Edge Masking | 0 |
Sharpen Radius | +1.0 |
Sharpness | 45 |
Split Toning Balance | 0 |
Split Toning Highlight Hue | 0 |
Split Toning Highlight Saturation | 0 |
Split Toning Shadow Hue | 0 |
Split Toning Shadow Saturation | 0 |
Subject Distance | 7.08 m |
Subject Distance Range | Unknown |
Tint | +5 |
Tone Curve | 0, 0, 32, 22, 64, 56, 128, 128, 192, 196, 255, 255 |
Tone Curve Blue | 0, 0, 255, 255 |
Tone Curve Green | 0, 0, 255, 255 |
Tone Curve Name | Medium Contrast |
Tone Curve Name 2012 | Linear |
Tone Curve PV2012 | 0, 0, 255, 255 |
Tone Curve PV2012 Blue | 0, 0, 255, 255 |
Tone Curve PV2012 Green | 0, 0, 255, 255 |
Tone Curve PV2012 Red | 0, 0, 255, 255 |
Tone Curve Red | 0, 0, 255, 255 |
Version | 6.7 |
Vibrance | 0 |
Vignette Amount | 0 |
White Balance | As Shot |
Whites 2012 | 0 |