Shooting information for this photo
Camera: | NIKON CORPORATION NIKON D7100 |
Exposure: | 0.005 sec. (1/200) |
Aperture: | f/8.0 |
Focal Length: | 25.0 mm (35 mm equivalent: 50.0 mm) |
Flash: | Off, Did not fire |
Exposure mode: | Aperture-priority AE |
Max Aperture: | 4.0 |
Resolution: | 300 x 300 dpi |
Dimension: | 1920 x 1324 pixels |
Original Date: | 2013:05:26 13:06:00.90 |
Created on: | 2013:05:26 13:06:00.90 |
Modified on: | 2013:06:09 09:35:13.90 |
Software: | DxO PhotoLab 4.2 |
Copyright: | (C) Jean-Pierre Roche, tous droits réservés |
AF Aperture | 4.0 |
AF Area Mode | Single Area |
AF Fine Tune | Off |
AF Fine Tune Adj | 0 |
AF Fine Tune Index | n/a |
AF Info 2 Version | 0100 |
AF Points Used | D7 |
Already Applied | True |
Approximate Focus Distance | 7.08 |
Artist | Jean-Pierre ROCHE |
Authors Position | journaliste _ photographe |
Auto Distortion Control | Off |
Auto Focus | On |
Auto Lateral CA | 1 |
Auto White Version | 134348800 |
Blacks 2012 | 0 |
Blue Balance | 1.738281 |
Blue Hue | 0 |
Blue Saturation | 0 |
Brightness | Normal |
CFA Pattern | [Red,Green][Green,Blue] |
Camera Profile | Adobe Standard |
Caption | Azay-le-Rideau |
Circle Of Confusion | 0.015 mm |
City | Azay-le-Rideau |
Clarity 2012 | +40 |
Color Balance Unknown | 0218Q.ÐHi0Ûn÷~½à/©N..?. ªý{$ø÷!vö¡wx¤û}*..3. Î)¯[...] |
Color Noise Reduction | 15 |
Color Noise Reduction Detail | 50 |
Color Noise Reduction Smoothness | 50 |
Color Space | sRGB |
Color Temperature | 4550 |
Contrast | Normal |
Contrast 2012 | 0 |
Contrast Detect AF | Off |
Contrast Detect AF In Focus | No |
Convert To Grayscale | False |
Country | France |
Creator | Jean-Pierre Roche |
Crop Angle | 0 |
Crop Bottom | 0.988167 |
Crop Constrain To Warp | 1 |
Crop Hi Speed | On (6036x4020 cropped to 4812x3212 at pixel 612,404) |
Crop Left | 0.010964 |
Crop Right | 0.989061 |
Crop Top | 0.01007 |
Custom Rendered | Normal |
Date Created | 2013:05:26 13:06:00.90 |
Defringe Green Amount | 0 |
Defringe Green Hue Hi | 60 |
Defringe Green Hue Lo | 40 |
Defringe Purple Amount | 0 |
Defringe Purple Hue Hi | 70 |
Defringe Purple Hue Lo | 30 |
Dehaze | 0 |
Depth Of Field | inf (3.00 m - inf) |
Description | Azay-le-Rideau |
Digital Zoom Ratio | 1.33 |
Effective Max Aperture | 4.0 |
Exit Pupil Position | 128.0 mm |
Exposure 2012 | 0.00 |
Exposure Bracket Value | 0 |
Exposure Compensation | 0 |
Exposure Difference | 0 |
Exposure Mode | Auto |
Exposure Tuning | 0 |
Field Of View | 39.5 deg (5.08 m) |
Filter Effect | n/a |
Firmware Version | 1.00 |
Flash Fired | False |
Flash Function | False |
Flash Mode | Did Not Fire |
Flash Red Eye Mode | False |
Flash Return | No return detection |
Focal Length In 35mm Format | 50 mm |
Focus Distance | 7.08 m |
Focus Mode | AF-S |
Focus Position | 0xd8 |
Format | image/x-nikon-nef |
Gain Control | None |
Gradient Based Corr Active | true |
Gradient Based Corr Amount | 1.000000 |
Gradient Based Corr Brightness | 0.000000 |
Gradient Based Corr Clarity | 0.000000 |
Gradient Based Corr Clarity 2012 | 0.000000 |
Gradient Based Corr Contrast | 0.000000 |
Gradient Based Corr Contrast 2012 | 0.000000 |
Gradient Based Corr Defringe | 0.000000 |
Gradient Based Corr Exposure | 0.000000 |
Gradient Based Corr Exposure 2012 | -0.178250 |
Gradient Based Corr Highlights 2012 | 0.000000 |
Gradient Based Corr Hue | 180.000000 |
Gradient Based Corr Local Blacks 2012 | 0.000000 |
Gradient Based Corr Local Dehaze | 0.000000 |
Gradient Based Corr Local Whites 2012 | 0.000000 |
Gradient Based Corr Luminance Noise | 0.000000 |
Gradient Based Corr Mask Full X | 0.544619 |
Gradient Based Corr Mask Full Y | 0.922689 |
Gradient Based Corr Mask Value | 1.000000 |
Gradient Based Corr Mask What | Mask/Gradient |
Gradient Based Corr Mask Zero X | 0.544116 |
Gradient Based Corr Mask Zero Y | 0.878122 |
Gradient Based Corr Moire | 0.000000 |
Gradient Based Corr Saturation | 0.000000 |
Gradient Based Corr Shadows 2012 | 0.000000 |
Gradient Based Corr Sharpness | 0.000000 |
Gradient Based Corr Temperature | 0.000000 |
Gradient Based Corr Tint | 0.000000 |
Gradient Based Corr What | Correction |
Grain Amount | 0 |
Green Hue | 0 |
Green Saturation | 0 |
Has Crop | True |
Has Settings | True |
Hierarchical Subject | Indre-et-Loire, azay, centre, chateau, france |
High ISO Noise Reduction | Normal |
Highlights 2012 | -19 |
Hue Adjustment | None |
Hue Adjustment Aqua | 0 |
Hue Adjustment Blue | 0 |
Hue Adjustment Green | 0 |
Hue Adjustment Magenta | 0 |
Hue Adjustment Orange | 0 |
Hue Adjustment Purple | 0 |
Hue Adjustment Red | 0 |
Hue Adjustment Yellow | 0 |
Hyperfocal Distance | 5.20 m |
IFD0 Offset | 8 |
ISO | 100 |
ISO2 | 100 |
ISO Expansion | Off |
ISO Expansion 2 | Off |
ISO Setting | 100 |
Image Number | 1307 |
Image Size | 1920x1324 |
Label | Vert |
Lens | 18-300mm f/3.5-5.6 G VR |
Lens Data Version | 0204 |
Lens F Stops | 5.33 |
Lens ID | AF-S DX Nikkor 18-300mm 3.5-5.6G ED VR |
Lens ID Number | 173 |
Lens Info | 18-300mm f/3.5-5.6 |
Lens Manual Distortion Amount | 0 |
Lens Profile Chromatic Aberration Scale | 100 |
Lens Profile Distortion Scale | 100 |
Lens Profile Enable | 1 |
Lens Profile Filename | NIKON D200 (Nikon AF-S DX NIKKOR 18-300mm f3.5-5.6G ED VR) - RAW.lcp |
Lens Profile Name | Adobe (Nikon AF-S DX NIKKOR 18-300mm f/3.5-5.6G ED VR) |
Lens Profile Setup | LensDefaults |
Lens Profile Vignetting Scale | 100 |
Lens Type | G VR |
Light Source | Unknown |
Light Value | 13.6 |
Luminance Adjustment Aqua | 0 |
Luminance Adjustment Blue | -31 |
Luminance Adjustment Green | 0 |
Luminance Adjustment Magenta | 0 |
Luminance Adjustment Orange | 0 |
Luminance Adjustment Purple | 0 |
Luminance Adjustment Red | 0 |
Luminance Adjustment Yellow | 0 |
Luminance Smoothing | 0 |
MCU Version | 175 |
Maker Note Version | 2.11 |
Max Aperture At Max Focal | 5.7 |
Max Aperture At Min Focal | 3.6 |
Max Focal Length | 302.0 mm |
Metering Mode | Multi-segment |
Min Focal Length | 18.3 mm |
Multi Exposure Auto Gain | Off |
Multi Exposure Mode | Off |
Multi Exposure Shots | 0 |
Multi Exposure Version | 0100 |
Parametric Darks | 0 |
Parametric Highlight Split | 75 |
Parametric Highlights | 0 |
Parametric Lights | 0 |
Parametric Midtone Split | 50 |
Parametric Shadow Split | 25 |
Parametric Shadows | 0 |
Perspective Aspect | 0 |
Perspective Horizontal | 0 |
Perspective Rotate | +0.3 |
Perspective Scale | 100 |
Perspective Upright | 0 |
Perspective Vertical | -6 |
Perspective X | 0.00 |
Perspective Y | 0.00 |
Phase Detect AF | On (51-point) |
Picture Control Adjust | Default Settings |
Picture Control Base | Standard |
Picture Control Name | Standard |
Picture Control Quick Adjust | Normal |
Picture Control Version | 0100 |
Post Crop Vignette Amount | 0 |
Preview IFD Offset | 6078 |
Primary AF Point | D7 |
Process Version | 6.7 |
Program Shift | 0 |
Quality | Fine |
Rating | 2 |
Rating Percent | 25 |
Raw File Name | _7SC1297.NEF |
Red Balance | 2.234375 |
Red Hue | 0 |
Red Saturation | 0 |
Rights | (C) Jean-Pierre Roche, tous droits réservés |
Saturation | Normal |
Saturation Adjustment Aqua | 0 |
Saturation Adjustment Blue | +31 |
Saturation Adjustment Green | 0 |
Saturation Adjustment Magenta | 0 |
Saturation Adjustment Orange | 0 |
Saturation Adjustment Purple | 0 |
Saturation Adjustment Red | 0 |
Saturation Adjustment Yellow | 0 |
Scale Factor To 35 mm Equivalent | 2.0 |
Scene Capture Type | Standard |
Scene Type | Directly photographed |
Sensing Method | One-chip color area |
Sensitivity Type | Recommended Exposure Index |
Shadow Tint | 0 |
Shadows 2012 | +24 |
Sharpen Detail | 60 |
Sharpen Edge Masking | 20 |
Sharpen Radius | +1.5 |
Sharpness | Normal |
Shooting Mode | Single-Frame |
Shot Info Version | 0227 |
Shutter Count | 1307 |
Sidecar For Extension | nef |
Split Toning Balance | 0 |
Split Toning Highlight Hue | 0 |
Split Toning Highlight Saturation | 0 |
Split Toning Shadow Hue | 0 |
Split Toning Shadow Saturation | 0 |
State | Indre-et-Loire |
Subject | Indre-et-Loire, azay, centre, chateau, france |
Subject Distance | 7.08 m |
Subject Distance Range | Unknown |
TIFF-EP Standard ID | 1 0 0 0 |
Tint | +4 |
Title | Château d'Azay-le-Rideau |
Tone Curve | 0, 0, 32, 22, 64, 56, 128, 128, 192, 196, 255, 255 |
Tone Curve Blue | 0, 0, 255, 255 |
Tone Curve Green | 0, 0, 255, 255 |
Tone Curve Name | Medium Contrast |
Tone Curve Name 2012 | Medium Contrast |
Tone Curve PV2012 | 0, 0, 32, 22, 64, 56, 128, 128, 192, 196, 255, 255 |
Tone Curve PV2012 Blue | 0, 0, 255, 255 |
Tone Curve PV2012 Green | 0, 0, 255, 255 |
Tone Curve PV2012 Red | 0, 0, 255, 255 |
Tone Curve Red | 0, 0, 255, 255 |
Tone Map Strength | 0 |
Toning Effect | n/a |
Toning Saturation | n/a |
Urgency | 1 (most urgent) |
Usage Terms | Pour étude uniquement, reproduction interdite sans autorisation |
VR Info Version | 0100 |
Version | 9.10 |
Vibrance | +30 |
Vibration Reduction | On |
Vignette Amount | 0 |
WB RB Levels | 2.234375 1.73828125 1 1 |
White Balance | Auto1 |
White Balance Fine Tune | 0 0 |
Whites 2012 | 0 |
GPS Information |
GPS Altitude | 76 m Above Sea Level |
GPS Altitude Ref | Above Sea Level |
GPS Date Stamp | 2013:05:26 |
GPS Date/Time | 2013:05:26 11:06:01Z |
GPS Latitude | 47 deg 15' 35.93" N |
GPS Latitude Ref | North |
GPS Longitude | 0 deg 28' 0.29" E |
GPS Longitude Ref | East |
GPS Map Datum | WGS 84 |
GPS Position | 47 deg 15' 35.93" N, 0 deg 28' 0.29" E |
GPS Satellites | 06 |
GPS Time Stamp | 11:06:01 |
GPS Version ID | 2.3.0.0 |