Shooting information for this photo
Camera: | SONY ILCE-7M2 |
Exposure: | 0.06667 sec. (1/15) |
Aperture: | f/5.6 |
Focal Length: | 34.0 mm (35 mm equivalent: 34.0 mm) |
Flash: | Off, Did not fire |
Exposure mode: | Aperture-priority AE |
Max Aperture: | 4.0 |
Resolution: | 300 x 300 dpi |
Dimension: | 720 x 1080 pixels |
Original Date: | 2015:02:10 16:15:14 |
Created on: | 2015:02:10 16:15:14 |
Modified on: | 2016:01:23 15:53:34 |
Software: | Adobe Photoshop CS6 (Windows) |
Already Applied | True |
Auto Lateral CA | 1 |
Auto White Version | 134348800 |
Blacks 2012 | -39 |
Blue Hue | 0 |
Blue Saturation | 0 |
Brightness Value | -0.00625 |
Camera Profile | Adobe Standard |
Circle Of Confusion | 0.030 mm |
Clarity 2012 | 0 |
Color Mode | RGB |
Color Noise Reduction | 25 |
Color Noise Reduction Detail | 50 |
Color Noise Reduction Smoothness | 50 |
Color Space | sRGB |
Color Temperature | 3350 |
Contrast | Normal |
Contrast 2012 | -4 |
Convert To Grayscale | False |
Custom Rendered | Normal |
Date Created | 2015:02:10 16:15:14 |
Defringe Green Amount | 0 |
Defringe Green Hue Hi | 60 |
Defringe Green Hue Lo | 40 |
Defringe Purple Amount | 0 |
Defringe Purple Hue Hi | 70 |
Defringe Purple Hue Lo | 30 |
Digital Zoom Ratio | 1 |
Exposure 2012 | +0.40 |
Exposure Compensation | -1.3 |
Exposure Mode | Auto |
Field Of View | 55.8 deg |
Focal Length In 35mm Format | 34 mm |
Format | image/jpeg |
Grain Amount | 0 |
Green Hue | 0 |
Green Saturation | 0 |
Has Crop | False |
Has Settings | True |
Highlights 2012 | -24 |
Hue Adjustment Aqua | 0 |
Hue Adjustment Blue | 0 |
Hue Adjustment Green | 0 |
Hue Adjustment Magenta | 0 |
Hue Adjustment Orange | 0 |
Hue Adjustment Purple | 0 |
Hue Adjustment Red | 0 |
Hue Adjustment Yellow | 0 |
Hyperfocal Distance | 6.87 m |
ICC Profile Name | sRGB IEC61966-2.1 |
ISO | 800 |
Image Size | 720x1080 |
Lens | FE 24-70mm F4 ZA OSS |
Lens Distort Info | 1054197005/1073741824 -427910/1073741824 7868910/1073741824 12096976/1073741824 |
Lens Info | 24-70mm f/4 |
Lens Manual Distortion Amount | -2 |
Lens Model | FE 24-70mm F4 ZA OSS |
Lens Profile Enable | 0 |
Lens Profile Setup | LensDefaults |
Light Source | Unknown |
Light Value | 5.9 |
Luminance Adjustment Aqua | 0 |
Luminance Adjustment Blue | 0 |
Luminance Adjustment Green | 0 |
Luminance Adjustment Magenta | 0 |
Luminance Adjustment Orange | 0 |
Luminance Adjustment Purple | 0 |
Luminance Adjustment Red | 0 |
Luminance Adjustment Yellow | 0 |
Luminance Smoothing | 0 |
Metering Mode | Center-weighted average |
Parametric Darks | 0 |
Parametric Highlight Split | 75 |
Parametric Highlights | 0 |
Parametric Lights | 0 |
Parametric Midtone Split | 50 |
Parametric Shadow Split | 25 |
Parametric Shadows | 0 |
Perspective Aspect | 0 |
Perspective Horizontal | +6 |
Perspective Rotate | +1.5 |
Perspective Scale | 100 |
Perspective Upright | 0 |
Perspective Vertical | -11 |
Photometric Interpretation | RGB |
Post Crop Vignette Amount | 0 |
Process Version | 6.7 |
Rating | 0 |
Raw File Name | DSC07563.ARW |
Recommended Exposure Index | 800 |
Red Hue | 0 |
Red Saturation | 0 |
Samples Per Pixel | 3 |
Saturation | Normal |
Saturation Adjustment Aqua | 0 |
Saturation Adjustment Blue | 0 |
Saturation Adjustment Green | 0 |
Saturation Adjustment Magenta | 0 |
Saturation Adjustment Orange | 0 |
Saturation Adjustment Purple | 0 |
Saturation Adjustment Red | 0 |
Saturation Adjustment Yellow | 0 |
Scale Factor To 35 mm Equivalent | 1.0 |
Scene Capture Type | Standard |
Scene Type | Directly photographed |
Sensitivity Type | Recommended Exposure Index |
Shadow Tint | 0 |
Shadows 2012 | +24 |
Sharpen Detail | 25 |
Sharpen Edge Masking | 0 |
Sharpen Radius | +1.0 |
Sharpness | Normal |
Split Toning Balance | 0 |
Split Toning Highlight Hue | 0 |
Split Toning Highlight Saturation | 0 |
Split Toning Shadow Hue | 0 |
Split Toning Shadow Saturation | 0 |
Tint | +4 |
Tone Curve | 0, 0, 32, 22, 64, 56, 128, 128, 192, 196, 255, 255 |
Tone Curve Blue | 0, 0, 255, 255 |
Tone Curve Green | 0, 0, 255, 255 |
Tone Curve Name | Medium Contrast |
Tone Curve Name 2012 | Linear |
Tone Curve PV2012 | 0, 0, 255, 255 |
Tone Curve PV2012 Blue | 0, 0, 255, 255 |
Tone Curve PV2012 Green | 0, 0, 255, 255 |
Tone Curve PV2012 Red | 0, 0, 255, 255 |
Tone Curve Red | 0, 0, 255, 255 |
Version | 8.7.1 |
Vibrance | 0 |
Vignette Amount | 0 |
White Balance | Auto |
Whites 2012 | 0 |
GPS Information |
GPS Date Stamp | 2015:02:10 |
GPS Date/Time | 2015:02:10 16:15:14Z |
GPS Latitude | 53 deg 7' 56.90" S |
GPS Latitude Ref | South |
GPS Longitude | 70 deg 52' 57.78" W |
GPS Longitude Ref | West |
GPS Map Datum | WGS-84 |
GPS Position | 53 deg 7' 56.90" S, 70 deg 52' 57.78" W |
GPS Time Stamp | 16:15:14 |
GPS Version ID | 2.2.0.0 |