Shooting information for this photo
Camera: | Canon EOS 5D Mark IV |
Exposure: | 0.00063 sec. (1/1600) |
Aperture: | f/6.3 |
Focal Length: | 300.0 mm (35 mm equivalent: 672.0 mm) |
Flash: | Off, Did not fire |
Exposure mode: | Manual |
Max Aperture: | 5.7 |
Resolution: | 300 x 300 dpi |
Dimension: | 3000 x 2000 pixels |
Original Date: | 2020:05:18 17:12:10.99 |
Created on: | 2020:05:18 17:12:10.99 |
Modified on: | 2020:05:18 22:36:17.99 |
Software: | Adobe Photoshop 21.1 (Macintosh) |
Copyright: | Arlequin Photographie |
Already Applied | True |
Approximate Focus Distance | 99.5 |
Artist | Andreas Schindler |
Auto Lateral CA | 0 |
Blacks 2012 | -36 |
Blue Hue | 0 |
Blue Saturation | 0 |
Camera Profile | Adobe Standard |
Circle Of Confusion | 0.013 mm |
Clarity 2012 | +23 |
Color Mode | RGB |
Color Noise Reduction | 25 |
Color Noise Reduction Detail | 50 |
Color Noise Reduction Smoothness | 50 |
Color Space | sRGB |
Color Temperature | 5500 |
Contrast 2012 | +7 |
Convert To Grayscale | False |
Creator | Andreas Schindler |
Custom Rendered | Normal |
Date Created | 2020:05:18 17:12:10.099 |
Defringe Green Amount | 0 |
Defringe Green Hue Hi | 60 |
Defringe Green Hue Lo | 40 |
Defringe Purple Amount | 0 |
Defringe Purple Hue Hi | 70 |
Defringe Purple Hue Lo | 30 |
Dehaze | +32 |
Distortion Correction Already Applied | True |
Exposure 2012 | -0.65 |
Exposure Compensation | 0 |
Exposure Mode | Manual |
Field Of View | 3.1 deg |
Firmware | 1.0.4 |
Flash Compensation | 0 |
Format | image/jpeg |
Grain Amount | 0 |
Green Hue | 0 |
Green Saturation | 0 |
Has Crop | False |
Has Settings | True |
Highlights 2012 | -77 |
Hue Adjustment Aqua | 0 |
Hue Adjustment Blue | 0 |
Hue Adjustment Green | 0 |
Hue Adjustment Magenta | 0 |
Hue Adjustment Orange | 0 |
Hue Adjustment Purple | 0 |
Hue Adjustment Red | 0 |
Hue Adjustment Yellow | 0 |
Hyperfocal Distance | 1065.02 m |
ICC Profile Name | sRGB IEC61966-2.1 |
ISO | 400 |
Image Number | 0 |
Image Size | 3000x2000 |
Lens | EF70-300mm f/4-5.6L IS USM |
Lens ID | Canon EF 70-300mm f/4-5.6L IS USM |
Lens Info | 70-300mm f/? |
Lens Manual Distortion Amount | 0 |
Lens Model | EF70-300mm f/4-5.6L IS USM |
Lens Profile Chromatic Aberration Scale | 100 |
Lens Profile Distortion Scale | 100 |
Lens Profile Enable | 1 |
Lens Profile Filename | Canon EOS 5D Mark II (Canon EF 70-300mm f4-5.6 L IS USM) - RAW.lcp |
Lens Profile Name | Adobe (Canon EF 70-300mm f/4-5.6 L IS USM) |
Lens Profile Setup | LensDefaults |
Lens Profile Vignetting Scale | 100 |
Light Value | 14.0 |
Look Amount | 1.000000 |
Look Copyright | © 2018 Adobe Systems, Inc. |
Look Group | Profiles |
Look Name | Adobe Color |
Look Parameters Camera Profile | Adobe Standard |
Look Parameters Convert To Grayscale | False |
Look Parameters Look Table | E1095149FDB39D7A057BAB208837E2 E1 |
Look Parameters Process Version | 11.0 |
Look Parameters Tone Curve PV2012 | 0, 0, 22, 16, 40, 35, 127, 127, 224, 230, 240, 246, 255, 255 |
Look Parameters Tone Curve PV2012 Blue | 0, 0, 255, 255 |
Look Parameters Tone Curve PV2012 Green | 0, 0, 255, 255 |
Look Parameters Tone Curve PV2012 Red | 0, 0, 255, 255 |
Look Parameters Version | 12.2.1 |
Look Supports Amount | false |
Look Supports Monochrome | false |
Look Supports Output Referred | false |
Luminance Adjustment Aqua | 0 |
Luminance Adjustment Blue | 0 |
Luminance Adjustment Green | 0 |
Luminance Adjustment Magenta | 0 |
Luminance Adjustment Orange | 0 |
Luminance Adjustment Purple | 0 |
Luminance Adjustment Red | 0 |
Luminance Adjustment Yellow | 0 |
Luminance Smoothing | 0 |
Metering Mode | Spot |
Override Look Vignette | False |
Parametric Darks | 0 |
Parametric Highlight Split | 75 |
Parametric Highlights | 0 |
Parametric Lights | 0 |
Parametric Midtone Split | 50 |
Parametric Shadow Split | 25 |
Parametric Shadows | 0 |
Perspective Aspect | 0 |
Perspective Horizontal | 0 |
Perspective Rotate | 0.0 |
Perspective Scale | 100 |
Perspective Upright | 0 |
Perspective Vertical | 0 |
Perspective X | 0.00 |
Perspective Y | 0.00 |
Post Crop Vignette Amount | 0 |
Process Version | 11.0 |
Rating | 0 |
Recommended Exposure Index | 400 |
Red Hue | 0 |
Red Saturation | 0 |
Rights | Arlequin Photographie |
Saturation | +2 |
Saturation Adjustment Aqua | 0 |
Saturation Adjustment Blue | 0 |
Saturation Adjustment Green | 0 |
Saturation Adjustment Magenta | 0 |
Saturation Adjustment Orange | 0 |
Saturation Adjustment Purple | 0 |
Saturation Adjustment Red | 0 |
Saturation Adjustment Yellow | 0 |
Scale Factor To 35 mm Equivalent | 2.2 |
Scene Capture Type | Standard |
Sensitivity Type | Recommended Exposure Index |
Shadow Tint | 0 |
Shadows 2012 | +13 |
Sharpen Detail | 25 |
Sharpen Edge Masking | 0 |
Sharpen Radius | +1.0 |
Sharpness | 40 |
Split Toning Balance | 0 |
Split Toning Highlight Hue | 0 |
Split Toning Highlight Saturation | 0 |
Split Toning Shadow Hue | 0 |
Split Toning Shadow Saturation | 0 |
Texture | +18 |
Tint | +10 |
Tone Curve | 0, 0, 32, 22, 64, 56, 128, 128, 192, 196, 255, 255 |
Tone Curve Blue | 0, 0, 255, 255 |
Tone Curve Green | 0, 0, 255, 255 |
Tone Curve Name | Medium Contrast |
Tone Curve Name 2012 | Linear |
Tone Curve PV2012 | 0, 0, 255, 255 |
Tone Curve PV2012 Blue | 0, 0, 255, 255 |
Tone Curve PV2012 Green | 0, 0, 255, 255 |
Tone Curve PV2012 Red | 0, 0, 255, 255 |
Tone Curve Red | 0, 0, 255, 255 |
Tone Map Strength | 0 |
Version | 12.2.1 |
Vibrance | +23 |
Vignette Amount | 0 |
Vignette Correction Already Applied | True |
White Balance | Manual |
Whites 2012 | +40 |
GPS Information |
GPS Altitude | 490.7 m Above Sea Level |
GPS Altitude Ref | Above Sea Level |
GPS Date Stamp | 2020:05:18 |
GPS Date/Time | 2020:05:18 16:12:10.703Z |
GPS Dilution Of Precision | 1.9 |
GPS Latitude | 49 deg 51' 18.86" N |
GPS Latitude Ref | North |
GPS Longitude | 5 deg 56' 50.35" E |
GPS Longitude Ref | East |
GPS Map Datum | WGS-84 |
GPS Measure Mode | 3-Dimensional Measurement |
GPS Position | 49 deg 51' 18.86" N, 5 deg 56' 50.35" E |
GPS Satellites | 9 |
GPS Status | Measurement Active |
GPS Time Stamp | 16:12:10.703 |
GPS Version ID | 2.3.0.0 |