Shooting information for this photo
Camera: | Canon EOS 30D |
Exposure: | 0.005 sec. (1/200) |
Aperture: | f/3.2 |
Focal Length: | 50.0 mm (35 mm equivalent: 80.1 mm) |
Flash: | On, Red-eye reduction |
Exposure mode: | Manual |
Max Aperture: | 1.8 |
Resolution: | 72 x 72 dpi |
Dimension: | 3504 x 2336 pixels |
Original Date: | 2009:12:12 13:17:48 |
Digitized Date: | 2009:12:12 13:17:48-02:00 |
Created on: | 2009:12:12 13:17:48 |
Modified on: | 2009:12:16 09:40:19 |
Software: | Adobe Photoshop Lightroom |
Already Applied | True |
Artist | unknown |
Blue Hue | +11 |
Blue Saturation | -21 |
Brightness | +86 |
Camera Profile | Embedded |
Chromatic Aberration B | 0 |
Chromatic Aberration R | 0 |
Circle Of Confusion | 0.019 mm |
Clarity | +50 |
Color Noise Reduction | 25 |
Contrast | +47 |
Convert To Grayscale | False |
Creator | unknown |
Custom Rendered | Normal |
Defringe | 0 |
Exposure | -1.62 |
Exposure Compensation | 0 |
Exposure Mode | Manual |
Field Of View | 25.3 deg |
Fill Light | 14 |
Firmware | 1.0.5 |
Flash Compensation | 0 |
Flash Fired | True |
Flash Function | False |
Flash Mode | On |
Flash Red Eye Mode | True |
Flash Return | No return detection |
Green Hue | +16 |
Green Saturation | +51 |
Has Crop | False |
Has Settings | True |
Highlight Recovery | 4 |
Hue Adjustment Aqua | +100 |
Hue Adjustment Blue | +100 |
Hue Adjustment Green | +4 |
Hue Adjustment Magenta | -100 |
Hue Adjustment Orange | -17 |
Hue Adjustment Purple | -100 |
Hue Adjustment Red | +100 |
Hue Adjustment Yellow | -13 |
Hyperfocal Distance | 41.64 m |
ISO | 100 |
Image Number | 64 |
Image Size | 3504x2336 |
Incremental Temperature | 0 |
Incremental Tint | 0 |
Lens | EF50mm f/1.8 |
Lens Info | 50mm f/? |
Light Value | 11.0 |
Luminance Adjustment Aqua | -26 |
Luminance Adjustment Blue | -2 |
Luminance Adjustment Green | +94 |
Luminance Adjustment Magenta | -60 |
Luminance Adjustment Orange | -28 |
Luminance Adjustment Purple | -6 |
Luminance Adjustment Red | -100 |
Luminance Adjustment Yellow | -32 |
Luminance Smoothing | 0 |
Metering Mode | Spot |
Owner Name | unknown |
Parametric Darks | +23 |
Parametric Highlight Split | 75 |
Parametric Highlights | +19 |
Parametric Lights | -15 |
Parametric Midtone Split | 50 |
Parametric Shadow Split | 25 |
Parametric Shadows | -51 |
Post Crop Vignette Amount | -13 |
Post Crop Vignette Feather | 100 |
Post Crop Vignette Midpoint | 81 |
Post Crop Vignette Roundness | +100 |
Red Hue | +23 |
Red Saturation | +10 |
Saturation | -68 |
Saturation Adjustment Aqua | -15 |
Saturation Adjustment Blue | +28 |
Saturation Adjustment Green | -100 |
Saturation Adjustment Magenta | -6 |
Saturation Adjustment Orange | +36 |
Saturation Adjustment Purple | +53 |
Saturation Adjustment Red | +89 |
Saturation Adjustment Yellow | -47 |
Scale Factor To 35 mm Equivalent | 1.6 |
Scene Capture Type | Standard |
Shadow Tint | +4 |
Shadows | 0 |
Sharpen Detail | 25 |
Sharpen Edge Masking | 0 |
Sharpen Radius | +1.0 |
Sharpness | 25 |
Split Toning Balance | -6 |
Split Toning Highlight Hue | 233 |
Split Toning Highlight Saturation | 4 |
Split Toning Shadow Hue | 264 |
Split Toning Shadow Saturation | 26 |
Tone Curve | 0, 0, 255, 255 |
Tone Curve Name | Linear |
Version | 5.5 |
Vibrance | +25 |
Vignette Amount | -87 |
Vignette Midpoint | 18 |
White Balance | As Shot |